BEGIN:VCALENDAR
VERSION:2.0
PRODID:-//NECS - ECPv6.15.20//NONSGML v1.0//EN
CALSCALE:GREGORIAN
METHOD:PUBLISH
X-WR-CALNAME:NECS
X-ORIGINAL-URL:https://aaneok.org
X-WR-CALDESC:Events for NECS
REFRESH-INTERVAL;VALUE=DURATION:PT1H
X-Robots-Tag:noindex
X-PUBLISHED-TTL:PT1H
BEGIN:VTIMEZONE
TZID:America/New_York
BEGIN:DAYLIGHT
TZOFFSETFROM:-0500
TZOFFSETTO:-0400
TZNAME:EDT
DTSTART:20230312T070000
END:DAYLIGHT
BEGIN:STANDARD
TZOFFSETFROM:-0400
TZOFFSETTO:-0500
TZNAME:EST
DTSTART:20231105T060000
END:STANDARD
BEGIN:DAYLIGHT
TZOFFSETFROM:-0500
TZOFFSETTO:-0400
TZNAME:EDT
DTSTART:20240310T070000
END:DAYLIGHT
BEGIN:STANDARD
TZOFFSETFROM:-0400
TZOFFSETTO:-0500
TZNAME:EST
DTSTART:20241103T060000
END:STANDARD
BEGIN:DAYLIGHT
TZOFFSETFROM:-0500
TZOFFSETTO:-0400
TZNAME:EDT
DTSTART:20250309T070000
END:DAYLIGHT
BEGIN:STANDARD
TZOFFSETFROM:-0400
TZOFFSETTO:-0500
TZNAME:EST
DTSTART:20251102T060000
END:STANDARD
END:VTIMEZONE
BEGIN:VEVENT
DTSTART;TZID=America/New_York:20240831T090000
DTEND;TZID=America/New_York:20240831T120000
DTSTAMP:20260424T221632
CREATED:20240805T161814Z
LAST-MODIFIED:20240830T185205Z
UID:379083-1725094800-1725105600@aaneok.org
SUMMARY:Area 57 State Sponsored Workshop
DESCRIPTION:Event Details: \n\nLunch provided!\nTopics: Leadership Essay\, Sponsorship/Chapter 7 – Working with Others\nHosted by: Bottoms Up Group\, District 30\nPlease bring a side dish or dessert to share\nWorkshop followed by a float on the Illinois River.  Please contact Patrice T. at 918-625-2041 to RSVP for the Float Trip
URL:https://aaneok.org/event/area-57-state-sponsored-workshop/
LOCATION:Tahlequah Church of Nazarene\, 20443 E Allen Rd.\, Tahlequah\, OK\, 74464\, United States
CATEGORIES:Area 57 Events,District Events
ATTACH;FMTTYPE=image/jpeg:https://aaneok.org/wp-content/uploads/2024/08/flyer_workshop081724.jpg
END:VEVENT
END:VCALENDAR