BEGIN:VCALENDAR
VERSION:2.0
PRODID:-//NECS - ECPv6.15.20//NONSGML v1.0//EN
CALSCALE:GREGORIAN
METHOD:PUBLISH
X-WR-CALNAME:NECS
X-ORIGINAL-URL:https://aaneok.org
X-WR-CALDESC:Events for NECS
REFRESH-INTERVAL;VALUE=DURATION:PT1H
X-Robots-Tag:noindex
X-PUBLISHED-TTL:PT1H
BEGIN:VTIMEZONE
TZID:America/New_York
BEGIN:DAYLIGHT
TZOFFSETFROM:-0500
TZOFFSETTO:-0400
TZNAME:EDT
DTSTART:20240310T070000
END:DAYLIGHT
BEGIN:STANDARD
TZOFFSETFROM:-0400
TZOFFSETTO:-0500
TZNAME:EST
DTSTART:20241103T060000
END:STANDARD
BEGIN:DAYLIGHT
TZOFFSETFROM:-0500
TZOFFSETTO:-0400
TZNAME:EDT
DTSTART:20250309T070000
END:DAYLIGHT
BEGIN:STANDARD
TZOFFSETFROM:-0400
TZOFFSETTO:-0500
TZNAME:EST
DTSTART:20251102T060000
END:STANDARD
BEGIN:DAYLIGHT
TZOFFSETFROM:-0500
TZOFFSETTO:-0400
TZNAME:EDT
DTSTART:20260308T070000
END:DAYLIGHT
BEGIN:STANDARD
TZOFFSETFROM:-0400
TZOFFSETTO:-0500
TZNAME:EST
DTSTART:20261101T060000
END:STANDARD
END:VTIMEZONE
BEGIN:VEVENT
DTSTART;TZID=America/New_York:20250110T170000
DTEND;TZID=America/New_York:20250110T200000
DTSTAMP:20260425T214345
CREATED:20241028T163709Z
LAST-MODIFIED:20241028T163709Z
UID:381490-1736528400-1736539200@aaneok.org
SUMMARY:North Meredian Chili Cookoff
DESCRIPTION:
URL:https://aaneok.org/event/north-meredian-chili-cookoff/
LOCATION:N. Meridan Group\, 4407 NW 50th\, OKC\, OK\, 73112\, United States
CATEGORIES:Group Events
ATTACH;FMTTYPE=application/pdf:https://aaneok.org/wp-content/uploads/2024/10/N.-Meridian-Speaker-Chili-Cookoff-1-10-25-1.pdf
END:VEVENT
END:VCALENDAR