BEGIN:VCALENDAR
VERSION:2.0
PRODID:-//NECS - ECPv6.15.20//NONSGML v1.0//EN
CALSCALE:GREGORIAN
METHOD:PUBLISH
X-WR-CALNAME:NECS
X-ORIGINAL-URL:https://aaneok.org
X-WR-CALDESC:Events for NECS
REFRESH-INTERVAL;VALUE=DURATION:PT1H
X-Robots-Tag:noindex
X-PUBLISHED-TTL:PT1H
BEGIN:VTIMEZONE
TZID:America/New_York
BEGIN:DAYLIGHT
TZOFFSETFROM:-0500
TZOFFSETTO:-0400
TZNAME:EDT
DTSTART:20230312T070000
END:DAYLIGHT
BEGIN:STANDARD
TZOFFSETFROM:-0400
TZOFFSETTO:-0500
TZNAME:EST
DTSTART:20231105T060000
END:STANDARD
BEGIN:DAYLIGHT
TZOFFSETFROM:-0500
TZOFFSETTO:-0400
TZNAME:EDT
DTSTART:20240310T070000
END:DAYLIGHT
BEGIN:STANDARD
TZOFFSETFROM:-0400
TZOFFSETTO:-0500
TZNAME:EST
DTSTART:20241103T060000
END:STANDARD
BEGIN:DAYLIGHT
TZOFFSETFROM:-0500
TZOFFSETTO:-0400
TZNAME:EDT
DTSTART:20250309T070000
END:DAYLIGHT
BEGIN:STANDARD
TZOFFSETFROM:-0400
TZOFFSETTO:-0500
TZNAME:EST
DTSTART:20251102T060000
END:STANDARD
END:VTIMEZONE
BEGIN:VEVENT
DTSTART;VALUE=DATE:20241214
DTEND;VALUE=DATE:20241215
DTSTAMP:20260425T225545
CREATED:20240927T170830Z
LAST-MODIFIED:20240927T170830Z
UID:381299-1734134400-1734220799@aaneok.org
SUMMARY:Area 57 State Sponsored Workshop
DESCRIPTION:
URL:https://aaneok.org/event/area-57-state-sponsored-workshop-2/
LOCATION:Primary Purpose Group\, 226 w. Gray Street\, Norman\, OK\, 73069\, United States
ATTACH;FMTTYPE=image/jpeg:https://aaneok.org/wp-content/uploads/2024/09/State-Sponsored-Workshop-12-14-24-PPG-scaled.jpeg
END:VEVENT
BEGIN:VEVENT
DTSTART;TZID=America/New_York:20241214T090000
DTEND;TZID=America/New_York:20241214T130000
DTSTAMP:20260425T225545
CREATED:20241115T192228Z
LAST-MODIFIED:20241207T175748Z
UID:381576-1734166800-1734181200@aaneok.org
SUMMARY:NECS Open House
DESCRIPTION:
URL:https://aaneok.org/event/necs-open-house/
LOCATION:Northeast Central Service\, 4833 S Sheridan\, Ste 410\, Tulsa\, OK\, 74145\, United States
CATEGORIES:NECS Events
ATTACH;FMTTYPE=image/jpeg:https://aaneok.org/wp-content/uploads/2024/11/Open-House-2024.jpg
END:VEVENT
BEGIN:VEVENT
DTSTART;TZID=America/New_York:20241214T190000
DTEND;TZID=America/New_York:20241214T210000
DTSTAMP:20260425T225545
CREATED:20241114T194356Z
LAST-MODIFIED:20241207T175458Z
UID:381571-1734202800-1734210000@aaneok.org
SUMMARY:Big Meeting
DESCRIPTION:
URL:https://aaneok.org/event/big-meeting-2/
LOCATION:Harvard Avenue Christian Church\, 5502 S. Harvard Ave.\, Tulsa\, OK\, 74135\, United States
CATEGORIES:NE Big Meeting
ATTACH;FMTTYPE=application/pdf:https://aaneok.org/wp-content/uploads/2024/11/BigMeeting-Dec-2024-1.pdf
END:VEVENT
END:VCALENDAR