BEGIN:VCALENDAR
VERSION:2.0
PRODID:-//NECS - ECPv6.15.20//NONSGML v1.0//EN
CALSCALE:GREGORIAN
METHOD:PUBLISH
X-WR-CALNAME:NECS
X-ORIGINAL-URL:https://aaneok.org
X-WR-CALDESC:Events for NECS
REFRESH-INTERVAL;VALUE=DURATION:PT1H
X-Robots-Tag:noindex
X-PUBLISHED-TTL:PT1H
BEGIN:VTIMEZONE
TZID:America/New_York
BEGIN:DAYLIGHT
TZOFFSETFROM:-0500
TZOFFSETTO:-0400
TZNAME:EDT
DTSTART:20240310T070000
END:DAYLIGHT
BEGIN:STANDARD
TZOFFSETFROM:-0400
TZOFFSETTO:-0500
TZNAME:EST
DTSTART:20241103T060000
END:STANDARD
BEGIN:DAYLIGHT
TZOFFSETFROM:-0500
TZOFFSETTO:-0400
TZNAME:EDT
DTSTART:20250309T070000
END:DAYLIGHT
BEGIN:STANDARD
TZOFFSETFROM:-0400
TZOFFSETTO:-0500
TZNAME:EST
DTSTART:20251102T060000
END:STANDARD
BEGIN:DAYLIGHT
TZOFFSETFROM:-0500
TZOFFSETTO:-0400
TZNAME:EDT
DTSTART:20260308T070000
END:DAYLIGHT
BEGIN:STANDARD
TZOFFSETFROM:-0400
TZOFFSETTO:-0500
TZNAME:EST
DTSTART:20261101T060000
END:STANDARD
END:VTIMEZONE
BEGIN:VEVENT
DTSTART;VALUE=DATE:20250301
DTEND;VALUE=DATE:20250302
DTSTAMP:20260425T215635
CREATED:20250129T170410Z
LAST-MODIFIED:20250129T170410Z
UID:381926-1740787200-1740873599@aaneok.org
SUMMARY:BAD Girls Moving
DESCRIPTION:
URL:https://aaneok.org/event/bad-girls-moving/
LOCATION:Harvard Avenue Christian Church\, 5502 S. Harvard Ave.\, Tulsa\, OK\, 74135\, United States
CATEGORIES:Group Events
ATTACH;FMTTYPE=application/pdf:https://aaneok.org/wp-content/uploads/2025/01/Bad-Girls-Moving.pdf
END:VEVENT
BEGIN:VEVENT
DTSTART;TZID=America/New_York:20250301T093000
DTEND;TZID=America/New_York:20250301T103000
DTSTAMP:20260425T215635
CREATED:20250211T155358Z
LAST-MODIFIED:20250211T155358Z
UID:381983-1740821400-1740825000@aaneok.org
SUMMARY:B.A.D. Girls Birthday Celebration
DESCRIPTION:
URL:https://aaneok.org/event/b-a-d-girls-birthday-celebration/
LOCATION:Harvard Avenue Christian Church\, 5502 S. Harvard Ave.\, Tulsa\, OK\, 74135\, United States
CATEGORIES:Group Events
ATTACH;FMTTYPE=application/pdf:https://aaneok.org/wp-content/uploads/2025/02/BAD-Girls-Birthday-celebration.pdf
END:VEVENT
BEGIN:VEVENT
DTSTART;TZID=America/New_York:20250301T100000
DTEND;TZID=America/New_York:20250301T140000
DTSTAMP:20260425T215635
CREATED:20250204T151206Z
LAST-MODIFIED:20250204T151215Z
UID:381944-1740823200-1740837600@aaneok.org
SUMMARY:Area 57 State Sponsored Workshop
DESCRIPTION:
URL:https://aaneok.org/event/area-57-state-sponsored-workshop-3/
LOCATION:Duncan Group\, 806 Chestnut Drive\, Duncan\, OK\, 73533\, United States
CATEGORIES:Area 57 Events
ATTACH;FMTTYPE=application/pdf:https://aaneok.org/wp-content/uploads/2025/02/State-Sponsored-Workshop-D-80.pdf
END:VEVENT
END:VCALENDAR