BEGIN:VCALENDAR
VERSION:2.0
PRODID:-//NECS - ECPv6.15.20//NONSGML v1.0//EN
CALSCALE:GREGORIAN
METHOD:PUBLISH
X-ORIGINAL-URL:https://aaneok.org
X-WR-CALDESC:Events for NECS
REFRESH-INTERVAL;VALUE=DURATION:PT1H
X-Robots-Tag:noindex
X-PUBLISHED-TTL:PT1H
BEGIN:VTIMEZONE
TZID:America/New_York
BEGIN:DAYLIGHT
TZOFFSETFROM:-0500
TZOFFSETTO:-0400
TZNAME:EDT
DTSTART:20240310T070000
END:DAYLIGHT
BEGIN:STANDARD
TZOFFSETFROM:-0400
TZOFFSETTO:-0500
TZNAME:EST
DTSTART:20241103T060000
END:STANDARD
BEGIN:DAYLIGHT
TZOFFSETFROM:-0500
TZOFFSETTO:-0400
TZNAME:EDT
DTSTART:20250309T070000
END:DAYLIGHT
BEGIN:STANDARD
TZOFFSETFROM:-0400
TZOFFSETTO:-0500
TZNAME:EST
DTSTART:20251102T060000
END:STANDARD
BEGIN:DAYLIGHT
TZOFFSETFROM:-0500
TZOFFSETTO:-0400
TZNAME:EDT
DTSTART:20260308T070000
END:DAYLIGHT
BEGIN:STANDARD
TZOFFSETFROM:-0400
TZOFFSETTO:-0500
TZNAME:EST
DTSTART:20261101T060000
END:STANDARD
END:VTIMEZONE
BEGIN:VEVENT
DTSTART;VALUE=DATE:20250328
DTEND;VALUE=DATE:20250329
DTSTAMP:20260425T151311
CREATED:20250306T223914Z
LAST-MODIFIED:20250306T223914Z
UID:382198-1743120000-1743206399@aaneok.org
SUMMARY:Marchmallow Madness/Rockwell Club
DESCRIPTION:
URL:https://aaneok.org/event/marchmallow-madness-rockwell-club/
LOCATION:Rockwell Club\, 1425 1/2 N. Rockwell Ave.\, Oklahoma City\, OK\, 73127\, United States
CATEGORIES:Group Events
END:VEVENT
BEGIN:VEVENT
DTSTART;TZID=America/New_York:20250328T123000
DTEND;TZID=America/New_York:20250328T235900
DTSTAMP:20260425T151311
CREATED:20250220T161456Z
LAST-MODIFIED:20250220T162731Z
UID:382049-1743165000-1743206340@aaneok.org
SUMMARY:State Conference 2025 Volunteer Sign Up
DESCRIPTION:
URL:https://aaneok.org/event/state-conference-2025-volunteer-sign-up-copy-7/
LOCATION:OK
CATEGORIES:Area 57 Events
ATTACH;FMTTYPE=application/pdf:https://aaneok.org/wp-content/uploads/2025/02/Vol-Sign-up-State-Conf-2025.pdf
END:VEVENT
BEGIN:VEVENT
DTSTART;TZID=America/New_York:20250328T170000
DTEND;TZID=America/New_York:20250329T170000
DTSTAMP:20260425T151311
CREATED:20250211T154935Z
LAST-MODIFIED:20250211T154935Z
UID:381978-1743181200-1743267600@aaneok.org
SUMMARY:5th Annual Ladies Retreat
DESCRIPTION:
URL:https://aaneok.org/event/5th-annual-ladies-retreat/
LOCATION:Lake Texoma\, 14 S Main St\, Kingston\, OK\, 73439\, United States
CATEGORIES:General Events
ATTACH;FMTTYPE=application/pdf:https://aaneok.org/wp-content/uploads/2025/02/Retreat-Women-1.pdf
END:VEVENT
BEGIN:VEVENT
DTSTART;TZID=America/New_York:20250328T190000
DTEND;TZID=America/New_York:20250328T210000
DTSTAMP:20260425T151311
CREATED:20250206T214859Z
LAST-MODIFIED:20250206T214859Z
UID:381963-1743188400-1743195600@aaneok.org
SUMMARY:Guthrie 89er Group Bday/Speaker
DESCRIPTION:
URL:https://aaneok.org/event/guthrie-89er-group-bday-speaker-2/
LOCATION:Red Brick Shool House 89er Group Guthrie\, 3522 S Division St\, Guthrie\, OK\, 73044\, United States
CATEGORIES:Group Events
ATTACH;FMTTYPE=application/pdf:https://aaneok.org/wp-content/uploads/2025/02/March-Guthrie-89er-Group-Speaker-Birthday.pdf
END:VEVENT
END:VCALENDAR