BEGIN:VCALENDAR
VERSION:2.0
PRODID:-//NECS - ECPv6.15.20//NONSGML v1.0//EN
CALSCALE:GREGORIAN
METHOD:PUBLISH
X-ORIGINAL-URL:https://aaneok.org
X-WR-CALDESC:Events for NECS
REFRESH-INTERVAL;VALUE=DURATION:PT1H
X-Robots-Tag:noindex
X-PUBLISHED-TTL:PT1H
BEGIN:VTIMEZONE
TZID:America/New_York
BEGIN:DAYLIGHT
TZOFFSETFROM:-0500
TZOFFSETTO:-0400
TZNAME:EDT
DTSTART:20240310T070000
END:DAYLIGHT
BEGIN:STANDARD
TZOFFSETFROM:-0400
TZOFFSETTO:-0500
TZNAME:EST
DTSTART:20241103T060000
END:STANDARD
BEGIN:DAYLIGHT
TZOFFSETFROM:-0500
TZOFFSETTO:-0400
TZNAME:EDT
DTSTART:20250309T070000
END:DAYLIGHT
BEGIN:STANDARD
TZOFFSETFROM:-0400
TZOFFSETTO:-0500
TZNAME:EST
DTSTART:20251102T060000
END:STANDARD
BEGIN:DAYLIGHT
TZOFFSETFROM:-0500
TZOFFSETTO:-0400
TZNAME:EDT
DTSTART:20260308T070000
END:DAYLIGHT
BEGIN:STANDARD
TZOFFSETFROM:-0400
TZOFFSETTO:-0500
TZNAME:EST
DTSTART:20261101T060000
END:STANDARD
END:VTIMEZONE
BEGIN:VEVENT
DTSTART;VALUE=DATE:20250404
DTEND;VALUE=DATE:20250407
DTSTAMP:20260425T122857
CREATED:20241205T161017Z
LAST-MODIFIED:20241205T161353Z
UID:381667-1743724800-1743983999@aaneok.org
SUMMARY:24th Annual Promises Men's Getaway Weekend
DESCRIPTION:
URL:https://aaneok.org/event/24th-annual-promises-mens-getaway-weekend/
LOCATION:Camp Egan\, 26633 Highway 62\, Tahlequah\, OK\, 74464\, United States
CATEGORIES:General Events
END:VEVENT
BEGIN:VEVENT
DTSTART;TZID=America/New_York:20250405T090000
DTEND;TZID=America/New_York:20250405T103000
DTSTAMP:20260425T122857
CREATED:20250401T140043Z
LAST-MODIFIED:20250401T140043Z
UID:382304-1743843600-1743849000@aaneok.org
SUMMARY:B.A.D. Girls April Birthday Party
DESCRIPTION:
URL:https://aaneok.org/event/b-a-d-girls-april-birthday-party/
LOCATION:Harvard Avenue Christian Church\, 5502 S. Harvard Ave.\, Tulsa\, OK\, 74135\, United States
CATEGORIES:Group Events
END:VEVENT
END:VCALENDAR