BEGIN:VCALENDAR
VERSION:2.0
PRODID:-//NECS - ECPv6.15.20//NONSGML v1.0//EN
CALSCALE:GREGORIAN
METHOD:PUBLISH
X-ORIGINAL-URL:https://aaneok.org
X-WR-CALDESC:Events for NECS
REFRESH-INTERVAL;VALUE=DURATION:PT1H
X-Robots-Tag:noindex
X-PUBLISHED-TTL:PT1H
BEGIN:VTIMEZONE
TZID:America/New_York
BEGIN:DAYLIGHT
TZOFFSETFROM:-0500
TZOFFSETTO:-0400
TZNAME:EDT
DTSTART:20240310T070000
END:DAYLIGHT
BEGIN:STANDARD
TZOFFSETFROM:-0400
TZOFFSETTO:-0500
TZNAME:EST
DTSTART:20241103T060000
END:STANDARD
BEGIN:DAYLIGHT
TZOFFSETFROM:-0500
TZOFFSETTO:-0400
TZNAME:EDT
DTSTART:20250309T070000
END:DAYLIGHT
BEGIN:STANDARD
TZOFFSETFROM:-0400
TZOFFSETTO:-0500
TZNAME:EST
DTSTART:20251102T060000
END:STANDARD
BEGIN:DAYLIGHT
TZOFFSETFROM:-0500
TZOFFSETTO:-0400
TZNAME:EDT
DTSTART:20260308T070000
END:DAYLIGHT
BEGIN:STANDARD
TZOFFSETFROM:-0400
TZOFFSETTO:-0500
TZNAME:EST
DTSTART:20261101T060000
END:STANDARD
END:VTIMEZONE
BEGIN:VEVENT
DTSTART;VALUE=DATE:20250412
DTEND;VALUE=DATE:20250414
DTSTAMP:20260425T122851
CREATED:20250317T174608Z
LAST-MODIFIED:20250317T174608Z
UID:382253-1744416000-1744588799@aaneok.org
SUMMARY:The Big Book Stays Alive
DESCRIPTION:
URL:https://aaneok.org/event/the-big-book-stays-alive/
LOCATION:Harmony House/Ponca City\, 212 S. 3rd St.\, Ponca City\, OK\, 74601\, United States
CATEGORIES:General Events
END:VEVENT
BEGIN:VEVENT
DTSTART;TZID=America/New_York:20250412T090000
DTEND;TZID=America/New_York:20250412T090000
DTSTAMP:20260425T122851
CREATED:20250313T175509Z
LAST-MODIFIED:20250313T175509Z
UID:382248-1744448400-1744448400@aaneok.org
SUMMARY:NECS Phone Hotline Workshop
DESCRIPTION:
URL:https://aaneok.org/event/necs-phone-hotline-workshop/
LOCATION:Unanimity Club\, 8749 S Lewis Avenue\, Tulsa\, OK\, 74137\, United States
CATEGORIES:NECS Events
ATTACH;FMTTYPE=application/pdf:https://aaneok.org/wp-content/uploads/2025/03/Hot-Line-Phone-Workshop-April-2025.pdf
END:VEVENT
BEGIN:VEVENT
DTSTART;TZID=America/New_York:20250412T100000
DTEND;TZID=America/New_York:20250412T120000
DTSTAMP:20260425T122851
CREATED:20250115T143256Z
LAST-MODIFIED:20250115T143256Z
UID:381860-1744452000-1744459200@aaneok.org
SUMMARY:NECS CS Rep Meeting
DESCRIPTION:
URL:https://aaneok.org/event/necs-cs-rep-meeting-3/
LOCATION:Unanimity Club\, 8749 S Lewis Avenue\, Tulsa\, OK\, 74137\, United States
CATEGORIES:NECS Events
ATTACH;FMTTYPE=application/pdf:https://aaneok.org/wp-content/uploads/2025/01/NECS-CS-REP-April-2025.pdf
END:VEVENT
BEGIN:VEVENT
DTSTART;TZID=America/New_York:20250412T190000
DTEND;TZID=America/New_York:20250412T210000
DTSTAMP:20260425T122851
CREATED:20250310T213859Z
LAST-MODIFIED:20250314T143034Z
UID:382228-1744484400-1744491600@aaneok.org
SUMMARY:April Big Meeting
DESCRIPTION:
URL:https://aaneok.org/event/april-big-meeting/
LOCATION:Harvard Avenue Christian Church\, 5502 S. Harvard Ave.\, Tulsa\, OK\, 74135\, United States
CATEGORIES:General Events
END:VEVENT
END:VCALENDAR