BEGIN:VCALENDAR
VERSION:2.0
PRODID:-//NECS - ECPv6.15.20//NONSGML v1.0//EN
CALSCALE:GREGORIAN
METHOD:PUBLISH
X-ORIGINAL-URL:https://aaneok.org
X-WR-CALDESC:Events for NECS
REFRESH-INTERVAL;VALUE=DURATION:PT1H
X-Robots-Tag:noindex
X-PUBLISHED-TTL:PT1H
BEGIN:VTIMEZONE
TZID:America/New_York
BEGIN:DAYLIGHT
TZOFFSETFROM:-0500
TZOFFSETTO:-0400
TZNAME:EDT
DTSTART:20240310T070000
END:DAYLIGHT
BEGIN:STANDARD
TZOFFSETFROM:-0400
TZOFFSETTO:-0500
TZNAME:EST
DTSTART:20241103T060000
END:STANDARD
BEGIN:DAYLIGHT
TZOFFSETFROM:-0500
TZOFFSETTO:-0400
TZNAME:EDT
DTSTART:20250309T070000
END:DAYLIGHT
BEGIN:STANDARD
TZOFFSETFROM:-0400
TZOFFSETTO:-0500
TZNAME:EST
DTSTART:20251102T060000
END:STANDARD
BEGIN:DAYLIGHT
TZOFFSETFROM:-0500
TZOFFSETTO:-0400
TZNAME:EDT
DTSTART:20260308T070000
END:DAYLIGHT
BEGIN:STANDARD
TZOFFSETFROM:-0400
TZOFFSETTO:-0500
TZNAME:EST
DTSTART:20261101T060000
END:STANDARD
END:VTIMEZONE
BEGIN:VEVENT
DTSTART;VALUE=DATE:20250425
DTEND;VALUE=DATE:20250428
DTSTAMP:20260425T122850
CREATED:20250226T161618Z
LAST-MODIFIED:20250226T161618Z
UID:382102-1745539200-1745798399@aaneok.org
SUMMARY:17th Annual Spring Fling Convention
DESCRIPTION:
URL:https://aaneok.org/event/17th-annual-spring-fling-convention/
LOCATION:Hilton St. Louis Airport\, 10330 Natural Bridge Rd.\, St. Louis\, MO\, 63134\, United States
CATEGORIES:General Events
ATTACH;FMTTYPE=application/pdf:https://aaneok.org/wp-content/uploads/2025/02/Spring-Fling-2025.pdf
END:VEVENT
BEGIN:VEVENT
DTSTART;VALUE=DATE:20250425
DTEND;VALUE=DATE:20250428
DTSTAMP:20260425T122850
CREATED:20250324T142536Z
LAST-MODIFIED:20250324T142536Z
UID:382277-1745539200-1745798399@aaneok.org
SUMMARY:Keep on Tookin'
DESCRIPTION:
URL:https://aaneok.org/event/keep-on-tookin/
LOCATION:Mindset Conference Room\, 5563 S Lewis Ave
CATEGORIES:District Events
END:VEVENT
BEGIN:VEVENT
DTSTART;VALUE=DATE:20250426
DTEND;VALUE=DATE:20250427
DTSTAMP:20260425T122850
CREATED:20250418T215250Z
LAST-MODIFIED:20250423T202913Z
UID:382434-1745625600-1745711999@aaneok.org
SUMMARY:REBOS has Meeting Space Available
DESCRIPTION:
URL:https://aaneok.org/event/rebos-has-meeting-space-available-2/
LOCATION:OK
CATEGORIES:Group Events
END:VEVENT
BEGIN:VEVENT
DTSTART;TZID=America/New_York:20250426T170000
DTEND;TZID=America/New_York:20250426T193000
DTSTAMP:20260425T122850
CREATED:20250225T162605Z
LAST-MODIFIED:20250225T162605Z
UID:382098-1745686800-1745695800@aaneok.org
SUMMARY:B.A.D. Girls 5th Anniversary
DESCRIPTION:
URL:https://aaneok.org/event/b-a-d-girls-5th-anniversary/
LOCATION:Harvard Avenue Christian Church\, 5502 S. Harvard Ave.\, Tulsa\, OK\, 74135\, United States
CATEGORIES:Group Events
ATTACH;FMTTYPE=application/pdf:https://aaneok.org/wp-content/uploads/2025/02/bad-girls-anniversary.pdf
END:VEVENT
END:VCALENDAR