BEGIN:VCALENDAR
VERSION:2.0
PRODID:-//NECS - ECPv6.15.20//NONSGML v1.0//EN
CALSCALE:GREGORIAN
METHOD:PUBLISH
X-WR-CALNAME:NECS
X-ORIGINAL-URL:https://aaneok.org
X-WR-CALDESC:Events for NECS
REFRESH-INTERVAL;VALUE=DURATION:PT1H
X-Robots-Tag:noindex
X-PUBLISHED-TTL:PT1H
BEGIN:VTIMEZONE
TZID:America/New_York
BEGIN:DAYLIGHT
TZOFFSETFROM:-0500
TZOFFSETTO:-0400
TZNAME:EDT
DTSTART:20240310T070000
END:DAYLIGHT
BEGIN:STANDARD
TZOFFSETFROM:-0400
TZOFFSETTO:-0500
TZNAME:EST
DTSTART:20241103T060000
END:STANDARD
BEGIN:DAYLIGHT
TZOFFSETFROM:-0500
TZOFFSETTO:-0400
TZNAME:EDT
DTSTART:20250309T070000
END:DAYLIGHT
BEGIN:STANDARD
TZOFFSETFROM:-0400
TZOFFSETTO:-0500
TZNAME:EST
DTSTART:20251102T060000
END:STANDARD
BEGIN:DAYLIGHT
TZOFFSETFROM:-0500
TZOFFSETTO:-0400
TZNAME:EDT
DTSTART:20260308T070000
END:DAYLIGHT
BEGIN:STANDARD
TZOFFSETFROM:-0400
TZOFFSETTO:-0500
TZNAME:EST
DTSTART:20261101T060000
END:STANDARD
END:VTIMEZONE
BEGIN:VEVENT
DTSTART;TZID=America/New_York:20250516T150000
DTEND;TZID=America/New_York:20250518T110000
DTSTAMP:20260425T110753
CREATED:20240916T210002Z
LAST-MODIFIED:20240916T210002Z
UID:381239-1747407600-1747566000@aaneok.org
SUMMARY:2025 State Conference
DESCRIPTION:
URL:https://aaneok.org/event/2025-state-conference/
LOCATION:embassy suites  norman\, ok\, 2501 Conference Drive\, Norman\, OK\, 73069\, United States
CATEGORIES:Area 57 Events
ATTACH;FMTTYPE=image/jpeg:https://aaneok.org/wp-content/uploads/2024/09/2025-State-Conference-Flyer-FINAL-scaled.jpeg
END:VEVENT
BEGIN:VEVENT
DTSTART;TZID=America/New_York:20250516T150000
DTEND;TZID=America/New_York:20250518T113000
DTSTAMP:20260425T110753
CREATED:20250415T214003Z
LAST-MODIFIED:20250415T214135Z
UID:382381-1747407600-1747567800@aaneok.org
SUMMARY:Oklahoma State Conference Needs PRIZES!
DESCRIPTION:
URL:https://aaneok.org/event/oklahoma-state-conference-need-prizes/
LOCATION:embassy suites  norman\, ok\, 2501 Conference Drive\, Norman\, OK\, 73069\, United States
CATEGORIES:Area 57 Events
ATTACH;FMTTYPE=application/pdf:https://aaneok.org/wp-content/uploads/2025/04/2025-State-Conference-Prize-Request-Flyer.pdf
END:VEVENT
END:VCALENDAR