BEGIN:VCALENDAR
VERSION:2.0
PRODID:-//NECS - ECPv6.15.20//NONSGML v1.0//EN
CALSCALE:GREGORIAN
METHOD:PUBLISH
X-ORIGINAL-URL:https://aaneok.org
X-WR-CALDESC:Events for NECS
REFRESH-INTERVAL;VALUE=DURATION:PT1H
X-Robots-Tag:noindex
X-PUBLISHED-TTL:PT1H
BEGIN:VTIMEZONE
TZID:America/New_York
BEGIN:DAYLIGHT
TZOFFSETFROM:-0500
TZOFFSETTO:-0400
TZNAME:EDT
DTSTART:20240310T070000
END:DAYLIGHT
BEGIN:STANDARD
TZOFFSETFROM:-0400
TZOFFSETTO:-0500
TZNAME:EST
DTSTART:20241103T060000
END:STANDARD
BEGIN:DAYLIGHT
TZOFFSETFROM:-0500
TZOFFSETTO:-0400
TZNAME:EDT
DTSTART:20250309T070000
END:DAYLIGHT
BEGIN:STANDARD
TZOFFSETFROM:-0400
TZOFFSETTO:-0500
TZNAME:EST
DTSTART:20251102T060000
END:STANDARD
BEGIN:DAYLIGHT
TZOFFSETFROM:-0500
TZOFFSETTO:-0400
TZNAME:EDT
DTSTART:20260308T070000
END:DAYLIGHT
BEGIN:STANDARD
TZOFFSETFROM:-0400
TZOFFSETTO:-0500
TZNAME:EST
DTSTART:20261101T060000
END:STANDARD
END:VTIMEZONE
BEGIN:VEVENT
DTSTART;TZID=America/New_York:20250524T060000
DTEND;TZID=America/New_York:20250524T070000
DTSTAMP:20260425T110755
CREATED:20250507T203942Z
LAST-MODIFIED:20250509T201137Z
UID:382502-1748066400-1748070000@aaneok.org
SUMMARY:Leaf Kickin Coffee Morning
DESCRIPTION:
URL:https://aaneok.org/event/leaf-kickin-coffee-morning/
LOCATION:May Club\, 2913 W. Britton Rd.\, Oklahoma City\, OK\, 73120\, United States
CATEGORIES:Group Events
END:VEVENT
BEGIN:VEVENT
DTSTART;TZID=America/New_York:20250524T120000
DTEND;TZID=America/New_York:20250524T170000
DTSTAMP:20260425T110755
CREATED:20250423T133747Z
LAST-MODIFIED:20250510T164210Z
UID:382450-1748088000-1748106000@aaneok.org
SUMMARY:Maine Street Group 4th Step Workshop
DESCRIPTION:There have been changes to the panel for this event: \nBen B\, Area 57\, Panel 67\, Past Delegate.    Altered Boys\, OKC \nJoe F\, District 50  Chair.    Acceptance Group\, Ponca City \nTim S\, Maine Street Group\, Enid
URL:https://aaneok.org/event/maine-street-group-4th-step-workshop/
LOCATION:704D W. Maine Street\, 704 D W. Maine Street\, Enid\, OK\, 73701\, United States
CATEGORIES:Group Events
END:VEVENT
END:VCALENDAR