BEGIN:VCALENDAR
VERSION:2.0
PRODID:-//NECS - ECPv6.15.20//NONSGML v1.0//EN
CALSCALE:GREGORIAN
METHOD:PUBLISH
X-WR-CALNAME:NECS
X-ORIGINAL-URL:https://aaneok.org
X-WR-CALDESC:Events for NECS
REFRESH-INTERVAL;VALUE=DURATION:PT1H
X-Robots-Tag:noindex
X-PUBLISHED-TTL:PT1H
BEGIN:VTIMEZONE
TZID:America/New_York
BEGIN:DAYLIGHT
TZOFFSETFROM:-0500
TZOFFSETTO:-0400
TZNAME:EDT
DTSTART:20240310T070000
END:DAYLIGHT
BEGIN:STANDARD
TZOFFSETFROM:-0400
TZOFFSETTO:-0500
TZNAME:EST
DTSTART:20241103T060000
END:STANDARD
BEGIN:DAYLIGHT
TZOFFSETFROM:-0500
TZOFFSETTO:-0400
TZNAME:EDT
DTSTART:20250309T070000
END:DAYLIGHT
BEGIN:STANDARD
TZOFFSETFROM:-0400
TZOFFSETTO:-0500
TZNAME:EST
DTSTART:20251102T060000
END:STANDARD
BEGIN:DAYLIGHT
TZOFFSETFROM:-0500
TZOFFSETTO:-0400
TZNAME:EDT
DTSTART:20260308T070000
END:DAYLIGHT
BEGIN:STANDARD
TZOFFSETFROM:-0400
TZOFFSETTO:-0500
TZNAME:EST
DTSTART:20261101T060000
END:STANDARD
END:VTIMEZONE
BEGIN:VEVENT
DTSTART;TZID=America/New_York:20250531T100000
DTEND;TZID=America/New_York:20250531T140000
DTSTAMP:20260425T110753
CREATED:20250508T133627Z
LAST-MODIFIED:20250508T133627Z
UID:382506-1748685600-1748700000@aaneok.org
SUMMARY:Area 57 Treatment Corrections Bridge the Gap Workshop
DESCRIPTION:
URL:https://aaneok.org/event/area-57-treatment-corrections-bridge-the-gap-workshop/
LOCATION:323 S. Oak St./Holdenville\, 323 S. Oak St.\, Holdenville\, OK\, 74848\, United States
CATEGORIES:Area 57 Events
ATTACH;FMTTYPE=application/pdf:https://aaneok.org/wp-content/uploads/2025/05/Area-57-BTG-Wksh-Holdenville.pdf
END:VEVENT
BEGIN:VEVENT
DTSTART;TZID=America/New_York:20250531T120000
DTEND;TZID=America/New_York:20250531T140000
DTSTAMP:20260425T110753
CREATED:20250430T143158Z
LAST-MODIFIED:20250430T143158Z
UID:382473-1748692800-1748700000@aaneok.org
SUMMARY:B.A.D. Girls Bunco Party
DESCRIPTION:
URL:https://aaneok.org/event/b-a-d-girls-bunco-party/
LOCATION:Harvard Avenue Christian Church\, 5502 S. Harvard Ave.\, Tulsa\, OK\, 74135\, United States
CATEGORIES:Group Events
END:VEVENT
BEGIN:VEVENT
DTSTART;TZID=America/New_York:20250531T130000
DTEND;TZID=America/New_York:20250531T170000
DTSTAMP:20260425T110753
CREATED:20250515T135240Z
LAST-MODIFIED:20250515T135240Z
UID:382552-1748696400-1748710800@aaneok.org
SUMMARY:Original Group 81st Anniversary
DESCRIPTION:
URL:https://aaneok.org/event/original-group-81st-anniversary/
LOCATION:Original Group/Tulsa\, 6815 E. 15th St.\, Tulsa\, OK\, 74112\, United States
CATEGORIES:Group Events
ATTACH;FMTTYPE=application/pdf:https://aaneok.org/wp-content/uploads/2025/05/Original-Group-Ann-202520250515084655-1.pdf
END:VEVENT
BEGIN:VEVENT
DTSTART;TZID=America/New_York:20250531T173000
DTEND;TZID=America/New_York:20250531T200000
DTSTAMP:20260425T110753
CREATED:20250516T190414Z
LAST-MODIFIED:20250516T190414Z
UID:382576-1748712600-1748721600@aaneok.org
SUMMARY:City Wide in OKC
DESCRIPTION:
URL:https://aaneok.org/event/city-wide-in-okc/
LOCATION:Cole Community Center\, 4400 NW Expressway\, OKC\, OK\, 73116\, United States
CATEGORIES:General Events
END:VEVENT
END:VCALENDAR