BEGIN:VCALENDAR
VERSION:2.0
PRODID:-//NECS - ECPv6.15.20//NONSGML v1.0//EN
CALSCALE:GREGORIAN
METHOD:PUBLISH
X-WR-CALNAME:NECS
X-ORIGINAL-URL:https://aaneok.org
X-WR-CALDESC:Events for NECS
REFRESH-INTERVAL;VALUE=DURATION:PT1H
X-Robots-Tag:noindex
X-PUBLISHED-TTL:PT1H
BEGIN:VTIMEZONE
TZID:America/New_York
BEGIN:DAYLIGHT
TZOFFSETFROM:-0500
TZOFFSETTO:-0400
TZNAME:EDT
DTSTART:20240310T070000
END:DAYLIGHT
BEGIN:STANDARD
TZOFFSETFROM:-0400
TZOFFSETTO:-0500
TZNAME:EST
DTSTART:20241103T060000
END:STANDARD
BEGIN:DAYLIGHT
TZOFFSETFROM:-0500
TZOFFSETTO:-0400
TZNAME:EDT
DTSTART:20250309T070000
END:DAYLIGHT
BEGIN:STANDARD
TZOFFSETFROM:-0400
TZOFFSETTO:-0500
TZNAME:EST
DTSTART:20251102T060000
END:STANDARD
BEGIN:DAYLIGHT
TZOFFSETFROM:-0500
TZOFFSETTO:-0400
TZNAME:EDT
DTSTART:20260308T070000
END:DAYLIGHT
BEGIN:STANDARD
TZOFFSETFROM:-0400
TZOFFSETTO:-0500
TZNAME:EST
DTSTART:20261101T060000
END:STANDARD
END:VTIMEZONE
BEGIN:VEVENT
DTSTART;TZID=America/New_York:20250927T093000
DTEND;TZID=America/New_York:20250927T104500
DTSTAMP:20260424T214047
CREATED:20250808T141732Z
LAST-MODIFIED:20250808T141732Z
UID:383115-1758965400-1758969900@aaneok.org
SUMMARY:B.A.D. Girls September Birthdays
DESCRIPTION:
URL:https://aaneok.org/event/b-a-d-girls-september-birthdays/
LOCATION:Harvard Avenue Christian Church\, 5502 S. Harvard Ave.\, Tulsa\, OK\, 74135\, United States
CATEGORIES:Group Events
ATTACH;FMTTYPE=image/jpeg:https://aaneok.org/wp-content/uploads/2025/08/September-Birthdays-BAD-Girls-1.jpg
END:VEVENT
BEGIN:VEVENT
DTSTART;TZID=America/New_York:20250927T100000
DTEND;TZID=America/New_York:20250927T120000
DTSTAMP:20260424T214047
CREATED:20250902T140517Z
LAST-MODIFIED:20250902T140517Z
UID:383391-1758967200-1758974400@aaneok.org
SUMMARY:Area 57 Corrections Workshop
DESCRIPTION:
URL:https://aaneok.org/event/area-57-corrections-workshop/
LOCATION:St James Presbyterian Church\, 11970 S. Elm St.\, Jenks\, 74037
CATEGORIES:Area 57 Events
ATTACH;FMTTYPE=application/pdf:https://aaneok.org/wp-content/uploads/2025/09/Corrections-Conf-Sept.pdf
END:VEVENT
BEGIN:VEVENT
DTSTART;TZID=America/New_York:20250927T160000
DTEND;TZID=America/New_York:20250927T200000
DTSTAMP:20260424T214047
CREATED:20250828T161324Z
LAST-MODIFIED:20250828T161324Z
UID:383344-1758988800-1759003200@aaneok.org
SUMMARY:Monkey Island Original Group 19th Ann.
DESCRIPTION:
URL:https://aaneok.org/event/monkey-island-original-group-19th-ann/
LOCATION:Honey Creek State Park\, 901 State Park Rd.\, Grove\, OK\, 74344\, United States
CATEGORIES:Group Events
ATTACH;FMTTYPE=application/pdf:https://aaneok.org/wp-content/uploads/2025/08/Monkey-Island-19th-Ann.pdf
END:VEVENT
BEGIN:VEVENT
DTSTART;TZID=America/New_York:20250927T180000
DTEND;TZID=America/New_York:20250927T210000
DTSTAMP:20260424T214047
CREATED:20250908T153937Z
LAST-MODIFIED:20250908T154032Z
UID:383441-1758996000-1759006800@aaneok.org
SUMMARY:Midtown Men's 8th Anniversary
DESCRIPTION:
URL:https://aaneok.org/event/midtown-mens-8th-anniversary/
LOCATION:OK
CATEGORIES:Group Events
ATTACH;FMTTYPE=image/jpeg:https://aaneok.org/wp-content/uploads/2025/09/Midtown-Mens-8th.jpg
END:VEVENT
END:VCALENDAR