BEGIN:VCALENDAR
VERSION:2.0
PRODID:-//NECS - ECPv6.15.20//NONSGML v1.0//EN
CALSCALE:GREGORIAN
METHOD:PUBLISH
X-WR-CALNAME:NECS
X-ORIGINAL-URL:https://aaneok.org
X-WR-CALDESC:Events for NECS
REFRESH-INTERVAL;VALUE=DURATION:PT1H
X-Robots-Tag:noindex
X-PUBLISHED-TTL:PT1H
BEGIN:VTIMEZONE
TZID:America/New_York
BEGIN:DAYLIGHT
TZOFFSETFROM:-0500
TZOFFSETTO:-0400
TZNAME:EDT
DTSTART:20250309T070000
END:DAYLIGHT
BEGIN:STANDARD
TZOFFSETFROM:-0400
TZOFFSETTO:-0500
TZNAME:EST
DTSTART:20251102T060000
END:STANDARD
BEGIN:DAYLIGHT
TZOFFSETFROM:-0500
TZOFFSETTO:-0400
TZNAME:EDT
DTSTART:20260308T070000
END:DAYLIGHT
BEGIN:STANDARD
TZOFFSETFROM:-0400
TZOFFSETTO:-0500
TZNAME:EST
DTSTART:20261101T060000
END:STANDARD
BEGIN:DAYLIGHT
TZOFFSETFROM:-0500
TZOFFSETTO:-0400
TZNAME:EDT
DTSTART:20270314T070000
END:DAYLIGHT
BEGIN:STANDARD
TZOFFSETFROM:-0400
TZOFFSETTO:-0500
TZNAME:EST
DTSTART:20271107T060000
END:STANDARD
END:VTIMEZONE
BEGIN:VEVENT
DTSTART;VALUE=DATE:20260327
DTEND;VALUE=DATE:20260330
DTSTAMP:20260424T084628
CREATED:20250904T192626Z
LAST-MODIFIED:20250905T155353Z
UID:383429-1774569600-1774828799@aaneok.org
SUMMARY:Promises Men's Getaway
DESCRIPTION:
URL:https://aaneok.org/event/promises-mens-getaway/
LOCATION:Camp Egan\, 26633 Highway 62\, Tahlequah\, OK\, 74464\, United States
CATEGORIES:General Events
ATTACH;FMTTYPE=image/png:https://aaneok.org/wp-content/uploads/2025/09/25th-Promises-Mens-Getaway-Weekend-032726.png
END:VEVENT
BEGIN:VEVENT
DTSTART;VALUE=DATE:20260327
DTEND;VALUE=DATE:20260330
DTSTAMP:20260424T084628
CREATED:20260211T175702Z
LAST-MODIFIED:20260211T175702Z
UID:384586-1774569600-1774828799@aaneok.org
SUMMARY:6th Annual Ladies Retreat Lake Texoma 2026
DESCRIPTION:
URL:https://aaneok.org/event/6th-annual-ladies-retreat-lake-texoma-2026/
LOCATION:OK
CATEGORIES:Group Events
ATTACH;FMTTYPE=application/pdf:https://aaneok.org/wp-content/uploads/2026/02/6th-Annual-Ladies-Retreat-Lake-Texoma-2026.pdf
END:VEVENT
BEGIN:VEVENT
DTSTART;TZID=America/New_York:20260329T150000
DTEND;TZID=America/New_York:20260329T160000
DTSTAMP:20260424T084628
CREATED:20250821T191918Z
LAST-MODIFIED:20250827T142109Z
UID:383253-1774796400-1774800000@aaneok.org
SUMMARY:2026 OK. State Conference Committee Meeting
DESCRIPTION:3pm IN PERSON- Mindset Behavioral Health 5563 S. Lewis Ave. #100\, Tulsa\, 74105 \nZoom- 2521537503 Password-Rule62 \nAnyone willing to help are welcome!
URL:https://aaneok.org/event/2026-ok-state-conference-committee-meeting-copy-copy-copy-copy-copy/
LOCATION:OK
CATEGORIES:Area 57 Events
END:VEVENT
END:VCALENDAR