BEGIN:VCALENDAR
VERSION:2.0
PRODID:-//NECS - ECPv6.15.20//NONSGML v1.0//EN
CALSCALE:GREGORIAN
METHOD:PUBLISH
X-ORIGINAL-URL:https://aaneok.org
X-WR-CALDESC:Events for NECS
REFRESH-INTERVAL;VALUE=DURATION:PT1H
X-Robots-Tag:noindex
X-PUBLISHED-TTL:PT1H
BEGIN:VTIMEZONE
TZID:America/New_York
BEGIN:DAYLIGHT
TZOFFSETFROM:-0500
TZOFFSETTO:-0400
TZNAME:EDT
DTSTART:20250309T070000
END:DAYLIGHT
BEGIN:STANDARD
TZOFFSETFROM:-0400
TZOFFSETTO:-0500
TZNAME:EST
DTSTART:20251102T060000
END:STANDARD
BEGIN:DAYLIGHT
TZOFFSETFROM:-0500
TZOFFSETTO:-0400
TZNAME:EDT
DTSTART:20260308T070000
END:DAYLIGHT
BEGIN:STANDARD
TZOFFSETFROM:-0400
TZOFFSETTO:-0500
TZNAME:EST
DTSTART:20261101T060000
END:STANDARD
BEGIN:DAYLIGHT
TZOFFSETFROM:-0500
TZOFFSETTO:-0400
TZNAME:EDT
DTSTART:20270314T070000
END:DAYLIGHT
BEGIN:STANDARD
TZOFFSETFROM:-0400
TZOFFSETTO:-0500
TZNAME:EST
DTSTART:20271107T060000
END:STANDARD
END:VTIMEZONE
BEGIN:VEVENT
DTSTART;TZID=America/New_York:20260515T150000
DTEND;TZID=America/New_York:20260517T110000
DTSTAMP:20260424T101920
CREATED:20250728T173945Z
LAST-MODIFIED:20251111T152749Z
UID:383067-1778857200-1779015600@aaneok.org
SUMMARY:Oklahoma 75th State Conference
DESCRIPTION:https://aaneok.org/wp-content/uploads/2025/11/2026-State-Conference-Need-Volunteers.pdf
URL:https://aaneok.org/event/still-trudgin-state-conference-registration/
LOCATION:OK
CATEGORIES:Area 57 Events
ATTACH;FMTTYPE=application/pdf:https://aaneok.org/wp-content/uploads/2025/07/Stateconvention2026septFINAL.pdf
END:VEVENT
BEGIN:VEVENT
DTSTART;TZID=America/New_York:20260515T150000
DTEND;TZID=America/New_York:20260517T110000
DTSTAMP:20260424T101920
CREATED:20260331T140128Z
LAST-MODIFIED:20260331T140128Z
UID:384772-1778857200-1779015600@aaneok.org
SUMMARY:Spanish Flyer Area 57 Conference
DESCRIPTION:
URL:https://aaneok.org/event/spanish-flyer-area-57-conference/
LOCATION:OK
CATEGORIES:Area 57 Events
ATTACH;FMTTYPE=image/jpeg:https://aaneok.org/wp-content/uploads/2026/03/spanishstateflyerfinal-1.pdf.jpg
END:VEVENT
BEGIN:VEVENT
DTSTART;VALUE=DATE:20260516
DTEND;VALUE=DATE:20260517
DTSTAMP:20260424T101920
CREATED:20260115T170848Z
LAST-MODIFIED:20260115T170848Z
UID:384323-1778889600-1778975999@aaneok.org
SUMMARY:Fun in the Fellowship Online 3rd Saturday Ongoing Meeting
DESCRIPTION:
URL:https://aaneok.org/event/fun-in-the-fellowship-online-3rd-saturday-ongoing-meeting-5/
LOCATION:OK
CATEGORIES:Area 57 Events
ATTACH;FMTTYPE=application/pdf:https://aaneok.org/wp-content/uploads/2026/01/FIF-2026-third-sat-online-meeting-4.pdf
END:VEVENT
END:VCALENDAR