BEGIN:VCALENDAR
VERSION:2.0
PRODID:-//NECS - ECPv6.15.20//NONSGML v1.0//EN
CALSCALE:GREGORIAN
METHOD:PUBLISH
X-WR-CALNAME:NECS
X-ORIGINAL-URL:https://aaneok.org
X-WR-CALDESC:Events for NECS
REFRESH-INTERVAL;VALUE=DURATION:PT1H
X-Robots-Tag:noindex
X-PUBLISHED-TTL:PT1H
BEGIN:VTIMEZONE
TZID:America/New_York
BEGIN:DAYLIGHT
TZOFFSETFROM:-0500
TZOFFSETTO:-0400
TZNAME:EDT
DTSTART:20250309T070000
END:DAYLIGHT
BEGIN:STANDARD
TZOFFSETFROM:-0400
TZOFFSETTO:-0500
TZNAME:EST
DTSTART:20251102T060000
END:STANDARD
BEGIN:DAYLIGHT
TZOFFSETFROM:-0500
TZOFFSETTO:-0400
TZNAME:EDT
DTSTART:20260308T070000
END:DAYLIGHT
BEGIN:STANDARD
TZOFFSETFROM:-0400
TZOFFSETTO:-0500
TZNAME:EST
DTSTART:20261101T060000
END:STANDARD
BEGIN:DAYLIGHT
TZOFFSETFROM:-0500
TZOFFSETTO:-0400
TZNAME:EDT
DTSTART:20270314T070000
END:DAYLIGHT
BEGIN:STANDARD
TZOFFSETFROM:-0400
TZOFFSETTO:-0500
TZNAME:EST
DTSTART:20271107T060000
END:STANDARD
END:VTIMEZONE
BEGIN:VEVENT
DTSTART;VALUE=DATE:20260708
DTEND;VALUE=DATE:20260709
DTSTAMP:20260424T121123
CREATED:20260107T151059Z
LAST-MODIFIED:20260107T151059Z
UID:384159-1783468800-1783555199@aaneok.org
SUMMARY:Save the Date 9/12/26 Fun in the Fellowship
DESCRIPTION:
URL:https://aaneok.org/event/save-the-date-9-12-26-fun-in-the-fellowship-7/
LOCATION:OK
CATEGORIES:Area 57 Events
ATTACH;FMTTYPE=image/jpeg:https://aaneok.org/wp-content/uploads/2026/01/Save-the-date-FIF-2026-6-scaled.jpg
END:VEVENT
BEGIN:VEVENT
DTSTART;TZID=America/New_York:20260708T080000
DTEND;TZID=America/New_York:20260708T170000
DTSTAMP:20260424T121123
CREATED:20260107T152336Z
LAST-MODIFIED:20260107T152336Z
UID:384183-1783497600-1783530000@aaneok.org
SUMMARY:Fun in Fellowship Raffle Items Needed
DESCRIPTION:
URL:https://aaneok.org/event/fun-in-fellowship-raffle-items-needed-7/
LOCATION:OK
CATEGORIES:Area 57 Events
ATTACH;FMTTYPE=image/jpeg:https://aaneok.org/wp-content/uploads/2026/01/Raffle-Flyer-6-scaled.jpg
END:VEVENT
END:VCALENDAR