BEGIN:VCALENDAR
VERSION:2.0
PRODID:-//NECS - ECPv6.15.20//NONSGML v1.0//EN
CALSCALE:GREGORIAN
METHOD:PUBLISH
X-WR-CALNAME:NECS
X-ORIGINAL-URL:https://aaneok.org
X-WR-CALDESC:Events for NECS
REFRESH-INTERVAL;VALUE=DURATION:PT1H
X-Robots-Tag:noindex
X-PUBLISHED-TTL:PT1H
BEGIN:VTIMEZONE
TZID:America/New_York
BEGIN:DAYLIGHT
TZOFFSETFROM:-0500
TZOFFSETTO:-0400
TZNAME:EDT
DTSTART:20240310T070000
END:DAYLIGHT
BEGIN:STANDARD
TZOFFSETFROM:-0400
TZOFFSETTO:-0500
TZNAME:EST
DTSTART:20241103T060000
END:STANDARD
BEGIN:DAYLIGHT
TZOFFSETFROM:-0500
TZOFFSETTO:-0400
TZNAME:EDT
DTSTART:20250309T070000
END:DAYLIGHT
BEGIN:STANDARD
TZOFFSETFROM:-0400
TZOFFSETTO:-0500
TZNAME:EST
DTSTART:20251102T060000
END:STANDARD
BEGIN:DAYLIGHT
TZOFFSETFROM:-0500
TZOFFSETTO:-0400
TZNAME:EDT
DTSTART:20260308T070000
END:DAYLIGHT
BEGIN:STANDARD
TZOFFSETFROM:-0400
TZOFFSETTO:-0500
TZNAME:EST
DTSTART:20261101T060000
END:STANDARD
END:VTIMEZONE
BEGIN:VEVENT
DTSTART;VALUE=DATE:20250905
DTEND;VALUE=DATE:20250906
DTSTAMP:20260424T222929
CREATED:20250708T164449Z
LAST-MODIFIED:20250902T170227Z
UID:382939-1757030400-1757116799@aaneok.org
SUMMARY:Fun in Fellowship Raffle Prizes Needed
DESCRIPTION:
URL:https://aaneok.org/event/fun-in-fellowship-2025-calling-for-raffle-prizes-copy/
LOCATION:OK
CATEGORIES:Area 57 Events
ATTACH;FMTTYPE=application/pdf:https://aaneok.org/wp-content/uploads/2025/07/Untitled-design-10.pdf
END:VEVENT
BEGIN:VEVENT
DTSTART;VALUE=DATE:20250913
DTEND;VALUE=DATE:20250914
DTSTAMP:20260424T222929
CREATED:20250701T142341Z
LAST-MODIFIED:20250701T142341Z
UID:382899-1757721600-1757807999@aaneok.org
SUMMARY:Fun in the Fellowship
DESCRIPTION:
URL:https://aaneok.org/event/fun-in-the-fellowship-2/
LOCATION:Western  Club\, 5207 N Western Ave\, OKC\, 73118\, United States
CATEGORIES:Area 57 Events
ATTACH;FMTTYPE=image/jpeg:https://aaneok.org/wp-content/uploads/2025/07/Fun-in-Fellowship-revised.jpg
END:VEVENT
BEGIN:VEVENT
DTSTART;TZID=America/New_York:20250913T093000
DTEND;TZID=America/New_York:20250913T180000
DTSTAMP:20260424T222929
CREATED:20250908T160841Z
LAST-MODIFIED:20250908T160841Z
UID:383455-1757755800-1757786400@aaneok.org
SUMMARY:Fun in fellowship Program
DESCRIPTION:
URL:https://aaneok.org/event/fun-in-fellowship-program/
LOCATION:Western  Club\, 5207 N Western Ave\, OKC\, 73118\, United States
CATEGORIES:Area 57 Events
ATTACH;FMTTYPE=application/pdf:https://aaneok.org/wp-content/uploads/2025/09/Fun-in-Fellowship-Program.pdf
END:VEVENT
BEGIN:VEVENT
DTSTART;VALUE=DATE:20250914
DTEND;VALUE=DATE:20250915
DTSTAMP:20260424T222929
CREATED:20250308T132151Z
LAST-MODIFIED:20250308T132151Z
UID:382224-1757808000-1757894399@aaneok.org
SUMMARY:Area 57 Quarterly Meeting
DESCRIPTION:Area 57 Meeting\n\nSeptember 14 @ 9:00 AM – 3:00 PM\n\n\n\nEmbassy Suites Hotel\n741 N Phillips Ave\nOklahoma City\, OK 73104\nJust East of Lincoln and NE 8th St
URL:https://aaneok.org/event/area-57-quarterly-meeting-3/
LOCATION:Embassy Suites OKC\, 741 N Phillips\, OKC\, OK\, 73104\, United States
CATEGORIES:Area 57 Events
END:VEVENT
BEGIN:VEVENT
DTSTART;TZID=America/New_York:20250927T100000
DTEND;TZID=America/New_York:20250927T120000
DTSTAMP:20260424T222929
CREATED:20250902T140517Z
LAST-MODIFIED:20250902T140517Z
UID:383391-1758967200-1758974400@aaneok.org
SUMMARY:Area 57 Corrections Workshop
DESCRIPTION:
URL:https://aaneok.org/event/area-57-corrections-workshop/
LOCATION:St James Presbyterian Church\, 11970 S. Elm St.\, Jenks\, 74037
CATEGORIES:Area 57 Events
ATTACH;FMTTYPE=application/pdf:https://aaneok.org/wp-content/uploads/2025/09/Corrections-Conf-Sept.pdf
END:VEVENT
BEGIN:VEVENT
DTSTART;TZID=America/New_York:20250928T150000
DTEND;TZID=America/New_York:20250928T160000
DTSTAMP:20260424T222929
CREATED:20250821T191637Z
LAST-MODIFIED:20250827T142523Z
UID:383245-1759071600-1759075200@aaneok.org
SUMMARY:2026 OK. State Conference Committee Meeting
DESCRIPTION:3pm IN PERSON- Mindset Behavioral Health 5563 S. Lewis Ave. #100\, Tulsa\, 74105 \nZoom- 2521537503 Password-Rule62 \nAnyone willing to help are welcome!
URL:https://aaneok.org/event/2026-ok-state-conference-committee-meeting-copy/
LOCATION:OK
CATEGORIES:Area 57 Events
END:VEVENT
END:VCALENDAR