BEGIN:VCALENDAR
VERSION:2.0
PRODID:-//NECS - ECPv6.15.20//NONSGML v1.0//EN
CALSCALE:GREGORIAN
METHOD:PUBLISH
X-WR-CALNAME:NECS
X-ORIGINAL-URL:https://aaneok.org
X-WR-CALDESC:Events for NECS
REFRESH-INTERVAL;VALUE=DURATION:PT1H
X-Robots-Tag:noindex
X-PUBLISHED-TTL:PT1H
BEGIN:VTIMEZONE
TZID:America/New_York
BEGIN:DAYLIGHT
TZOFFSETFROM:-0500
TZOFFSETTO:-0400
TZNAME:EDT
DTSTART:20240310T070000
END:DAYLIGHT
BEGIN:STANDARD
TZOFFSETFROM:-0400
TZOFFSETTO:-0500
TZNAME:EST
DTSTART:20241103T060000
END:STANDARD
BEGIN:DAYLIGHT
TZOFFSETFROM:-0500
TZOFFSETTO:-0400
TZNAME:EDT
DTSTART:20250309T070000
END:DAYLIGHT
BEGIN:STANDARD
TZOFFSETFROM:-0400
TZOFFSETTO:-0500
TZNAME:EST
DTSTART:20251102T060000
END:STANDARD
BEGIN:DAYLIGHT
TZOFFSETFROM:-0500
TZOFFSETTO:-0400
TZNAME:EDT
DTSTART:20260308T070000
END:DAYLIGHT
BEGIN:STANDARD
TZOFFSETFROM:-0400
TZOFFSETTO:-0500
TZNAME:EST
DTSTART:20261101T060000
END:STANDARD
END:VTIMEZONE
BEGIN:VEVENT
DTSTART;VALUE=DATE:20251116
DTEND;VALUE=DATE:20251117
DTSTAMP:20260424T190349
CREATED:20251017T160553Z
LAST-MODIFIED:20251017T160553Z
UID:383703-1763251200-1763337599@aaneok.org
SUMMARY:Area 57 State Sponsored District 70 Workshop
DESCRIPTION:
URL:https://aaneok.org/event/area-57-state-sponsored-district-70-workshop/
LOCATION:Elk City Original Group\, 113 Meadowridge Dr. Suite K\, Elk City\, OK\, 73644\, United States
CATEGORIES:Area 57 Events
ATTACH;FMTTYPE=application/pdf:https://aaneok.org/wp-content/uploads/2025/10/Area-57-District-70-Workshop.pdf
END:VEVENT
BEGIN:VEVENT
DTSTART;TZID=America/New_York:20251130T150000
DTEND;TZID=America/New_York:20251130T160000
DTSTAMP:20260424T190349
CREATED:20250821T191827Z
LAST-MODIFIED:20251126T162907Z
UID:383249-1764514800-1764518400@aaneok.org
SUMMARY:2026 OK. State Conference Committee Meeting Canceled for November 2025
DESCRIPTION:3pm IN PERSON- Mindset Behavioral Health 5563 S. Lewis Ave. #100\, Tulsa\, 74105 \nZoom- 2521537503 Password-Rule62 \nAnyone willing to help are welcome! \nhttps://aaneok.org/wp-content/uploads/2025/11/2026-State-Conference-Need-Volunteers.pdf
URL:https://aaneok.org/event/2026-ok-state-conference-committee-meeting-copy-copy-copy/
LOCATION:OK
CATEGORIES:Area 57 Events
END:VEVENT
END:VCALENDAR