BEGIN:VCALENDAR
VERSION:2.0
PRODID:-//NECS - ECPv6.15.20//NONSGML v1.0//EN
CALSCALE:GREGORIAN
METHOD:PUBLISH
X-WR-CALNAME:NECS
X-ORIGINAL-URL:https://aaneok.org
X-WR-CALDESC:Events for NECS
REFRESH-INTERVAL;VALUE=DURATION:PT1H
X-Robots-Tag:noindex
X-PUBLISHED-TTL:PT1H
BEGIN:VTIMEZONE
TZID:America/New_York
BEGIN:DAYLIGHT
TZOFFSETFROM:-0500
TZOFFSETTO:-0400
TZNAME:EDT
DTSTART:20240310T070000
END:DAYLIGHT
BEGIN:STANDARD
TZOFFSETFROM:-0400
TZOFFSETTO:-0500
TZNAME:EST
DTSTART:20241103T060000
END:STANDARD
BEGIN:DAYLIGHT
TZOFFSETFROM:-0500
TZOFFSETTO:-0400
TZNAME:EDT
DTSTART:20250309T070000
END:DAYLIGHT
BEGIN:STANDARD
TZOFFSETFROM:-0400
TZOFFSETTO:-0500
TZNAME:EST
DTSTART:20251102T060000
END:STANDARD
BEGIN:DAYLIGHT
TZOFFSETFROM:-0500
TZOFFSETTO:-0400
TZNAME:EDT
DTSTART:20260308T070000
END:DAYLIGHT
BEGIN:STANDARD
TZOFFSETFROM:-0400
TZOFFSETTO:-0500
TZNAME:EST
DTSTART:20261101T060000
END:STANDARD
END:VTIMEZONE
BEGIN:VEVENT
DTSTART;VALUE=DATE:20251207
DTEND;VALUE=DATE:20251208
DTSTAMP:20260424T122320
CREATED:20250424T212340Z
LAST-MODIFIED:20250424T212340Z
UID:382462-1765065600-1765151999@aaneok.org
SUMMARY:Area 57 Quarterly Meeting
DESCRIPTION:
URL:https://aaneok.org/event/area-57-quarterly-meeting-4/
LOCATION:Embassy Suites OKC\, 741 N Phillips\, OKC\, OK\, 73104\, United States
CATEGORIES:Area 57 Events
END:VEVENT
BEGIN:VEVENT
DTSTART;VALUE=DATE:20251213
DTEND;VALUE=DATE:20251214
DTSTAMP:20260424T122320
CREATED:20251212T193313Z
LAST-MODIFIED:20251212T193313Z
UID:383983-1765584000-1765670399@aaneok.org
SUMMARY:2026 OK State Conference Volunteers Scan Codes
DESCRIPTION:
URL:https://aaneok.org/event/2026-ok-state-conference-volunteers-scan-codes/
LOCATION:OK
CATEGORIES:Area 57 Events
ATTACH;FMTTYPE=application/pdf:https://aaneok.org/wp-content/uploads/2025/12/IMG_4516.pdf
END:VEVENT
BEGIN:VEVENT
DTSTART;TZID=America/New_York:20251220T153000
DTEND;TZID=America/New_York:20251220T170000
DTSTAMP:20260424T122320
CREATED:20251122T155058Z
LAST-MODIFIED:20251122T155058Z
UID:383916-1766244600-1766250000@aaneok.org
SUMMARY:Fun in the Fellowship 2026 Committee
DESCRIPTION:
URL:https://aaneok.org/event/fun-in-the-fellowship-2026-committee/
LOCATION:OK
CATEGORIES:Area 57 Events,District Events
ATTACH;FMTTYPE=application/pdf:https://aaneok.org/wp-content/uploads/2025/11/FIF-2026.pdf
END:VEVENT
BEGIN:VEVENT
DTSTART;TZID=America/New_York:20251227T120000
DTEND;TZID=America/New_York:20251227T235900
DTSTAMP:20260424T122320
CREATED:20251212T193448Z
LAST-MODIFIED:20251212T204506Z
UID:383989-1766836800-1766879940@aaneok.org
SUMMARY:2026 OK State Conference Volunteers Scan Codes
DESCRIPTION:
URL:https://aaneok.org/event/2026-ok-state-conference-volunteers-scan-codes-2-copy-4/
LOCATION:OK
CATEGORIES:Area 57 Events
END:VEVENT
END:VCALENDAR