BEGIN:VCALENDAR
VERSION:2.0
PRODID:-//NECS - ECPv6.15.20//NONSGML v1.0//EN
CALSCALE:GREGORIAN
METHOD:PUBLISH
X-ORIGINAL-URL:https://aaneok.org
X-WR-CALDESC:Events for NECS
REFRESH-INTERVAL;VALUE=DURATION:PT1H
X-Robots-Tag:noindex
X-PUBLISHED-TTL:PT1H
BEGIN:VTIMEZONE
TZID:America/New_York
BEGIN:DAYLIGHT
TZOFFSETFROM:-0500
TZOFFSETTO:-0400
TZNAME:EDT
DTSTART:20250309T070000
END:DAYLIGHT
BEGIN:STANDARD
TZOFFSETFROM:-0400
TZOFFSETTO:-0500
TZNAME:EST
DTSTART:20251102T060000
END:STANDARD
BEGIN:DAYLIGHT
TZOFFSETFROM:-0500
TZOFFSETTO:-0400
TZNAME:EDT
DTSTART:20260308T070000
END:DAYLIGHT
BEGIN:STANDARD
TZOFFSETFROM:-0400
TZOFFSETTO:-0500
TZNAME:EST
DTSTART:20261101T060000
END:STANDARD
BEGIN:DAYLIGHT
TZOFFSETFROM:-0500
TZOFFSETTO:-0400
TZNAME:EDT
DTSTART:20270314T070000
END:DAYLIGHT
BEGIN:STANDARD
TZOFFSETFROM:-0400
TZOFFSETTO:-0500
TZNAME:EST
DTSTART:20271107T060000
END:STANDARD
END:VTIMEZONE
BEGIN:VEVENT
DTSTART;VALUE=DATE:20260307
DTEND;VALUE=DATE:20260308
DTSTAMP:20260424T082201
CREATED:20251212T193648Z
LAST-MODIFIED:20260123T222721Z
UID:383994-1772841600-1772927999@aaneok.org
SUMMARY:2026 OK State Conference Volunteers Scan Codes
DESCRIPTION:
URL:https://aaneok.org/event/2026-ok-state-conference-volunteers-scan-codes-2-copy-8/
LOCATION:OK
CATEGORIES:Area 57 Events
ATTACH;FMTTYPE=application/pdf:https://aaneok.org/wp-content/uploads/2025/12/2026-State-Conference-Need-Volunteers-3.pdf
END:VEVENT
BEGIN:VEVENT
DTSTART;VALUE=DATE:20260311
DTEND;VALUE=DATE:20260312
DTSTAMP:20260424T082201
CREATED:20260107T150715Z
LAST-MODIFIED:20260107T150715Z
UID:384147-1773187200-1773273599@aaneok.org
SUMMARY:Save the Date 9/12/26 Fun in the Fellowship
DESCRIPTION:
URL:https://aaneok.org/event/save-the-date-9-12-26-fun-in-the-fellowship-3/
LOCATION:OK
CATEGORIES:Area 57 Events
ATTACH;FMTTYPE=image/jpeg:https://aaneok.org/wp-content/uploads/2026/01/Save-the-date-FIF-2026-2-scaled.jpg
END:VEVENT
BEGIN:VEVENT
DTSTART;VALUE=DATE:20260311
DTEND;VALUE=DATE:20260312
DTSTAMP:20260424T082201
CREATED:20260107T151548Z
LAST-MODIFIED:20260107T151548Z
UID:384171-1773187200-1773273599@aaneok.org
SUMMARY:Fun in Fellowship Raffle Items Needed
DESCRIPTION:
URL:https://aaneok.org/event/fun-in-fellowship-raffle-items-needed-3/
LOCATION:OK
CATEGORIES:Area 57 Events
ATTACH;FMTTYPE=image/jpeg:https://aaneok.org/wp-content/uploads/2026/01/Raffle-Flyer-2-scaled.jpg
END:VEVENT
BEGIN:VEVENT
DTSTART;TZID=America/New_York:20260311T190000
DTEND;TZID=America/New_York:20260311T200000
DTSTAMP:20260424T082201
CREATED:20260223T162204Z
LAST-MODIFIED:20260223T162204Z
UID:384643-1773255600-1773259200@aaneok.org
SUMMARY:Area 57 Sharing Event
DESCRIPTION:
URL:https://aaneok.org/event/area-57-sharing-event/
LOCATION:OK
CATEGORIES:Area 57 Events
ATTACH;FMTTYPE=application/pdf:https://aaneok.org/wp-content/uploads/2026/02/view-only-Sharing-session.pdf
END:VEVENT
BEGIN:VEVENT
DTSTART;VALUE=DATE:20260314
DTEND;VALUE=DATE:20260315
DTSTAMP:20260424T082201
CREATED:20251023T175758Z
LAST-MODIFIED:20260211T171330Z
UID:383748-1773446400-1773532799@aaneok.org
SUMMARY:Area 57 Corrections Conference
DESCRIPTION:
URL:https://aaneok.org/event/area-57-corrections-conference/
LOCATION:Western  Club\, 5207 N Western Ave\, OKC\, 73118\, United States
CATEGORIES:Area 57 Events
ATTACH;FMTTYPE=application/pdf:https://aaneok.org/wp-content/uploads/2025/10/2026-CorrectionsConference-Revised.pdf
END:VEVENT
BEGIN:VEVENT
DTSTART;VALUE=DATE:20260321
DTEND;VALUE=DATE:20260322
DTSTAMP:20260424T082201
CREATED:20251212T193706Z
LAST-MODIFIED:20260107T154909Z
UID:383995-1774051200-1774137599@aaneok.org
SUMMARY:2026 OK State Conference Volunteers Scan Codes
DESCRIPTION:
URL:https://aaneok.org/event/2026-ok-state-conference-volunteers-scan-codes-2-copy-7/
LOCATION:OK
CATEGORIES:Area 57 Events
ATTACH;FMTTYPE=application/pdf:https://aaneok.org/wp-content/uploads/2025/12/2026-State-Conference-Need-Volunteers-1.pdf
END:VEVENT
BEGIN:VEVENT
DTSTART;VALUE=DATE:20260321
DTEND;VALUE=DATE:20260322
DTSTAMP:20260424T082201
CREATED:20260115T170716Z
LAST-MODIFIED:20260115T170716Z
UID:384317-1774051200-1774137599@aaneok.org
SUMMARY:Fun in the Fellowship Online 3rd Saturday Ongoing Meeting
DESCRIPTION:
URL:https://aaneok.org/event/fun-in-the-fellowship-online-3rd-saturday-ongoing-meeting-3/
LOCATION:OK
CATEGORIES:Area 57 Events
ATTACH;FMTTYPE=application/pdf:https://aaneok.org/wp-content/uploads/2026/01/FIF-2026-third-sat-online-meeting-2.pdf
END:VEVENT
BEGIN:VEVENT
DTSTART;TZID=America/New_York:20260321T140000
DTEND;TZID=America/New_York:20260321T160000
DTSTAMP:20260424T082201
CREATED:20260220T144541Z
LAST-MODIFIED:20260223T160714Z
UID:384634-1774101600-1774108800@aaneok.org
SUMMARY:Area 57 State Sponsored Workshop Enid
DESCRIPTION:
URL:https://aaneok.org/event/area-57-state-sponsored-workshop-enid/
LOCATION:Maine Street Group/Enid\, 704 D W. Maine Street\, Enid\, OK\, 73701\, United States
CATEGORIES:Area 57 Events
ATTACH;FMTTYPE=application/pdf:https://aaneok.org/wp-content/uploads/2026/02/Area-57-St-Sponsored-Wks-Enid.pdf
END:VEVENT
BEGIN:VEVENT
DTSTART;VALUE=DATE:20260322
DTEND;VALUE=DATE:20260323
DTSTAMP:20260424T082201
CREATED:20251219T224800Z
LAST-MODIFIED:20251219T224800Z
UID:384066-1774137600-1774223999@aaneok.org
SUMMARY:Area 57 Quarterly Meeting
DESCRIPTION:
URL:https://aaneok.org/event/area-57-quarterly-meeting-5/
LOCATION:Embassy Suites OKC\, 741 N Phillips\, OKC\, OK\, 73104\, United States
CATEGORIES:Area 57 Events
END:VEVENT
BEGIN:VEVENT
DTSTART;TZID=America/New_York:20260329T150000
DTEND;TZID=America/New_York:20260329T160000
DTSTAMP:20260424T082201
CREATED:20250821T191918Z
LAST-MODIFIED:20250827T142109Z
UID:383253-1774796400-1774800000@aaneok.org
SUMMARY:2026 OK. State Conference Committee Meeting
DESCRIPTION:3pm IN PERSON- Mindset Behavioral Health 5563 S. Lewis Ave. #100\, Tulsa\, 74105 \nZoom- 2521537503 Password-Rule62 \nAnyone willing to help are welcome!
URL:https://aaneok.org/event/2026-ok-state-conference-committee-meeting-copy-copy-copy-copy-copy/
LOCATION:OK
CATEGORIES:Area 57 Events
END:VEVENT
END:VCALENDAR