BEGIN:VCALENDAR
VERSION:2.0
PRODID:-//NECS - ECPv6.15.20//NONSGML v1.0//EN
CALSCALE:GREGORIAN
METHOD:PUBLISH
X-ORIGINAL-URL:https://aaneok.org
X-WR-CALDESC:Events for NECS
REFRESH-INTERVAL;VALUE=DURATION:PT1H
X-Robots-Tag:noindex
X-PUBLISHED-TTL:PT1H
BEGIN:VTIMEZONE
TZID:America/New_York
BEGIN:DAYLIGHT
TZOFFSETFROM:-0500
TZOFFSETTO:-0400
TZNAME:EDT
DTSTART:20240310T070000
END:DAYLIGHT
BEGIN:STANDARD
TZOFFSETFROM:-0400
TZOFFSETTO:-0500
TZNAME:EST
DTSTART:20241103T060000
END:STANDARD
BEGIN:DAYLIGHT
TZOFFSETFROM:-0500
TZOFFSETTO:-0400
TZNAME:EDT
DTSTART:20250309T070000
END:DAYLIGHT
BEGIN:STANDARD
TZOFFSETFROM:-0400
TZOFFSETTO:-0500
TZNAME:EST
DTSTART:20251102T060000
END:STANDARD
BEGIN:DAYLIGHT
TZOFFSETFROM:-0500
TZOFFSETTO:-0400
TZNAME:EDT
DTSTART:20260308T070000
END:DAYLIGHT
BEGIN:STANDARD
TZOFFSETFROM:-0400
TZOFFSETTO:-0500
TZNAME:EST
DTSTART:20261101T060000
END:STANDARD
END:VTIMEZONE
BEGIN:VEVENT
DTSTART;TZID=America/New_York:20250607T090000
DTEND;TZID=America/New_York:20250607T120000
DTSTAMP:20260425T071542
CREATED:20250325T150935Z
LAST-MODIFIED:20250325T150935Z
UID:382283-1749286800-1749297600@aaneok.org
SUMMARY:Distict 30 Meeting
DESCRIPTION:
URL:https://aaneok.org/event/distict-30-meeting/
LOCATION:Before and After Group\, 1118 W Broadway\, Collinsville\, OK\, 74021\, United States
CATEGORIES:District Events
END:VEVENT
BEGIN:VEVENT
DTSTART;TZID=America/New_York:20250607T140000
DTEND;TZID=America/New_York:20250607T160000
DTSTAMP:20260425T071542
CREATED:20250606T135447Z
LAST-MODIFIED:20250607T153338Z
UID:382700-1749304800-1749312000@aaneok.org
SUMMARY:District 60 Quarterly Meeting CANCELLED DUE TO WEATHER
DESCRIPTION:CANCELLED DUE TO WEATHER
URL:https://aaneok.org/event/district-60-quarterly-meeting/
LOCATION:Cherokee Club/McAlester\, 100 N. A St.\, McAlester\, OK\, 74501\, United States
CATEGORIES:District Events
END:VEVENT
BEGIN:VEVENT
DTSTART;TZID=America/New_York:20250608T090000
DTEND;TZID=America/New_York:20250608T143000
DTSTAMP:20260425T071542
CREATED:20250410T145312Z
LAST-MODIFIED:20250410T145312Z
UID:382337-1749373200-1749393000@aaneok.org
SUMMARY:District 50 Meeting
DESCRIPTION:
URL:https://aaneok.org/event/district-50-meeting/
LOCATION:Maine Street Group/Enid\, 704 D W. Maine Street\, Enid\, OK\, 73701\, United States
CATEGORIES:District Events
ATTACH;FMTTYPE=application/pdf:https://aaneok.org/wp-content/uploads/2025/04/District-50-Meeting-June-8-2025.pdf
END:VEVENT
BEGIN:VEVENT
DTSTART;TZID=America/New_York:20250608T130000
DTEND;TZID=America/New_York:20250608T170000
DTSTAMP:20260425T071542
CREATED:20250423T174537Z
LAST-MODIFIED:20250423T174537Z
UID:382454-1749387600-1749402000@aaneok.org
SUMMARY:District 10 Quarterly Meeting
DESCRIPTION:
URL:https://aaneok.org/event/district-10-quarterly-meeting-2/
LOCATION:The Free Life Group\, 1872 N. Airport Dr.\, Shawnee\, OK\, 74804\, United States
CATEGORIES:District Events
END:VEVENT
BEGIN:VEVENT
DTSTART;TZID=America/New_York:20250608T133000
DTEND;TZID=America/New_York:20250608T170000
DTSTAMP:20260425T071542
CREATED:20250418T135205Z
LAST-MODIFIED:20250418T135205Z
UID:382420-1749389400-1749402000@aaneok.org
SUMMARY:District 20 Quarterly Meeting
DESCRIPTION:
URL:https://aaneok.org/event/district-20-quarterly-meeting/
LOCATION:North Meridian Group OKC\, 4407 NW 50th\, Oklahoma City\, OK\, 73112\, United States
CATEGORIES:District Events
END:VEVENT
BEGIN:VEVENT
DTSTART;VALUE=DATE:20250614
DTEND;VALUE=DATE:20250615
DTSTAMP:20260425T071542
CREATED:20241121T180505Z
LAST-MODIFIED:20241121T180505Z
UID:381609-1749859200-1749945599@aaneok.org
SUMMARY:District 40 Meeting
DESCRIPTION:
URL:https://aaneok.org/event/district-40-meeting-2/
LOCATION:Sapulpa Serenity Club\, 201 S. Oak Street\, Sapulpa\, OK\, 74066\, United States
CATEGORIES:District Events
ATTACH;FMTTYPE=application/pdf:https://aaneok.org/wp-content/uploads/2024/11/District-40.pdf
END:VEVENT
BEGIN:VEVENT
DTSTART;TZID=America/New_York:20250628T090000
DTEND;TZID=America/New_York:20250628T120000
DTSTAMP:20260425T071542
CREATED:20250602T163307Z
LAST-MODIFIED:20250602T163307Z
UID:382680-1751101200-1751112000@aaneok.org
SUMMARY:CPC\, PI & Technology Workshop
DESCRIPTION:
URL:https://aaneok.org/event/cpc-pi-technology-workshop/
LOCATION:Unanimity Club\, 8749 S Lewis Avenue\, Tulsa\, OK\, 74137\, United States
CATEGORIES:District Events
END:VEVENT
END:VCALENDAR