BEGIN:VCALENDAR
VERSION:2.0
PRODID:-//NECS - ECPv6.15.20//NONSGML v1.0//EN
CALSCALE:GREGORIAN
METHOD:PUBLISH
X-ORIGINAL-URL:https://aaneok.org
X-WR-CALDESC:Events for NECS
REFRESH-INTERVAL;VALUE=DURATION:PT1H
X-Robots-Tag:noindex
X-PUBLISHED-TTL:PT1H
BEGIN:VTIMEZONE
TZID:America/New_York
BEGIN:DAYLIGHT
TZOFFSETFROM:-0500
TZOFFSETTO:-0400
TZNAME:EDT
DTSTART:20240310T070000
END:DAYLIGHT
BEGIN:STANDARD
TZOFFSETFROM:-0400
TZOFFSETTO:-0500
TZNAME:EST
DTSTART:20241103T060000
END:STANDARD
BEGIN:DAYLIGHT
TZOFFSETFROM:-0500
TZOFFSETTO:-0400
TZNAME:EDT
DTSTART:20250309T070000
END:DAYLIGHT
BEGIN:STANDARD
TZOFFSETFROM:-0400
TZOFFSETTO:-0500
TZNAME:EST
DTSTART:20251102T060000
END:STANDARD
BEGIN:DAYLIGHT
TZOFFSETFROM:-0500
TZOFFSETTO:-0400
TZNAME:EDT
DTSTART:20260308T070000
END:DAYLIGHT
BEGIN:STANDARD
TZOFFSETFROM:-0400
TZOFFSETTO:-0500
TZNAME:EST
DTSTART:20261101T060000
END:STANDARD
END:VTIMEZONE
BEGIN:VEVENT
DTSTART;TZID=America/New_York:20251007T200000
DTEND;TZID=America/New_York:20251007T210000
DTSTAMP:20260424T133326
CREATED:20250911T181733Z
LAST-MODIFIED:20250911T181733Z
UID:383487-1759867200-1759870800@aaneok.org
SUMMARY:District 10 & 20 JSM October 2025
DESCRIPTION:
URL:https://aaneok.org/event/district-10-20-jsm-october-2025/
LOCATION:N. Meridan Group\, 4407 NW 50th\, OKC\, OK\, 73112\, United States
CATEGORIES:District Events
ATTACH;FMTTYPE=application/pdf:https://aaneok.org/wp-content/uploads/2025/09/Districts-10-20-Joint-Service-10-7-2025.pdf
END:VEVENT
BEGIN:VEVENT
DTSTART;TZID=America/New_York:20251019T140000
DTEND;TZID=America/New_York:20251019T170000
DTSTAMP:20260424T133326
CREATED:20251004T162016Z
LAST-MODIFIED:20251008T141105Z
UID:383604-1760882400-1760893200@aaneok.org
SUMMARY:District 80 CPC and PI Workshop
DESCRIPTION:
URL:https://aaneok.org/event/district-60-cpc-and-pi-workshop/
LOCATION:Tradition Two Group\, 62 Broadlawn Village\, Ardmore\, 73401\, United States
CATEGORIES:District Events
ATTACH;FMTTYPE=application/pdf:https://aaneok.org/wp-content/uploads/2025/10/District-80-CPC-and-PI-Workshop.pdf
END:VEVENT
END:VCALENDAR