BEGIN:VCALENDAR
VERSION:2.0
PRODID:-//NECS - ECPv6.15.20//NONSGML v1.0//EN
CALSCALE:GREGORIAN
METHOD:PUBLISH
X-ORIGINAL-URL:https://aaneok.org
X-WR-CALDESC:Events for NECS
REFRESH-INTERVAL;VALUE=DURATION:PT1H
X-Robots-Tag:noindex
X-PUBLISHED-TTL:PT1H
BEGIN:VTIMEZONE
TZID:America/New_York
BEGIN:DAYLIGHT
TZOFFSETFROM:-0500
TZOFFSETTO:-0400
TZNAME:EDT
DTSTART:20240310T070000
END:DAYLIGHT
BEGIN:STANDARD
TZOFFSETFROM:-0400
TZOFFSETTO:-0500
TZNAME:EST
DTSTART:20241103T060000
END:STANDARD
BEGIN:DAYLIGHT
TZOFFSETFROM:-0500
TZOFFSETTO:-0400
TZNAME:EDT
DTSTART:20250309T070000
END:DAYLIGHT
BEGIN:STANDARD
TZOFFSETFROM:-0400
TZOFFSETTO:-0500
TZNAME:EST
DTSTART:20251102T060000
END:STANDARD
BEGIN:DAYLIGHT
TZOFFSETFROM:-0500
TZOFFSETTO:-0400
TZNAME:EDT
DTSTART:20260308T070000
END:DAYLIGHT
BEGIN:STANDARD
TZOFFSETFROM:-0400
TZOFFSETTO:-0500
TZNAME:EST
DTSTART:20261101T060000
END:STANDARD
END:VTIMEZONE
BEGIN:VEVENT
DTSTART;VALUE=DATE:20251202
DTEND;VALUE=DATE:20251203
DTSTAMP:20260424T113138
CREATED:20251111T223646Z
LAST-MODIFIED:20251111T223646Z
UID:383843-1764633600-1764719999@aaneok.org
SUMMARY:Districts 10 & 20 Joint Service Meeting
DESCRIPTION:
URL:https://aaneok.org/event/districts-10-20-joint-service-meeting-3/
LOCATION:N. Meridan Group\, 4407 NW 50th\, OKC\, OK\, 73112\, United States
CATEGORIES:District Events
ATTACH;FMTTYPE=application/pdf:https://aaneok.org/wp-content/uploads/2025/11/Untitled-design-23.pdf
END:VEVENT
BEGIN:VEVENT
DTSTART;VALUE=DATE:20251211
DTEND;VALUE=DATE:20251212
DTSTAMP:20260424T113138
CREATED:20251204T150726Z
LAST-MODIFIED:20251204T150726Z
UID:383957-1765411200-1765497599@aaneok.org
SUMMARY:Joint Service District 30/40 Meeting
DESCRIPTION:
URL:https://aaneok.org/event/joint-service-district-30-40-meeting/
LOCATION:Unanimity Club\, 8749 S Lewis Avenue\, Tulsa\, OK\, 74137\, United States
CATEGORIES:District Events
ATTACH;FMTTYPE=application/pdf:https://aaneok.org/wp-content/uploads/2025/12/Joint-Service-December-25.pdf
END:VEVENT
BEGIN:VEVENT
DTSTART;TZID=America/New_York:20251220T153000
DTEND;TZID=America/New_York:20251220T170000
DTSTAMP:20260424T113138
CREATED:20251122T155058Z
LAST-MODIFIED:20251122T155058Z
UID:383916-1766244600-1766250000@aaneok.org
SUMMARY:Fun in the Fellowship 2026 Committee
DESCRIPTION:
URL:https://aaneok.org/event/fun-in-the-fellowship-2026-committee/
CATEGORIES:Area 57 Events,District Events
ATTACH;FMTTYPE=application/pdf:https://aaneok.org/wp-content/uploads/2025/11/FIF-2026.pdf
END:VEVENT
END:VCALENDAR