BEGIN:VCALENDAR
VERSION:2.0
PRODID:-//NECS - ECPv6.15.20//NONSGML v1.0//EN
CALSCALE:GREGORIAN
METHOD:PUBLISH
X-WR-CALNAME:NECS
X-ORIGINAL-URL:https://aaneok.org
X-WR-CALDESC:Events for NECS
REFRESH-INTERVAL;VALUE=DURATION:PT1H
X-Robots-Tag:noindex
X-PUBLISHED-TTL:PT1H
BEGIN:VTIMEZONE
TZID:America/New_York
BEGIN:DAYLIGHT
TZOFFSETFROM:-0500
TZOFFSETTO:-0400
TZNAME:EDT
DTSTART:20250309T070000
END:DAYLIGHT
BEGIN:STANDARD
TZOFFSETFROM:-0400
TZOFFSETTO:-0500
TZNAME:EST
DTSTART:20251102T060000
END:STANDARD
BEGIN:DAYLIGHT
TZOFFSETFROM:-0500
TZOFFSETTO:-0400
TZNAME:EDT
DTSTART:20260308T070000
END:DAYLIGHT
BEGIN:STANDARD
TZOFFSETFROM:-0400
TZOFFSETTO:-0500
TZNAME:EST
DTSTART:20261101T060000
END:STANDARD
BEGIN:DAYLIGHT
TZOFFSETFROM:-0500
TZOFFSETTO:-0400
TZNAME:EDT
DTSTART:20270314T070000
END:DAYLIGHT
BEGIN:STANDARD
TZOFFSETFROM:-0400
TZOFFSETTO:-0500
TZNAME:EST
DTSTART:20271107T060000
END:STANDARD
END:VTIMEZONE
BEGIN:VEVENT
DTSTART;TZID=America/New_York:20260105T080000
DTEND;TZID=America/New_York:20260105T170000
DTSTAMP:20260424T101927
CREATED:20260105T213624Z
LAST-MODIFIED:20260105T213624Z
UID:384116-1767600000-1767632400@aaneok.org
SUMMARY:District 30 Winter Conference Volunteer Scan Code
DESCRIPTION:
URL:https://aaneok.org/event/district-30-winter-conference-volunteer-scan-code/
CATEGORIES:District Events
ATTACH;FMTTYPE=application/pdf:https://aaneok.org/wp-content/uploads/2026/01/Winter-Con-Volunteer20260105152837.pdf
END:VEVENT
BEGIN:VEVENT
DTSTART;TZID=America/New_York:20260106T200000
DTEND;TZID=America/New_York:20260106T210000
DTSTAMP:20260424T101927
CREATED:20251230T221837Z
LAST-MODIFIED:20251230T221837Z
UID:384090-1767729600-1767733200@aaneok.org
SUMMARY:District 10&20 Joint Service Meeting
DESCRIPTION:
URL:https://aaneok.org/event/district-1020-joint-service-meeting/
LOCATION:North Meridian Group OKC\, 4407 NW 50th\, Oklahoma City\, OK\, 73112\, United States
CATEGORIES:District Events
ATTACH;FMTTYPE=application/pdf:https://aaneok.org/wp-content/uploads/2025/12/District-12-20-JSM.pdf
END:VEVENT
BEGIN:VEVENT
DTSTART;TZID=America/New_York:20260108T190000
DTEND;TZID=America/New_York:20260108T200000
DTSTAMP:20260424T101927
CREATED:20260105T190329Z
LAST-MODIFIED:20260107T145921Z
UID:384112-1767898800-1767902400@aaneok.org
SUMMARY:District 30&40 Joint Service Meeting
DESCRIPTION:
URL:https://aaneok.org/event/district-3040-joint-service-meeting-4/
LOCATION:Unanimity Club\, 8749 S Lewis Avenue\, Tulsa\, OK\, 74137\, United States
CATEGORIES:District Events
ATTACH;FMTTYPE=application/pdf:https://aaneok.org/wp-content/uploads/2026/01/Joint-Service-January-26.pdf
END:VEVENT
BEGIN:VEVENT
DTSTART;VALUE=DATE:20260130
DTEND;VALUE=DATE:20260202
DTSTAMP:20260424T101927
CREATED:20250724T214305Z
LAST-MODIFIED:20250724T214305Z
UID:383029-1769731200-1769990399@aaneok.org
SUMMARY:District 30 Winter Conference
DESCRIPTION:
URL:https://aaneok.org/event/district-30-winter-conference-2/
LOCATION:Claremore Conference Center\, 1400 W. Country Club Road\, Claremore\, OK\, 74017\, United States
CATEGORIES:District Events
ATTACH;FMTTYPE=image/jpeg:https://aaneok.org/wp-content/uploads/2025/07/IMG_7096.jpg
END:VEVENT
BEGIN:VEVENT
DTSTART;VALUE=DATE:20260130
DTEND;VALUE=DATE:20260202
DTSTAMP:20260424T101927
CREATED:20260112T183849Z
LAST-MODIFIED:20260112T183849Z
UID:384238-1769731200-1769990399@aaneok.org
SUMMARY:District 30 Winter Conference Schedule
DESCRIPTION:
URL:https://aaneok.org/event/district-30-winter-conference-schedule/
LOCATION:Claremore Conference Center\, 1400 W. Country Club Road\, Claremore\, OK\, 74017\, United States
CATEGORIES:District Events
ATTACH;FMTTYPE=application/pdf:https://aaneok.org/wp-content/uploads/2026/01/Winter320260112123012.pdf
END:VEVENT
END:VCALENDAR