BEGIN:VCALENDAR
VERSION:2.0
PRODID:-//NECS - ECPv6.15.20//NONSGML v1.0//EN
CALSCALE:GREGORIAN
METHOD:PUBLISH
X-WR-CALNAME:NECS
X-ORIGINAL-URL:https://aaneok.org
X-WR-CALDESC:Events for NECS
REFRESH-INTERVAL;VALUE=DURATION:PT1H
X-Robots-Tag:noindex
X-PUBLISHED-TTL:PT1H
BEGIN:VTIMEZONE
TZID:America/New_York
BEGIN:DAYLIGHT
TZOFFSETFROM:-0500
TZOFFSETTO:-0400
TZNAME:EDT
DTSTART:20250309T070000
END:DAYLIGHT
BEGIN:STANDARD
TZOFFSETFROM:-0400
TZOFFSETTO:-0500
TZNAME:EST
DTSTART:20251102T060000
END:STANDARD
BEGIN:DAYLIGHT
TZOFFSETFROM:-0500
TZOFFSETTO:-0400
TZNAME:EDT
DTSTART:20260308T070000
END:DAYLIGHT
BEGIN:STANDARD
TZOFFSETFROM:-0400
TZOFFSETTO:-0500
TZNAME:EST
DTSTART:20261101T060000
END:STANDARD
BEGIN:DAYLIGHT
TZOFFSETFROM:-0500
TZOFFSETTO:-0400
TZNAME:EDT
DTSTART:20270314T070000
END:DAYLIGHT
BEGIN:STANDARD
TZOFFSETFROM:-0400
TZOFFSETTO:-0500
TZNAME:EST
DTSTART:20271107T060000
END:STANDARD
END:VTIMEZONE
BEGIN:VEVENT
DTSTART;VALUE=DATE:20260308
DTEND;VALUE=DATE:20260309
DTSTAMP:20260424T091751
CREATED:20260114T215104Z
LAST-MODIFIED:20260114T215104Z
UID:384297-1772928000-1773014399@aaneok.org
SUMMARY:District 20 Quarterly Meeting
DESCRIPTION:
URL:https://aaneok.org/event/district-20-quarterly-meeting-3/
LOCATION:Western  Club\, 5207 N Western Ave\, OKC\, 73118\, United States
CATEGORIES:District Events
ATTACH;FMTTYPE=image/png:https://aaneok.org/wp-content/uploads/2026/01/Dist-20-Meeting-3-8-2026-Western-Club.png
END:VEVENT
BEGIN:VEVENT
DTSTART;VALUE=DATE:20260308
DTEND;VALUE=DATE:20260309
DTSTAMP:20260424T091751
CREATED:20260211T152254Z
LAST-MODIFIED:20260211T152254Z
UID:384569-1772928000-1773014399@aaneok.org
SUMMARY:District 50 Quarterly Meeting
DESCRIPTION:
URL:https://aaneok.org/event/district-50-quarterly-meeting-2/
LOCATION:NOAL Group\, 802 9th Street\, Woodward\, OK\, 73801\, United States
CATEGORIES:District Events
ATTACH;FMTTYPE=application/pdf:https://aaneok.org/wp-content/uploads/2026/02/District-50-Quarterly-Meeting.pdf
END:VEVENT
END:VCALENDAR