BEGIN:VCALENDAR
VERSION:2.0
PRODID:-//NECS - ECPv6.15.20//NONSGML v1.0//EN
CALSCALE:GREGORIAN
METHOD:PUBLISH
X-ORIGINAL-URL:https://aaneok.org
X-WR-CALDESC:Events for NECS
REFRESH-INTERVAL;VALUE=DURATION:PT1H
X-Robots-Tag:noindex
X-PUBLISHED-TTL:PT1H
BEGIN:VTIMEZONE
TZID:America/New_York
BEGIN:DAYLIGHT
TZOFFSETFROM:-0500
TZOFFSETTO:-0400
TZNAME:EDT
DTSTART:20250309T070000
END:DAYLIGHT
BEGIN:STANDARD
TZOFFSETFROM:-0400
TZOFFSETTO:-0500
TZNAME:EST
DTSTART:20251102T060000
END:STANDARD
BEGIN:DAYLIGHT
TZOFFSETFROM:-0500
TZOFFSETTO:-0400
TZNAME:EDT
DTSTART:20260308T070000
END:DAYLIGHT
BEGIN:STANDARD
TZOFFSETFROM:-0400
TZOFFSETTO:-0500
TZNAME:EST
DTSTART:20261101T060000
END:STANDARD
BEGIN:DAYLIGHT
TZOFFSETFROM:-0500
TZOFFSETTO:-0400
TZNAME:EDT
DTSTART:20270314T070000
END:DAYLIGHT
BEGIN:STANDARD
TZOFFSETFROM:-0400
TZOFFSETTO:-0500
TZNAME:EST
DTSTART:20271107T060000
END:STANDARD
END:VTIMEZONE
BEGIN:VEVENT
DTSTART;TZID=America/New_York:20260409T190000
DTEND;TZID=America/New_York:20260409T200000
DTSTAMP:20260425T124948
CREATED:20260407T135457Z
LAST-MODIFIED:20260407T135457Z
UID:384854-1775761200-1775764800@aaneok.org
SUMMARY:District 30-40 Joint Service Meeting
DESCRIPTION:
URL:https://aaneok.org/event/district-30-40-joint-service-meeting-5/
LOCATION:Unanimity Club\, 8749 S Lewis Avenue\, Tulsa\, OK\, 74137\, United States
CATEGORIES:District Events
ATTACH;FMTTYPE=image/png:https://aaneok.org/wp-content/uploads/2026/04/Joint-Service-April.png
END:VEVENT
BEGIN:VEVENT
DTSTART;VALUE=DATE:20260505
DTEND;VALUE=DATE:20260506
DTSTAMP:20260425T124948
CREATED:20260204T183844Z
LAST-MODIFIED:20260204T183844Z
UID:384520-1777939200-1778025599@aaneok.org
SUMMARY:District 30 Join Us In Service 75th OK State Conference
DESCRIPTION:
URL:https://aaneok.org/event/district-30-join-us-in-service-75th-ok-state-conference-4/
LOCATION:OK
CATEGORIES:District Events
ATTACH;FMTTYPE=application/pdf:https://aaneok.org/wp-content/uploads/2026/02/d30-correctfinal-3.pdf
END:VEVENT
BEGIN:VEVENT
DTSTART;TZID=America/New_York:20260505T200000
DTEND;TZID=America/New_York:20260505T210000
DTSTAMP:20260425T124948
CREATED:20260421T200035Z
LAST-MODIFIED:20260421T200035Z
UID:384936-1778011200-1778014800@aaneok.org
SUMMARY:District 10 & 20 Joint Service Meeting
DESCRIPTION:
URL:https://aaneok.org/event/district-10-20-joint-service-meeting-4/
LOCATION:N Meridian Group\, 4407 NW 50th Street\, OKC\, 73111\, United States
CATEGORIES:District Events
ATTACH;FMTTYPE=application/pdf:https://aaneok.org/wp-content/uploads/2026/04/Untitled-design-29.pdf
END:VEVENT
BEGIN:VEVENT
DTSTART;TZID=America/New_York:20260530T090000
DTEND;TZID=America/New_York:20260530T120000
DTSTAMP:20260425T124948
CREATED:20260318T195344Z
LAST-MODIFIED:20260318T195344Z
UID:384731-1780131600-1780142400@aaneok.org
SUMMARY:District 30 Quarterly Meeting
DESCRIPTION:
URL:https://aaneok.org/event/district-30-quarterly-meeting-3/
LOCATION:Bottoms Up Group/Tahlequah\, 20443 East Allen Road\, Tahlequah\, OK\, 74464\, United States
CATEGORIES:District Events
ATTACH;FMTTYPE=application/pdf:https://aaneok.org/wp-content/uploads/2026/03/May-30th-District-30-Meeting-1.pdf
END:VEVENT
BEGIN:VEVENT
DTSTART;TZID=America/New_York:20260530T090000
DTEND;TZID=America/New_York:20260530T120000
DTSTAMP:20260425T124948
CREATED:20260318T201037Z
LAST-MODIFIED:20260422T164801Z
UID:384735-1780131600-1780142400@aaneok.org
SUMMARY:District 40 Quarterly Meeting
DESCRIPTION:
URL:https://aaneok.org/event/district-40-quarterly-meeting-4/
LOCATION:9515 E. 51st St.\, Tulsa\, Ok. 74145\, 9515 E 51st St\, Tulsa\, OK\, 74145\, United States
CATEGORIES:District Events
ATTACH;FMTTYPE=application/pdf:https://aaneok.org/wp-content/uploads/2026/03/Updated-Dist-40-May-2026-Quarterly.pdf
END:VEVENT
END:VCALENDAR