BEGIN:VCALENDAR
VERSION:2.0
PRODID:-//NECS - ECPv6.15.20//NONSGML v1.0//EN
CALSCALE:GREGORIAN
METHOD:PUBLISH
X-WR-CALNAME:NECS
X-ORIGINAL-URL:https://aaneok.org
X-WR-CALDESC:Events for NECS
REFRESH-INTERVAL;VALUE=DURATION:PT1H
X-Robots-Tag:noindex
X-PUBLISHED-TTL:PT1H
BEGIN:VTIMEZONE
TZID:America/New_York
BEGIN:DAYLIGHT
TZOFFSETFROM:-0500
TZOFFSETTO:-0400
TZNAME:EDT
DTSTART:20240310T070000
END:DAYLIGHT
BEGIN:STANDARD
TZOFFSETFROM:-0400
TZOFFSETTO:-0500
TZNAME:EST
DTSTART:20241103T060000
END:STANDARD
BEGIN:DAYLIGHT
TZOFFSETFROM:-0500
TZOFFSETTO:-0400
TZNAME:EDT
DTSTART:20250309T070000
END:DAYLIGHT
BEGIN:STANDARD
TZOFFSETFROM:-0400
TZOFFSETTO:-0500
TZNAME:EST
DTSTART:20251102T060000
END:STANDARD
BEGIN:DAYLIGHT
TZOFFSETFROM:-0500
TZOFFSETTO:-0400
TZNAME:EDT
DTSTART:20260308T070000
END:DAYLIGHT
BEGIN:STANDARD
TZOFFSETFROM:-0400
TZOFFSETTO:-0500
TZNAME:EST
DTSTART:20261101T060000
END:STANDARD
END:VTIMEZONE
BEGIN:VEVENT
DTSTART;VALUE=DATE:20250905
DTEND;VALUE=DATE:20250908
DTSTAMP:20260424T213152
CREATED:20250117T211946Z
LAST-MODIFIED:20250117T211946Z
UID:381866-1757030400-1757289599@aaneok.org
SUMMARY:2025 Bridging the Gap Workshop/Ortario CA
DESCRIPTION:
URL:https://aaneok.org/event/2025-bridging-the-gap-workshop-ortario-ca/
LOCATION:Sheraton Ontario Airport Hotel\, 429 N. Vineyard Ave.\, Ontario\, CA\, 91764\, United States
CATEGORIES:General Events
ATTACH;FMTTYPE=application/pdf:https://aaneok.org/wp-content/uploads/2025/01/btgww25flyer.pdf
END:VEVENT
BEGIN:VEVENT
DTSTART;TZID=America/New_York:20250907T120000
DTEND;TZID=America/New_York:20250907T150000
DTSTAMP:20260424T213152
CREATED:20250905T151659Z
LAST-MODIFIED:20250905T151659Z
UID:383432-1757246400-1757257200@aaneok.org
SUMMARY:KickBall
DESCRIPTION:
URL:https://aaneok.org/event/kickball/
LOCATION:Chandler Park\, 6500 W. 21st St.\, tulsa\, 74107\, United States
CATEGORIES:General Events
ATTACH;FMTTYPE=application/pdf:https://aaneok.org/wp-content/uploads/2025/09/Kickball.pdf
END:VEVENT
BEGIN:VEVENT
DTSTART;VALUE=DATE:20250912
DTEND;VALUE=DATE:20250915
DTSTAMP:20260424T213152
CREATED:20250626T144840Z
LAST-MODIFIED:20250626T144840Z
UID:382873-1757635200-1757894399@aaneok.org
SUMMARY:Tri-Country 38th Conference/Pontiac\,MI
DESCRIPTION:
URL:https://aaneok.org/event/tri-country-38th-conference-pontiacmi/
LOCATION:Auburn Hills Marriott Pontiac\,MI\, 3600 Centerpointe Parkway\, Pontiac\, MI\, 48341\, United States
CATEGORIES:General Events
ATTACH;FMTTYPE=application/pdf:https://aaneok.org/wp-content/uploads/2025/06/Tri-County-38th-2025-Conference.pdf
END:VEVENT
BEGIN:VEVENT
DTSTART;TZID=America/New_York:20250919T150000
DTEND;TZID=America/New_York:20250921T110000
DTSTAMP:20260424T213152
CREATED:20250211T155950Z
LAST-MODIFIED:20250807T173904Z
UID:381987-1758294000-1758452400@aaneok.org
SUMMARY:Gratitude Getaway 2025
DESCRIPTION:
URL:https://aaneok.org/event/gratitude-getaway-2025/
LOCATION:Camp Christian\, 275 Camp Christian Lane\, Choteau\, OK\, 74337\, United States
CATEGORIES:General Events
ATTACH;FMTTYPE=application/pdf:https://aaneok.org/wp-content/uploads/2025/02/2025-GG-Flyer-Template.pdf
END:VEVENT
END:VCALENDAR