BEGIN:VCALENDAR
VERSION:2.0
PRODID:-//NECS - ECPv6.15.20//NONSGML v1.0//EN
CALSCALE:GREGORIAN
METHOD:PUBLISH
X-WR-CALNAME:NECS
X-ORIGINAL-URL:https://aaneok.org
X-WR-CALDESC:Events for NECS
REFRESH-INTERVAL;VALUE=DURATION:PT1H
X-Robots-Tag:noindex
X-PUBLISHED-TTL:PT1H
BEGIN:VTIMEZONE
TZID:America/New_York
BEGIN:DAYLIGHT
TZOFFSETFROM:-0500
TZOFFSETTO:-0400
TZNAME:EDT
DTSTART:20240310T070000
END:DAYLIGHT
BEGIN:STANDARD
TZOFFSETFROM:-0400
TZOFFSETTO:-0500
TZNAME:EST
DTSTART:20241103T060000
END:STANDARD
BEGIN:DAYLIGHT
TZOFFSETFROM:-0500
TZOFFSETTO:-0400
TZNAME:EDT
DTSTART:20250309T070000
END:DAYLIGHT
BEGIN:STANDARD
TZOFFSETFROM:-0400
TZOFFSETTO:-0500
TZNAME:EST
DTSTART:20251102T060000
END:STANDARD
BEGIN:DAYLIGHT
TZOFFSETFROM:-0500
TZOFFSETTO:-0400
TZNAME:EDT
DTSTART:20260308T070000
END:DAYLIGHT
BEGIN:STANDARD
TZOFFSETFROM:-0400
TZOFFSETTO:-0500
TZNAME:EST
DTSTART:20261101T060000
END:STANDARD
END:VTIMEZONE
BEGIN:VEVENT
DTSTART;VALUE=DATE:20251003
DTEND;VALUE=DATE:20251006
DTSTAMP:20260424T202144
CREATED:20250612T184948Z
LAST-MODIFIED:20250612T192037Z
UID:382758-1759449600-1759708799@aaneok.org
SUMMARY:2025 Osage Hills Roundup
DESCRIPTION:
URL:https://aaneok.org/event/2025-osage-hills-roundup/
LOCATION:Osage Hills State Park\, 2131 Osage hills state Park Rd\, Pawhuska\, OK\, 74056\, United States
CATEGORIES:General Events
ATTACH;FMTTYPE=application/pdf:https://aaneok.org/wp-content/uploads/2025/06/ohru_2025_flyer_not_the_caboose_v2.pdf
END:VEVENT
BEGIN:VEVENT
DTSTART;VALUE=DATE:20251017
DTEND;VALUE=DATE:20251020
DTSTAMP:20260424T202144
CREATED:20250319T184609Z
LAST-MODIFIED:20250319T184609Z
UID:382259-1760659200-1760918399@aaneok.org
SUMMARY:2025 Fall Serenity Conference/AA/ALANON
DESCRIPTION:
URL:https://aaneok.org/event/2025-fall-serenity-conference-aa-alanon/
LOCATION:The Lodge at Sequoya State Park\, 19808 Park 10\, Hulbert\, OK\, 74441\, United States
CATEGORIES:General Events
ATTACH;FMTTYPE=application/pdf:https://aaneok.org/wp-content/uploads/2025/03/2025-Oklahoma-Fall-Serenity-Conference-Flyer.pdf
END:VEVENT
BEGIN:VEVENT
DTSTART;VALUE=DATE:20251025
DTEND;VALUE=DATE:20251026
DTSTAMP:20260424T202144
CREATED:20251009T175913Z
LAST-MODIFIED:20251009T175913Z
UID:383660-1761350400-1761436799@aaneok.org
SUMMARY:Bring it to Tulsa/BA Action Women
DESCRIPTION:
URL:https://aaneok.org/event/bring-it-to-tulsa-ba-action-women/
LOCATION:St. Patrick’s Episcopal Church\, 4250 W. Houston St.\, Broken Arrow\, 74012\, United States
CATEGORIES:General Events
ATTACH;FMTTYPE=image/jpeg:https://aaneok.org/wp-content/uploads/2025/10/20251007_163012-1-scaled.jpg
END:VEVENT
BEGIN:VEVENT
DTSTART;TZID=America/New_York:20251031T150000
DTEND;TZID=America/New_York:20251031T150000
DTSTAMP:20260424T202144
CREATED:20251006T161416Z
LAST-MODIFIED:20251006T161416Z
UID:383621-1761922800-1761922800@aaneok.org
SUMMARY:Border City Roundup
DESCRIPTION:
URL:https://aaneok.org/event/border-city-roundup-2/
LOCATION:The Bricks\, 101 N 11th St
CATEGORIES:General Events
ATTACH;FMTTYPE=application/pdf:https://aaneok.org/wp-content/uploads/2025/10/2025-BCR-Flyer_Updated-9-25-25-1.pdf
END:VEVENT
END:VCALENDAR