BEGIN:VCALENDAR
VERSION:2.0
PRODID:-//NECS - ECPv6.15.20//NONSGML v1.0//EN
CALSCALE:GREGORIAN
METHOD:PUBLISH
X-ORIGINAL-URL:https://aaneok.org
X-WR-CALDESC:Events for NECS
REFRESH-INTERVAL;VALUE=DURATION:PT1H
X-Robots-Tag:noindex
X-PUBLISHED-TTL:PT1H
BEGIN:VTIMEZONE
TZID:America/New_York
BEGIN:DAYLIGHT
TZOFFSETFROM:-0500
TZOFFSETTO:-0400
TZNAME:EDT
DTSTART:20240310T070000
END:DAYLIGHT
BEGIN:STANDARD
TZOFFSETFROM:-0400
TZOFFSETTO:-0500
TZNAME:EST
DTSTART:20241103T060000
END:STANDARD
BEGIN:DAYLIGHT
TZOFFSETFROM:-0500
TZOFFSETTO:-0400
TZNAME:EDT
DTSTART:20250309T070000
END:DAYLIGHT
BEGIN:STANDARD
TZOFFSETFROM:-0400
TZOFFSETTO:-0500
TZNAME:EST
DTSTART:20251102T060000
END:STANDARD
BEGIN:DAYLIGHT
TZOFFSETFROM:-0500
TZOFFSETTO:-0400
TZNAME:EDT
DTSTART:20260308T070000
END:DAYLIGHT
BEGIN:STANDARD
TZOFFSETFROM:-0400
TZOFFSETTO:-0500
TZNAME:EST
DTSTART:20261101T060000
END:STANDARD
BEGIN:DAYLIGHT
TZOFFSETFROM:-0500
TZOFFSETTO:-0400
TZNAME:EDT
DTSTART:20270314T070000
END:DAYLIGHT
BEGIN:STANDARD
TZOFFSETFROM:-0400
TZOFFSETTO:-0500
TZNAME:EST
DTSTART:20271107T060000
END:STANDARD
END:VTIMEZONE
BEGIN:VEVENT
DTSTART;TZID=America/New_York:20251114T080000
DTEND;TZID=America/New_York:20251115T170000
DTSTAMP:20260425T101605
CREATED:20251021T205451Z
LAST-MODIFIED:20251021T205451Z
UID:383724-1763107200-1763226000@aaneok.org
SUMMARY:All Nations Hotel Cancellation Form
DESCRIPTION:
URL:https://aaneok.org/event/all-nations-hotel-cancellation-form/
LOCATION:OK
CATEGORIES:General Events
ATTACH;FMTTYPE=application/pdf:https://aaneok.org/wp-content/uploads/2025/10/All-Nations-Rally-Hotel-Cancellations.pdf
END:VEVENT
BEGIN:VEVENT
DTSTART;TZID=America/New_York:20251114T170000
DTEND;TZID=America/New_York:20251114T170000
DTSTAMP:20260425T101605
CREATED:20250911T190812Z
LAST-MODIFIED:20250911T191110Z
UID:383494-1763139600-1763139600@aaneok.org
SUMMARY:OIAA 2nd ONLINE International Convention
DESCRIPTION:
URL:https://aaneok.org/event/oiaa-2nd-online-international-convention/
LOCATION:Online
CATEGORIES:General Events
ATTACH;FMTTYPE=image/jpeg:https://aaneok.org/wp-content/uploads/2025/09/English-Flyer-OIAA2025-Landscape-1.jpg
END:VEVENT
BEGIN:VEVENT
DTSTART;VALUE=DATE:20251115
DTEND;VALUE=DATE:20251116
DTSTAMP:20260425T101605
CREATED:20251008T173615Z
LAST-MODIFIED:20251008T173615Z
UID:383643-1763164800-1763251199@aaneok.org
SUMMARY:Fun in the Fellowship Committee 2026
DESCRIPTION:
URL:https://aaneok.org/event/fun-in-the-fellowship-committee-2026-2/
LOCATION:OK
CATEGORIES:General Events
ATTACH;FMTTYPE=application/pdf:https://aaneok.org/wp-content/uploads/2025/10/FIF-Committee-2026.pdf
END:VEVENT
BEGIN:VEVENT
DTSTART;TZID=America/New_York:20251121T150000
DTEND;TZID=America/New_York:20251123T120000
DTSTAMP:20260425T101605
CREATED:20250224T204849Z
LAST-MODIFIED:20250224T204849Z
UID:382086-1763737200-1763899200@aaneok.org
SUMMARY:Red River Valley Rally
DESCRIPTION:
URL:https://aaneok.org/event/red-river-valley-rally/
LOCATION:Lake Murray Lodge And Resort\, 3323 Lodge Road
CATEGORIES:General Events
ATTACH;FMTTYPE=image/png:https://aaneok.org/wp-content/uploads/2025/02/Red-River-Rally.png
END:VEVENT
BEGIN:VEVENT
DTSTART;VALUE=DATE:20251206
DTEND;VALUE=DATE:20251207
DTSTAMP:20260425T101605
CREATED:20250925T172153Z
LAST-MODIFIED:20250925T172153Z
UID:383566-1764979200-1765065599@aaneok.org
SUMMARY:District 80 Archives
DESCRIPTION:
URL:https://aaneok.org/event/district-80-archives/
LOCATION:Ardmore Group\, 935 Grand Ave.\, Ardmore\, OK\, 73401\, United States
CATEGORIES:General Events
ATTACH;FMTTYPE=application/pdf:https://aaneok.org/wp-content/uploads/2025/09/Untitled-design-17.pdf
END:VEVENT
BEGIN:VEVENT
DTSTART;VALUE=DATE:20260108
DTEND;VALUE=DATE:20260109
DTSTAMP:20260425T101605
CREATED:20260107T223704Z
LAST-MODIFIED:20260107T223704Z
UID:384192-1767830400-1767916799@aaneok.org
SUMMARY:Meeting Space Available
DESCRIPTION:
URL:https://aaneok.org/event/meeting-space-available/
LOCATION:OK
CATEGORIES:General Events
ATTACH;FMTTYPE=application/pdf:https://aaneok.org/wp-content/uploads/2026/01/Meeting-Space-Available-Boston.pdf
END:VEVENT
BEGIN:VEVENT
DTSTART;VALUE=DATE:20260117
DTEND;VALUE=DATE:20260118
DTSTAMP:20260425T101605
CREATED:20251008T173914Z
LAST-MODIFIED:20251008T173914Z
UID:383649-1768608000-1768694399@aaneok.org
SUMMARY:Fun in the Fellowship Committee 2026
DESCRIPTION:
URL:https://aaneok.org/event/fun-in-the-fellowship-committee-2026-4/
LOCATION:OK
CATEGORIES:General Events
ATTACH;FMTTYPE=application/pdf:https://aaneok.org/wp-content/uploads/2025/10/FIF-Committee-2026-2.pdf
END:VEVENT
BEGIN:VEVENT
DTSTART;VALUE=DATE:20260117
DTEND;VALUE=DATE:20260118
DTSTAMP:20260425T101605
CREATED:20251121T200709Z
LAST-MODIFIED:20251121T200709Z
UID:383912-1768608000-1768694399@aaneok.org
SUMMARY:Special AA Online Forum for Deaf
DESCRIPTION:
URL:https://aaneok.org/event/special-aa-online-forum-for-deaf/
LOCATION:OK
CATEGORIES:General Events
ATTACH;FMTTYPE=application/pdf:https://aaneok.org/wp-content/uploads/2025/11/Online-Forum-gor-Deaf-2026.pdf
END:VEVENT
BEGIN:VEVENT
DTSTART;TZID=America/New_York:20260118T150000
DTEND;TZID=America/New_York:20260118T170000
DTSTAMP:20260425T101605
CREATED:20260112T201920Z
LAST-MODIFIED:20260112T201920Z
UID:384245-1768748400-1768755600@aaneok.org
SUMMARY:Big Book Comes Alive
DESCRIPTION:
URL:https://aaneok.org/event/big-book-comes-alive/
LOCATION:OK
CATEGORIES:General Events
ATTACH;FMTTYPE=application/pdf:https://aaneok.org/wp-content/uploads/2026/01/Big-Book-Comes-Alive.pdf
END:VEVENT
BEGIN:VEVENT
DTSTART;VALUE=DATE:20260124
DTEND;VALUE=DATE:20260125
DTSTAMP:20260425T101605
CREATED:20260114T150841Z
LAST-MODIFIED:20260114T150841Z
UID:384281-1769212800-1769299199@aaneok.org
SUMMARY:The Big Book Stays Alive Online Sundays
DESCRIPTION:
URL:https://aaneok.org/event/the-big-book-stays-alive-online-sundays-2/
LOCATION:OK
CATEGORIES:General Events
ATTACH;FMTTYPE=application/pdf:https://aaneok.org/wp-content/uploads/2026/01/Big-Book-Comes-Alive-2.pdf
END:VEVENT
BEGIN:VEVENT
DTSTART;VALUE=DATE:20260125
DTEND;VALUE=DATE:20260126
DTSTAMP:20260425T101605
CREATED:20260114T214934Z
LAST-MODIFIED:20260114T214934Z
UID:384294-1769299200-1769385599@aaneok.org
SUMMARY:7th Tradition Workshop OKC
DESCRIPTION:
URL:https://aaneok.org/event/7th-tradition-workshop-okc/
LOCATION:North Meridian Group OKC\, 4407 NW 50th\, Oklahoma City\, OK\, 73112\, United States
CATEGORIES:General Events
ATTACH;FMTTYPE=image/jpeg:https://aaneok.org/wp-content/uploads/2026/01/OKC-Intergroup-Workshop-at-N.-Meridian-Jan.-25-2026-scaled.jpeg
END:VEVENT
BEGIN:VEVENT
DTSTART;VALUE=DATE:20260131
DTEND;VALUE=DATE:20260201
DTSTAMP:20260425T101605
CREATED:20260114T150938Z
LAST-MODIFIED:20260114T150938Z
UID:384284-1769817600-1769903999@aaneok.org
SUMMARY:The Big Book Stays Alive Online Sundays
DESCRIPTION:
URL:https://aaneok.org/event/the-big-book-stays-alive-online-sundays-3/
LOCATION:OK
CATEGORIES:General Events
ATTACH;FMTTYPE=application/pdf:https://aaneok.org/wp-content/uploads/2026/01/Big-Book-Comes-Alive-3.pdf
END:VEVENT
BEGIN:VEVENT
DTSTART;VALUE=DATE:20260212
DTEND;VALUE=DATE:20260213
DTSTAMP:20260425T101605
CREATED:20260107T225724Z
LAST-MODIFIED:20260107T225724Z
UID:384195-1770854400-1770940799@aaneok.org
SUMMARY:Meeting Space Available
DESCRIPTION:
URL:https://aaneok.org/event/meeting-space-available-2/
LOCATION:OK
CATEGORIES:General Events
ATTACH;FMTTYPE=application/pdf:https://aaneok.org/wp-content/uploads/2026/01/Meeting-Space-Available-Boston-1.pdf
END:VEVENT
BEGIN:VEVENT
DTSTART;VALUE=DATE:20260212
DTEND;VALUE=DATE:20260216
DTSTAMP:20260425T101605
CREATED:20250709T214155Z
LAST-MODIFIED:20250709T214155Z
UID:382947-1770854400-1771199999@aaneok.org
SUMMARY:International Women's Conference/Register Now
DESCRIPTION:
URL:https://aaneok.org/event/international-womens-conference-register-now/
LOCATION:Community Choice Convention Center/Des Moines Iowa\, 833 5th Ave.\, Des Moines\, IA\, 50309\, United States
CATEGORIES:General Events
ATTACH;FMTTYPE=application/pdf:https://aaneok.org/wp-content/uploads/2025/07/Register-Now-Flyers-1.pdf
END:VEVENT
BEGIN:VEVENT
DTSTART;VALUE=DATE:20260220
DTEND;VALUE=DATE:20260223
DTSTAMP:20260425T101605
CREATED:20250827T150958Z
LAST-MODIFIED:20250827T153415Z
UID:383314-1771545600-1771804799@aaneok.org
SUMMARY:Meeting in Paradise San Pedro Belize
DESCRIPTION:
URL:https://aaneok.org/event/meeting-in-paradise-san-pedro-belize/
LOCATION:OK
CATEGORIES:General Events
ATTACH;FMTTYPE=application/pdf:https://aaneok.org/wp-content/uploads/2025/08/MIP-2026.pdf
END:VEVENT
BEGIN:VEVENT
DTSTART;VALUE=DATE:20260221
DTEND;VALUE=DATE:20260222
DTSTAMP:20260425T101605
CREATED:20260114T151109Z
LAST-MODIFIED:20260114T151256Z
UID:384287-1771632000-1771718399@aaneok.org
SUMMARY:The Big Book Stays Alive Online Sundays
DESCRIPTION:
URL:https://aaneok.org/event/the-big-book-stays-alive-online-sundays-4/
LOCATION:OK
CATEGORIES:General Events
ATTACH;FMTTYPE=application/pdf:https://aaneok.org/wp-content/uploads/2026/01/Big-Book-Comes-Alive-4.pdf
END:VEVENT
BEGIN:VEVENT
DTSTART;VALUE=DATE:20260228
DTEND;VALUE=DATE:20260301
DTSTAMP:20260425T101605
CREATED:20260114T214521Z
LAST-MODIFIED:20260114T214521Z
UID:384290-1772236800-1772323199@aaneok.org
SUMMARY:Anonymity in the Digital Age
DESCRIPTION:
URL:https://aaneok.org/event/anonymity-in-the-digital-age/
LOCATION:Lakeside Serenity Group/Bethany\, 3913 N. Shannon Avenue\, Bethany\, OK\, 73008\, United States
CATEGORIES:General Events
ATTACH;FMTTYPE=image/jpeg:https://aaneok.org/wp-content/uploads/2026/01/OKC-Intergroup-and-Lakeside-Serenity-Workshop.jpeg
END:VEVENT
BEGIN:VEVENT
DTSTART;TZID=America/New_York:20260301T130000
DTEND;TZID=America/New_York:20260301T170000
DTSTAMP:20260425T101605
CREATED:20260202T214956Z
LAST-MODIFIED:20260202T214956Z
UID:384482-1772370000-1772384400@aaneok.org
SUMMARY:AA Service Manual Study: March
DESCRIPTION:
URL:https://aaneok.org/event/aa-service-manual-study-march/
LOCATION:Roundtable Group\, 3006 N Portland Ave\, OKC\, OK\, 73107\, United States
CATEGORIES:General Events
ATTACH;FMTTYPE=image/jpeg:https://aaneok.org/wp-content/uploads/2026/02/Service-Manual-Study-March-1-2026-OKC-scaled.jpeg
END:VEVENT
BEGIN:VEVENT
DTSTART;VALUE=DATE:20260307
DTEND;VALUE=DATE:20260308
DTSTAMP:20260425T101605
CREATED:20260114T150732Z
LAST-MODIFIED:20260114T152110Z
UID:384278-1772841600-1772927999@aaneok.org
SUMMARY:The Big Book Stays Alive Online Sundays
DESCRIPTION:
URL:https://aaneok.org/event/the-big-book-stays-alive-online-sundays/
LOCATION:OK
CATEGORIES:General Events
ATTACH;FMTTYPE=application/pdf:https://aaneok.org/wp-content/uploads/2026/01/Big-Book-Comes-Alive-1.pdf
END:VEVENT
BEGIN:VEVENT
DTSTART;VALUE=DATE:20260308
DTEND;VALUE=DATE:20260309
DTSTAMP:20260425T101605
CREATED:20260226T223741Z
LAST-MODIFIED:20260226T224017Z
UID:384664-1772928000-1773014399@aaneok.org
SUMMARY:Spring Forward
DESCRIPTION:
URL:https://aaneok.org/event/spring-forward/
LOCATION:OK
CATEGORIES:General Events
ATTACH;FMTTYPE=application/pdf:https://aaneok.org/wp-content/uploads/2026/02/Spring-Forward.pdf
END:VEVENT
BEGIN:VEVENT
DTSTART;TZID=America/New_York:20260312T080000
DTEND;TZID=America/New_York:20260312T170000
DTSTAMP:20260425T101605
CREATED:20260311T204814Z
LAST-MODIFIED:20260311T204814Z
UID:384715-1773302400-1773334800@aaneok.org
SUMMARY:Joint Service Meeting
DESCRIPTION:
URL:https://aaneok.org/event/joint-service-meeting-4/
LOCATION:Unanimity Club\, 8749 S Lewis Avenue\, Tulsa\, OK\, 74137\, United States
CATEGORIES:General Events
ATTACH;FMTTYPE=application/pdf:https://aaneok.org/wp-content/uploads/2026/03/Joint-Service-march-2026.pdf
END:VEVENT
BEGIN:VEVENT
DTSTART;TZID=America/New_York:20260313T190000
DTEND;TZID=America/New_York:20260314T170000
DTSTAMP:20260425T101605
CREATED:20260112T162234Z
LAST-MODIFIED:20260112T162234Z
UID:384231-1773428400-1773507600@aaneok.org
SUMMARY:14th Annual 12 Steps to Freedom
DESCRIPTION:
URL:https://aaneok.org/event/14th-annual-12-steps-to-freedom/
LOCATION:Community Bible Church\, 9201 Dallas Street\, Fort Smith\, AR\, 72902\, United States
CATEGORIES:General Events
ATTACH;FMTTYPE=application/pdf:https://aaneok.org/wp-content/uploads/2026/01/Fort-Smith-Big-Book.pdf
END:VEVENT
BEGIN:VEVENT
DTSTART;VALUE=DATE:20260327
DTEND;VALUE=DATE:20260330
DTSTAMP:20260425T101605
CREATED:20250904T192626Z
LAST-MODIFIED:20250905T155353Z
UID:383429-1774569600-1774828799@aaneok.org
SUMMARY:Promises Men's Getaway
DESCRIPTION:
URL:https://aaneok.org/event/promises-mens-getaway/
LOCATION:Camp Egan\, 26633 Highway 62\, Tahlequah\, OK\, 74464\, United States
CATEGORIES:General Events
ATTACH;FMTTYPE=image/png:https://aaneok.org/wp-content/uploads/2025/09/25th-Promises-Mens-Getaway-Weekend-032726.png
END:VEVENT
BEGIN:VEVENT
DTSTART;TZID=America/New_York:20260405T130000
DTEND;TZID=America/New_York:20260405T170000
DTSTAMP:20260425T101605
CREATED:20260202T215157Z
LAST-MODIFIED:20260202T215157Z
UID:384485-1775394000-1775408400@aaneok.org
SUMMARY:AA Service Manual Study: April
DESCRIPTION:
URL:https://aaneok.org/event/aa-service-manual-study-april/
LOCATION:Roundtable Group\, 3006 N Portland Ave\, OKC\, OK\, 73107\, United States
CATEGORIES:General Events
ATTACH;FMTTYPE=application/pdf:https://aaneok.org/wp-content/uploads/2026/02/Service-Manual-Study-April.pdf
END:VEVENT
BEGIN:VEVENT
DTSTART;VALUE=DATE:20260416
DTEND;VALUE=DATE:20260420
DTSTAMP:20260425T101605
CREATED:20260115T143843Z
LAST-MODIFIED:20260115T143843Z
UID:384307-1776297600-1776643199@aaneok.org
SUMMARY:Springtime in the Ozarks 2026
DESCRIPTION:
URL:https://aaneok.org/event/springtime-in-the-ozarks-2026/
LOCATION:Best Western Inn of the Ozarks/Eureka Springs\, 207 W. Van Buren\, Eureka Springs\, AR\, 72632\, United States
CATEGORIES:General Events
ATTACH;FMTTYPE=application/pdf:https://aaneok.org/wp-content/uploads/2026/01/Springtime-Ozarks-202620260115080508.pdf
END:VEVENT
BEGIN:VEVENT
DTSTART;VALUE=DATE:20260424
DTEND;VALUE=DATE:20260427
DTSTAMP:20260425T101605
CREATED:20260318T194953Z
LAST-MODIFIED:20260318T194953Z
UID:384728-1776988800-1777247999@aaneok.org
SUMMARY:Spring Fling Convention St. Louis
DESCRIPTION:
URL:https://aaneok.org/event/spring-fling-convention-st-louis/
LOCATION:Hilton St. Louis Airport\, 10330 Natural Bridge Rd.\, St. Louis\, MO\, 63134\, United States
CATEGORIES:General Events
ATTACH;FMTTYPE=application/pdf:https://aaneok.org/wp-content/uploads/2026/03/Spring-Fling.pdf
END:VEVENT
BEGIN:VEVENT
DTSTART;TZID=America/New_York:20260503T130000
DTEND;TZID=America/New_York:20260503T170000
DTSTAMP:20260425T101605
CREATED:20260202T224047Z
LAST-MODIFIED:20260202T224047Z
UID:384496-1777813200-1777827600@aaneok.org
SUMMARY:AA Service Manual Study: May
DESCRIPTION:
URL:https://aaneok.org/event/aa-service-manual-study-may/
LOCATION:Roundtable Group\, 3006 N Portland Ave\, OKC\, OK\, 73107\, United States
CATEGORIES:General Events
ATTACH;FMTTYPE=application/pdf:https://aaneok.org/wp-content/uploads/2026/02/Service-Manual-Study-May-2.pdf
END:VEVENT
BEGIN:VEVENT
DTSTART;VALUE=DATE:20260522
DTEND;VALUE=DATE:20260523
DTSTAMP:20260425T101605
CREATED:20260122T190733Z
LAST-MODIFIED:20260122T190733Z
UID:384400-1779408000-1779494399@aaneok.org
SUMMARY:HACYPAA 10
DESCRIPTION:
URL:https://aaneok.org/event/hacypaa-10-2/
LOCATION:OKC/Bricktown Aloft\, 209 N. Walnut Ave.\, Oklahoma City\, OK\, 73104\, United States
CATEGORIES:General Events
ATTACH;FMTTYPE=application/pdf:https://aaneok.org/wp-content/uploads/2026/01/Hacypaa-10.pdf
END:VEVENT
BEGIN:VEVENT
DTSTART;TZID=America/New_York:20260607T130000
DTEND;TZID=America/New_York:20260607T170000
DTSTAMP:20260425T101605
CREATED:20260202T223731Z
LAST-MODIFIED:20260202T223731Z
UID:384492-1780837200-1780851600@aaneok.org
SUMMARY:AA Service Manual Study: June
DESCRIPTION:
URL:https://aaneok.org/event/aa-service-manual-study-june/
LOCATION:Roundtable Group\, 3006 N Portland Ave\, OKC\, OK\, 73107\, United States
CATEGORIES:General Events
ATTACH;FMTTYPE=application/pdf:https://aaneok.org/wp-content/uploads/2026/02/Service-Manual-Study-June.pdf
END:VEVENT
BEGIN:VEVENT
DTSTART;VALUE=DATE:20260627
DTEND;VALUE=DATE:20260628
DTSTAMP:20260425T101605
CREATED:20260325T172847Z
LAST-MODIFIED:20260325T172847Z
UID:384747-1782518400-1782604799@aaneok.org
SUMMARY:50th Birthday Event for Phyllis M.
DESCRIPTION:
URL:https://aaneok.org/event/50th-birthday-event-for-phyllis-m/
LOCATION:Fellowship Lutheran Church\, 6727 S. Sheridan Rd.\, Tulsa\, OK\, 74133\, United States
CATEGORIES:General Events
ATTACH;FMTTYPE=application/pdf:https://aaneok.org/wp-content/uploads/2026/03/Phyllis-50th-AA-birthday-flyer.pdf
END:VEVENT
END:VCALENDAR