BEGIN:VCALENDAR
VERSION:2.0
PRODID:-//NECS - ECPv6.15.20//NONSGML v1.0//EN
CALSCALE:GREGORIAN
METHOD:PUBLISH
X-ORIGINAL-URL:https://aaneok.org
X-WR-CALDESC:Events for NECS
REFRESH-INTERVAL;VALUE=DURATION:PT1H
X-Robots-Tag:noindex
X-PUBLISHED-TTL:PT1H
BEGIN:VTIMEZONE
TZID:America/New_York
BEGIN:DAYLIGHT
TZOFFSETFROM:-0500
TZOFFSETTO:-0400
TZNAME:EDT
DTSTART:20240310T070000
END:DAYLIGHT
BEGIN:STANDARD
TZOFFSETFROM:-0400
TZOFFSETTO:-0500
TZNAME:EST
DTSTART:20241103T060000
END:STANDARD
BEGIN:DAYLIGHT
TZOFFSETFROM:-0500
TZOFFSETTO:-0400
TZNAME:EDT
DTSTART:20250309T070000
END:DAYLIGHT
BEGIN:STANDARD
TZOFFSETFROM:-0400
TZOFFSETTO:-0500
TZNAME:EST
DTSTART:20251102T060000
END:STANDARD
BEGIN:DAYLIGHT
TZOFFSETFROM:-0500
TZOFFSETTO:-0400
TZNAME:EDT
DTSTART:20260308T070000
END:DAYLIGHT
BEGIN:STANDARD
TZOFFSETFROM:-0400
TZOFFSETTO:-0500
TZNAME:EST
DTSTART:20261101T060000
END:STANDARD
END:VTIMEZONE
BEGIN:VEVENT
DTSTART;VALUE=DATE:20251002
DTEND;VALUE=DATE:20251003
DTSTAMP:20260424T223049
CREATED:20250530T163023Z
LAST-MODIFIED:20250925T173307Z
UID:382653-1759363200-1759449599@aaneok.org
SUMMARY:Its In The Book Muskogee Womens Big Book Study
DESCRIPTION:
URL:https://aaneok.org/event/its-in-the-book-muskogee-womens-big-book-study-5/
LOCATION:It’s in the Book/Muskogee\, 2130 W. Okmulgee St.\, Muskogee\, OK\, 74401\, United States
CATEGORIES:Group Events
ATTACH;FMTTYPE=application/pdf:https://aaneok.org/wp-content/uploads/2025/05/Its-in-the-book-revised.pdf
END:VEVENT
BEGIN:VEVENT
DTSTART;TZID=America/New_York:20251003T080000
DTEND;TZID=America/New_York:20251003T170000
DTSTAMP:20260424T223049
CREATED:20250930T192549Z
LAST-MODIFIED:20250930T192549Z
UID:383583-1759478400-1759510800@aaneok.org
SUMMARY:Roundtable Group Friday Night Speakers
DESCRIPTION:
URL:https://aaneok.org/event/roundtable-group-friday-night-speakers/
LOCATION:Roundtable Group\, 3006 N Portland Ave\, OKC\, OK\, 73107\, United States
CATEGORIES:Group Events
ATTACH;FMTTYPE=application/pdf:https://aaneok.org/wp-content/uploads/2025/09/Roundtable-friday-Night.pdf
END:VEVENT
BEGIN:VEVENT
DTSTART;VALUE=DATE:20251010
DTEND;VALUE=DATE:20251013
DTSTAMP:20260424T223049
CREATED:20250725T214706Z
LAST-MODIFIED:20250808T161527Z
UID:383049-1760054400-1760313599@aaneok.org
SUMMARY:3rd Annual Ozark Mountain Men's Spiritual Retreat
DESCRIPTION:
URL:https://aaneok.org/event/3rd-annual-ozark-mountain-mens-spiritual-retreat/
LOCATION:OK
CATEGORIES:Group Events
ATTACH;FMTTYPE=application/pdf:https://aaneok.org/wp-content/uploads/2025/07/updated-mens-retreat20250808111307.pdf
END:VEVENT
BEGIN:VEVENT
DTSTART;TZID=America/New_York:20251010T184500
DTEND;TZID=America/New_York:20251010T210000
DTSTAMP:20260424T223049
CREATED:20250818T144716Z
LAST-MODIFIED:20250902T195101Z
UID:383199-1760121900-1760130000@aaneok.org
SUMMARY:New Haven 40th Anniversary
DESCRIPTION:
URL:https://aaneok.org/event/new-haven-40th-anniversary/
LOCATION:New Haven United Methodist Church\, 5603 S. New Haven Ave.\, Tulsa\, OK\, 74135\, United States
CATEGORIES:Group Events
ATTACH;FMTTYPE=application/pdf:https://aaneok.org/wp-content/uploads/2025/08/NewHavenreviseddateRecovered.pdf
END:VEVENT
BEGIN:VEVENT
DTSTART;VALUE=DATE:20251017
DTEND;VALUE=DATE:20251018
DTSTAMP:20260424T223049
CREATED:20250819T153356Z
LAST-MODIFIED:20250819T153356Z
UID:383228-1760659200-1760745599@aaneok.org
SUMMARY:Purcell Unity New Location Celebration
DESCRIPTION:
URL:https://aaneok.org/event/purcell-unity-new-location-celebration/
LOCATION:Trinity United Methodist Church/Purcell\, 211 north 2nd street\, purcell\, OK\, 73080\, United States
CATEGORIES:Group Events
ATTACH;FMTTYPE=image/jpeg:https://aaneok.org/wp-content/uploads/2025/08/Purcell-Unity-Group-New-Location-Celebration-10-17-25-scaled.jpeg
END:VEVENT
BEGIN:VEVENT
DTSTART;TZID=America/New_York:20251017T173000
DTEND;TZID=America/New_York:20251017T183000
DTSTAMP:20260424T223049
CREATED:20251010T164138Z
LAST-MODIFIED:20251010T165550Z
UID:383667-1760722200-1760725800@aaneok.org
SUMMARY:Round Table Group
DESCRIPTION:
URL:https://aaneok.org/event/round-table-group/
LOCATION:OK
CATEGORIES:Group Events
ATTACH;FMTTYPE=image/jpeg:https://aaneok.org/wp-content/uploads/2025/10/Roundtable-OKC-Ask-it-Basket-Fridays-scaled.jpeg
END:VEVENT
BEGIN:VEVENT
DTSTART;VALUE=DATE:20251018
DTEND;VALUE=DATE:20251019
DTSTAMP:20260424T223049
CREATED:20251016T173529Z
LAST-MODIFIED:20251016T173529Z
UID:383696-1760745600-1760831999@aaneok.org
SUMMARY:SOS Group Picnic
DESCRIPTION:
URL:https://aaneok.org/event/sos-group-picnic/
LOCATION:Veterans park/Jenks\, 305 s. birch st.\, jenks\, 74037\, United States
CATEGORIES:Group Events
ATTACH;FMTTYPE=image/jpeg:https://aaneok.org/wp-content/uploads/2025/10/Orange-3d-Autumn-Picnic-Poster-Made-with-PosterMyWall-1.jpg
END:VEVENT
BEGIN:VEVENT
DTSTART;VALUE=DATE:20251024
DTEND;VALUE=DATE:20251026
DTSTAMP:20260424T223049
CREATED:20250811T173622Z
LAST-MODIFIED:20250811T173622Z
UID:383155-1761264000-1761436799@aaneok.org
SUMMARY:Whiskey in Milk 5th Anniversary (Two Events)
DESCRIPTION:
URL:https://aaneok.org/event/whiskey-in-milk-5th-anniversary-two-events/
LOCATION:Cole Community Center\, 4400 NW Expressway\, OKC\, OK\, 73116\, United States
CATEGORIES:Group Events
ATTACH;FMTTYPE=application/pdf:https://aaneok.org/wp-content/uploads/2025/08/Untitled-design-15-2.pdf
END:VEVENT
BEGIN:VEVENT
DTSTART;TZID=America/New_York:20251024T173000
DTEND;TZID=America/New_York:20251024T200000
DTSTAMP:20260424T223049
CREATED:20251020T140711Z
LAST-MODIFIED:20251020T140711Z
UID:383708-1761327000-1761336000@aaneok.org
SUMMARY:The Altruistic Group 5th Anniversary
DESCRIPTION:
URL:https://aaneok.org/event/the-altruistic-group-5th-anniversary/
LOCATION:Christview Christian Church Tulsa\, 2525 S garnett Rd\, Tulsa\, OK\, 74129\, United States
CATEGORIES:Group Events
ATTACH;FMTTYPE=application/pdf:https://aaneok.org/wp-content/uploads/2025/10/Untitled-design-18.pdf
END:VEVENT
BEGIN:VEVENT
DTSTART;VALUE=DATE:20251025
DTEND;VALUE=DATE:20251026
DTSTAMP:20260424T223049
CREATED:20251017T152209Z
LAST-MODIFIED:20251017T152209Z
UID:383700-1761350400-1761436799@aaneok.org
SUMMARY:4th Dimension Group Workshop
DESCRIPTION:
URL:https://aaneok.org/event/4th-dimension-group-workshop/
LOCATION:Ardmore Group\, 935 Grand Ave.\, Ardmore\, OK\, 73401\, United States
CATEGORIES:Group Events
ATTACH;FMTTYPE=application/pdf:https://aaneok.org/wp-content/uploads/2025/10/4th-Dimension-Workshop-Oct-25-2025.pdf
END:VEVENT
BEGIN:VEVENT
DTSTART;TZID=America/New_York:20251025T180000
DTEND;TZID=America/New_York:20251025T210000
DTSTAMP:20260424T223049
CREATED:20251010T171207Z
LAST-MODIFIED:20251010T171207Z
UID:383678-1761415200-1761426000@aaneok.org
SUMMARY:Acceptance Group Cookout - Ponca City
DESCRIPTION:
URL:https://aaneok.org/event/acceptance-group-cookout-ponca-city/
LOCATION:OK
CATEGORIES:Group Events
ATTACH;FMTTYPE=application/pdf:https://aaneok.org/wp-content/uploads/2025/10/Acceptance-Group-Fall-Cookout-Oct.-25-2025.pdf
END:VEVENT
BEGIN:VEVENT
DTSTART;TZID=America/New_York:20251028T180000
DTEND;TZID=America/New_York:20251028T200000
DTSTAMP:20260424T223049
CREATED:20251006T141916Z
LAST-MODIFIED:20251006T141916Z
UID:383614-1761674400-1761681600@aaneok.org
SUMMARY:The Unity Group Second Year Anniversary Party
DESCRIPTION:
URL:https://aaneok.org/event/the-unity-group-second-year-anniversary-party/
LOCATION:Unity Pryor Group\, 110 N Vann St\, Pryor\, 74361\, United States
CATEGORIES:Group Events
ATTACH;FMTTYPE=application/pdf:https://aaneok.org/wp-content/uploads/2025/10/The-Unity-Group-Oct-2025.pdf
END:VEVENT
BEGIN:VEVENT
DTSTART;TZID=America/New_York:20251030T190000
DTEND;TZID=America/New_York:20251030T210000
DTSTAMP:20260424T223049
CREATED:20250918T192150Z
LAST-MODIFIED:20250918T192150Z
UID:383547-1761850800-1761858000@aaneok.org
SUMMARY:Purcell Birthdays Oct 2025
DESCRIPTION:
URL:https://aaneok.org/event/purcell-birthdays-oct-2025/
LOCATION:Landmark Church Purcell\, 1106 W. Grant Street\, Purcell\, OK\, 73080\, United States
CATEGORIES:Group Events
ATTACH;FMTTYPE=application/pdf:https://aaneok.org/wp-content/uploads/2025/09/Untitled-design-19.pdf
END:VEVENT
BEGIN:VEVENT
DTSTART;TZID=America/New_York:20251031T190000
DTEND;TZID=America/New_York:20251031T200000
DTSTAMP:20260424T223049
CREATED:20251022T182501Z
LAST-MODIFIED:20251022T182501Z
UID:383729-1761937200-1761940800@aaneok.org
SUMMARY:NEW HAVEN "Zoom Meeting Only"
DESCRIPTION:
URL:https://aaneok.org/event/new-haven-zoom-meeting-only/
LOCATION:OK
CATEGORIES:Group Events
END:VEVENT
END:VCALENDAR