BEGIN:VCALENDAR
VERSION:2.0
PRODID:-//NECS - ECPv6.15.20//NONSGML v1.0//EN
CALSCALE:GREGORIAN
METHOD:PUBLISH
X-ORIGINAL-URL:https://aaneok.org
X-WR-CALDESC:Events for NECS
REFRESH-INTERVAL;VALUE=DURATION:PT1H
X-Robots-Tag:noindex
X-PUBLISHED-TTL:PT1H
BEGIN:VTIMEZONE
TZID:America/New_York
BEGIN:DAYLIGHT
TZOFFSETFROM:-0500
TZOFFSETTO:-0400
TZNAME:EDT
DTSTART:20240310T070000
END:DAYLIGHT
BEGIN:STANDARD
TZOFFSETFROM:-0400
TZOFFSETTO:-0500
TZNAME:EST
DTSTART:20241103T060000
END:STANDARD
BEGIN:DAYLIGHT
TZOFFSETFROM:-0500
TZOFFSETTO:-0400
TZNAME:EDT
DTSTART:20250309T070000
END:DAYLIGHT
BEGIN:STANDARD
TZOFFSETFROM:-0400
TZOFFSETTO:-0500
TZNAME:EST
DTSTART:20251102T060000
END:STANDARD
BEGIN:DAYLIGHT
TZOFFSETFROM:-0500
TZOFFSETTO:-0400
TZNAME:EDT
DTSTART:20260308T070000
END:DAYLIGHT
BEGIN:STANDARD
TZOFFSETFROM:-0400
TZOFFSETTO:-0500
TZNAME:EST
DTSTART:20261101T060000
END:STANDARD
END:VTIMEZONE
BEGIN:VEVENT
DTSTART;VALUE=DATE:20251106
DTEND;VALUE=DATE:20251107
DTSTAMP:20260424T190446
CREATED:20250530T163121Z
LAST-MODIFIED:20250925T173700Z
UID:382656-1762387200-1762473599@aaneok.org
SUMMARY:Its In The Book Muskogee Womens Big Book Study
DESCRIPTION:
URL:https://aaneok.org/event/its-in-the-book-muskogee-womens-big-book-study-6/
LOCATION:It’s in the Book/Muskogee\, 2130 W. Okmulgee St.\, Muskogee\, OK\, 74401\, United States
CATEGORIES:Group Events
ATTACH;FMTTYPE=application/pdf:https://aaneok.org/wp-content/uploads/2025/05/Its-in-the-book-revised-1.pdf
END:VEVENT
BEGIN:VEVENT
DTSTART;TZID=America/New_York:20251107T183000
DTEND;TZID=America/New_York:20251107T210000
DTSTAMP:20260424T190446
CREATED:20251021T144330Z
LAST-MODIFIED:20251021T144330Z
UID:383715-1762540200-1762549200@aaneok.org
SUMMARY:Three Legacies AA Group Of Ada
DESCRIPTION:
URL:https://aaneok.org/event/three-legacies-aa-group-of-ada-2/
LOCATION:St Lukes Episcopal Church\, 100 E 17th St\, Ada\, OK\, 74820\, United States
CATEGORIES:Group Events
ATTACH;FMTTYPE=application/pdf:https://aaneok.org/wp-content/uploads/2025/10/DIST-60-FLYER-2025-NOV-BI-MONTHLY-THREE-LEGACIES-GP-SPEAKER-SUZI-T-ADA-OK-ORGINALLY-FROM-STILLWATER-OK-NOV-7.pdf
END:VEVENT
BEGIN:VEVENT
DTSTART;VALUE=DATE:20251115
DTEND;VALUE=DATE:20251116
DTSTAMP:20260424T190446
CREATED:20251113T211526Z
LAST-MODIFIED:20251113T211526Z
UID:383852-1763164800-1763251199@aaneok.org
SUMMARY:Going to Any Lengths Bday Night
DESCRIPTION:
URL:https://aaneok.org/event/going-to-any-lengths-bday-night/
LOCATION:Going to Any Lengths/Tulsa\, 9515 E 51st St\, tulsa\, OK\, 74145\, United States
CATEGORIES:Group Events
ATTACH;FMTTYPE=application/pdf:https://aaneok.org/wp-content/uploads/2025/11/gtal-nov-birthdays.pdf
END:VEVENT
BEGIN:VEVENT
DTSTART;TZID=America/New_York:20251115T163000
DTEND;TZID=America/New_York:20251115T200000
DTSTAMP:20260424T190446
CREATED:20251104T155447Z
LAST-MODIFIED:20251104T155447Z
UID:383780-1763224200-1763236800@aaneok.org
SUMMARY:Original Westside Anniversary Dinner
DESCRIPTION:
URL:https://aaneok.org/event/original-westside-anniversary-dinner/
LOCATION:Fellowship Lutheran Church\, 6727 S. Sheridan Rd.\, Tulsa\, OK\, 74133\, United States
CATEGORIES:Group Events
ATTACH;FMTTYPE=application/pdf:https://aaneok.org/wp-content/uploads/2025/11/OWS-Anniversary-Dinner.pdf
END:VEVENT
BEGIN:VEVENT
DTSTART;VALUE=DATE:20251120
DTEND;VALUE=DATE:20251121
DTSTAMP:20260424T190446
CREATED:20251111T215327Z
LAST-MODIFIED:20251111T215327Z
UID:383840-1763596800-1763683199@aaneok.org
SUMMARY:Purcell Unity Group Bday/Speaker Night
DESCRIPTION:
URL:https://aaneok.org/event/purcell-unity-group-bday-speaker-night-4/
LOCATION:Trinity United Methodist Church/Purcell\, 211 north 2nd street\, purcell\, OK\, 73080\, United States
CATEGORIES:Group Events
ATTACH;FMTTYPE=application/pdf:https://aaneok.org/wp-content/uploads/2025/11/Untitled-design-19.pdf
END:VEVENT
BEGIN:VEVENT
DTSTART;VALUE=DATE:20251120
DTEND;VALUE=DATE:20251121
DTSTAMP:20260424T190446
CREATED:20251119T230555Z
LAST-MODIFIED:20251119T230555Z
UID:383889-1763596800-1763683199@aaneok.org
SUMMARY:Bottoms Up Tahlequah Bday Night
DESCRIPTION:
URL:https://aaneok.org/event/bottoms-up-tahlequah-bday-night-2/
LOCATION:Tahelequah Church of the Nazarene\, 20443 E. Allen Rd.\, Tahlequah\, 74464\, United States
CATEGORIES:Group Events
ATTACH;FMTTYPE=application/pdf:https://aaneok.org/wp-content/uploads/2025/11/Bottom-Up-Tahlequah-Bday-Night.pdf
END:VEVENT
BEGIN:VEVENT
DTSTART;VALUE=DATE:20251125
DTEND;VALUE=DATE:20251126
DTSTAMP:20260424T190447
CREATED:20251119T230347Z
LAST-MODIFIED:20251119T230347Z
UID:383885-1764028800-1764115199@aaneok.org
SUMMARY:Before & After Round Robin Meeting
DESCRIPTION:
URL:https://aaneok.org/event/before-after-round-robin-meeting/
LOCATION:Church of the Nazarene/Collinsville\, 1118 W. Broadway\, Collinsville\, OK\, 74021\, United States
CATEGORIES:Group Events
ATTACH;FMTTYPE=application/pdf:https://aaneok.org/wp-content/uploads/2025/11/B4-After-2025.pdf
END:VEVENT
BEGIN:VEVENT
DTSTART;TZID=America/New_York:20251125T183000
DTEND;TZID=America/New_York:20251125T200000
DTSTAMP:20260424T190447
CREATED:20251104T224901Z
LAST-MODIFIED:20251106T212531Z
UID:383784-1764095400-1764100800@aaneok.org
SUMMARY:The Unity Group Speaker Meeting
DESCRIPTION:
URL:https://aaneok.org/event/the-unity-group-speaker-meeting/
LOCATION:First Christian Presbyterian Church\, 524 S. Duncan Street\, Stillwater\, OK\, 74075\, United States
CATEGORIES:Group Events
ATTACH;FMTTYPE=application/pdf:https://aaneok.org/wp-content/uploads/2025/11/Unity-Nov.pdf
END:VEVENT
BEGIN:VEVENT
DTSTART;VALUE=DATE:20251127
DTEND;VALUE=DATE:20251128
DTSTAMP:20260424T190447
CREATED:20251119T222748Z
LAST-MODIFIED:20251119T222748Z
UID:383875-1764201600-1764287999@aaneok.org
SUMMARY:Eastside AA Tahlequah Thanksgiving
DESCRIPTION:
URL:https://aaneok.org/event/eastside-aa-tahlequah-thanksgiving/
LOCATION:812 E. Ward St.\, Tahlequah\, OK. 74464\, 812 E. Ward St.\, Tahlequah\, OK\, 74464\, United States
CATEGORIES:Group Events
ATTACH;FMTTYPE=application/pdf:https://aaneok.org/wp-content/uploads/2025/11/Eastside-Tahlequah-Thanksgiving.pdf
END:VEVENT
BEGIN:VEVENT
DTSTART;TZID=America/New_York:20251127T130000
DTEND;TZID=America/New_York:20251127T170000
DTSTAMP:20260424T190447
CREATED:20251108T165629Z
LAST-MODIFIED:20251110T174005Z
UID:383803-1764248400-1764262800@aaneok.org
SUMMARY:SOS Thanksgiving Dinner
DESCRIPTION:SOS Thanksgiving
URL:https://aaneok.org/event/sos-thanksgiving-dinner/
LOCATION:Unanimity Club\, 8749 S Lewis Avenue\, Tulsa\, OK\, 74137\, United States
CATEGORIES:Group Events
ATTACH;FMTTYPE=image/jpg:https://aaneok.org/wp-content/uploads/2025/11/SOS-Thanksgiving-pdf-image.jpg
END:VEVENT
BEGIN:VEVENT
DTSTART;TZID=America/New_York:20251129T093000
DTEND;TZID=America/New_York:20251129T224500
DTSTAMP:20260424T190447
CREATED:20251108T165059Z
LAST-MODIFIED:20251108T165059Z
UID:383798-1764408600-1764456300@aaneok.org
SUMMARY:Bad Girls Nov Birthdays
DESCRIPTION:
URL:https://aaneok.org/event/bad-girls-nov-birthdays/
LOCATION:Harvard Avenue Christian Church\, 5502 S. Harvard Ave.\, Tulsa\, OK\, 74135\, United States
CATEGORIES:Group Events
ATTACH;FMTTYPE=image/jpg:https://aaneok.org/wp-content/uploads/2025/11/Bad-Girls-Nov-Birthdays-docx-pdf-image.jpg
END:VEVENT
BEGIN:VEVENT
DTSTART;TZID=America/New_York:20251129T190000
DTEND;TZID=America/New_York:20251129T210000
DTSTAMP:20260424T190447
CREATED:20251112T163244Z
LAST-MODIFIED:20251112T163244Z
UID:383846-1764442800-1764450000@aaneok.org
SUMMARY:Inola Big Book Annual Thanksgiving
DESCRIPTION:
URL:https://aaneok.org/event/inola-big-book-annual-thanksgiving/
LOCATION:Inola Big Book\, 30556 South 4200 Road\, Inola\, OK\, 74036\, United States
CATEGORIES:Group Events
ATTACH;FMTTYPE=application/pdf:https://aaneok.org/wp-content/uploads/2025/11/Untitled-design-21.pdf
END:VEVENT
END:VCALENDAR