BEGIN:VCALENDAR
VERSION:2.0
PRODID:-//NECS - ECPv6.15.20//NONSGML v1.0//EN
CALSCALE:GREGORIAN
METHOD:PUBLISH
X-ORIGINAL-URL:https://aaneok.org
X-WR-CALDESC:Events for NECS
REFRESH-INTERVAL;VALUE=DURATION:PT1H
X-Robots-Tag:noindex
X-PUBLISHED-TTL:PT1H
BEGIN:VTIMEZONE
TZID:America/New_York
BEGIN:DAYLIGHT
TZOFFSETFROM:-0500
TZOFFSETTO:-0400
TZNAME:EDT
DTSTART:20250309T070000
END:DAYLIGHT
BEGIN:STANDARD
TZOFFSETFROM:-0400
TZOFFSETTO:-0500
TZNAME:EST
DTSTART:20251102T060000
END:STANDARD
BEGIN:DAYLIGHT
TZOFFSETFROM:-0500
TZOFFSETTO:-0400
TZNAME:EDT
DTSTART:20260308T070000
END:DAYLIGHT
BEGIN:STANDARD
TZOFFSETFROM:-0400
TZOFFSETTO:-0500
TZNAME:EST
DTSTART:20261101T060000
END:STANDARD
BEGIN:DAYLIGHT
TZOFFSETFROM:-0500
TZOFFSETTO:-0400
TZNAME:EDT
DTSTART:20270314T070000
END:DAYLIGHT
BEGIN:STANDARD
TZOFFSETFROM:-0400
TZOFFSETTO:-0500
TZNAME:EST
DTSTART:20271107T060000
END:STANDARD
END:VTIMEZONE
BEGIN:VEVENT
DTSTART;VALUE=DATE:20260302
DTEND;VALUE=DATE:20260303
DTSTAMP:20260424T082207
CREATED:20260121T232143Z
LAST-MODIFIED:20260121T232143Z
UID:384395-1772409600-1772495999@aaneok.org
SUMMARY:REBOS Clubhouse Schedule
DESCRIPTION:
URL:https://aaneok.org/event/rebos-clubhouse-schedule-2/
LOCATION:REBOS Clubhouse/New\, 7012 S Utica Ave\, Tulsa\, OK\, 74136\, United States
CATEGORIES:Group Events
ATTACH;FMTTYPE=application/pdf:https://aaneok.org/wp-content/uploads/2026/01/Rebos-clubhouse-schuedule-1.pdf
END:VEVENT
BEGIN:VEVENT
DTSTART;VALUE=DATE:20260307
DTEND;VALUE=DATE:20260308
DTSTAMP:20260424T082207
CREATED:20260211T160132Z
LAST-MODIFIED:20260211T160132Z
UID:384582-1772841600-1772927999@aaneok.org
SUMMARY:Outlaw Safe Cracker Speaker Meeting
DESCRIPTION:
URL:https://aaneok.org/event/outlaw-safe-cracker-speaker-meeting/
LOCATION:Outlaw Safe Cracker\, 1660 N Lynn Riggs Blvd\, Claremore\, OK\, 74017\, United States
CATEGORIES:Group Events
ATTACH;FMTTYPE=application/pdf:https://aaneok.org/wp-content/uploads/2026/02/Outlaw-Safe-Cracker-March-2026-Speaker-Meeting.pdf
END:VEVENT
BEGIN:VEVENT
DTSTART;VALUE=DATE:20260316
DTEND;VALUE=DATE:20260317
DTSTAMP:20260424T082207
CREATED:20260311T143245Z
LAST-MODIFIED:20260311T143245Z
UID:384709-1773619200-1773705599@aaneok.org
SUMMARY:North Meridian Group has 2 new meetings/OKC
DESCRIPTION:
URL:https://aaneok.org/event/north-meridian-group-has-2-new-meetings-okc/
LOCATION:North Meridian Group OKC\, 4407 NW 50th\, Oklahoma City\, OK\, 73112\, United States
CATEGORIES:Group Events
ATTACH;FMTTYPE=image/jpeg:https://aaneok.org/wp-content/uploads/2026/03/N.-Meridian-adds-2-Meetings-1-scaled.jpeg
END:VEVENT
BEGIN:VEVENT
DTSTART;VALUE=DATE:20260327
DTEND;VALUE=DATE:20260330
DTSTAMP:20260424T082207
CREATED:20260211T175702Z
LAST-MODIFIED:20260211T175702Z
UID:384586-1774569600-1774828799@aaneok.org
SUMMARY:6th Annual Ladies Retreat Lake Texoma 2026
DESCRIPTION:
URL:https://aaneok.org/event/6th-annual-ladies-retreat-lake-texoma-2026/
LOCATION:OK
CATEGORIES:Group Events
ATTACH;FMTTYPE=application/pdf:https://aaneok.org/wp-content/uploads/2026/02/6th-Annual-Ladies-Retreat-Lake-Texoma-2026.pdf
END:VEVENT
BEGIN:VEVENT
DTSTART;VALUE=DATE:20260328
DTEND;VALUE=DATE:20260329
DTSTAMP:20260424T082207
CREATED:20260328T161742Z
LAST-MODIFIED:20260328T161742Z
UID:384759-1774656000-1774742399@aaneok.org
SUMMARY:REBOS Nooner Info
DESCRIPTION:
URL:https://aaneok.org/event/rebos-nooner-info/
LOCATION:REBOS Clubhouse/New\, 7012 S Utica Ave\, Tulsa\, OK\, 74136\, United States
CATEGORIES:Group Events
ATTACH;FMTTYPE=application/pdf:https://aaneok.org/wp-content/uploads/2026/03/E-S-H-Google-Slides.pdf
END:VEVENT
BEGIN:VEVENT
DTSTART;TZID=America/New_York:20260328T170000
DTEND;TZID=America/New_York:20260328T200000
DTSTAMP:20260424T082207
CREATED:20260109T191150Z
LAST-MODIFIED:20260109T191150Z
UID:384219-1774717200-1774728000@aaneok.org
SUMMARY:Common Solution/Cushing 9th Anniversary
DESCRIPTION:
URL:https://aaneok.org/event/common-solution-cushing-9th-anniversary/
LOCATION:La Pasadita Cushing\, 1108 E. Main\, cushing\, 74023\, United States
CATEGORIES:Group Events
ATTACH;FMTTYPE=application/pdf:https://aaneok.org/wp-content/uploads/2026/01/Cushing-9th-Anniversary.pdf
END:VEVENT
END:VCALENDAR