BEGIN:VCALENDAR
VERSION:2.0
PRODID:-//NECS - ECPv6.15.20//NONSGML v1.0//EN
CALSCALE:GREGORIAN
METHOD:PUBLISH
X-ORIGINAL-URL:https://aaneok.org
X-WR-CALDESC:Events for NECS
REFRESH-INTERVAL;VALUE=DURATION:PT1H
X-Robots-Tag:noindex
X-PUBLISHED-TTL:PT1H
BEGIN:VTIMEZONE
TZID:America/New_York
BEGIN:DAYLIGHT
TZOFFSETFROM:-0500
TZOFFSETTO:-0400
TZNAME:EDT
DTSTART:20250309T070000
END:DAYLIGHT
BEGIN:STANDARD
TZOFFSETFROM:-0400
TZOFFSETTO:-0500
TZNAME:EST
DTSTART:20251102T060000
END:STANDARD
BEGIN:DAYLIGHT
TZOFFSETFROM:-0500
TZOFFSETTO:-0400
TZNAME:EDT
DTSTART:20260308T070000
END:DAYLIGHT
BEGIN:STANDARD
TZOFFSETFROM:-0400
TZOFFSETTO:-0500
TZNAME:EST
DTSTART:20261101T060000
END:STANDARD
BEGIN:DAYLIGHT
TZOFFSETFROM:-0500
TZOFFSETTO:-0400
TZNAME:EDT
DTSTART:20270314T070000
END:DAYLIGHT
BEGIN:STANDARD
TZOFFSETFROM:-0400
TZOFFSETTO:-0500
TZNAME:EST
DTSTART:20271107T060000
END:STANDARD
END:VTIMEZONE
BEGIN:VEVENT
DTSTART;VALUE=DATE:20260410
DTEND;VALUE=DATE:20260411
DTSTAMP:20260424T082327
CREATED:20260328T161843Z
LAST-MODIFIED:20260328T161843Z
UID:384762-1775779200-1775865599@aaneok.org
SUMMARY:REBOS Nooner Info
DESCRIPTION:
URL:https://aaneok.org/event/rebos-nooner-info-2/
LOCATION:REBOS Clubhouse/New\, 7012 S Utica Ave\, Tulsa\, OK\, 74136\, United States
CATEGORIES:Group Events
ATTACH;FMTTYPE=application/pdf:https://aaneok.org/wp-content/uploads/2026/03/E-S-H-Google-Slides-1.pdf
END:VEVENT
BEGIN:VEVENT
DTSTART;TZID=America/New_York:20260410T183000
DTEND;TZID=America/New_York:20260410T210000
DTSTAMP:20260424T082327
CREATED:20260224T161536Z
LAST-MODIFIED:20260224T161536Z
UID:384652-1775845800-1775854800@aaneok.org
SUMMARY:Three Legacies AA Group of Ada
DESCRIPTION:
URL:https://aaneok.org/event/three-legacies-aa-group-of-ada-3/
LOCATION:Three Legacies AA of Ada\, 100 E 17th St\, Ada\, 74820\, United States
CATEGORIES:Group Events
ATTACH;FMTTYPE=application/pdf:https://aaneok.org/wp-content/uploads/2026/02/DIST-60-FLYER-2026-APR-BI-MONTHLY-THREE-LEGACIES-GP-SPEAKER-JUSTIN-P-THREE-LEGACIES-GP-ADA-OK-APR10-1.pdf
END:VEVENT
END:VCALENDAR