BEGIN:VCALENDAR
VERSION:2.0
PRODID:-//NECS - ECPv6.15.20//NONSGML v1.0//EN
CALSCALE:GREGORIAN
METHOD:PUBLISH
X-WR-CALNAME:NECS
X-ORIGINAL-URL:https://aaneok.org
X-WR-CALDESC:Events for NECS
REFRESH-INTERVAL;VALUE=DURATION:PT1H
X-Robots-Tag:noindex
X-PUBLISHED-TTL:PT1H
BEGIN:VTIMEZONE
TZID:America/New_York
BEGIN:DAYLIGHT
TZOFFSETFROM:-0500
TZOFFSETTO:-0400
TZNAME:EDT
DTSTART:20250309T070000
END:DAYLIGHT
BEGIN:STANDARD
TZOFFSETFROM:-0400
TZOFFSETTO:-0500
TZNAME:EST
DTSTART:20251102T060000
END:STANDARD
BEGIN:DAYLIGHT
TZOFFSETFROM:-0500
TZOFFSETTO:-0400
TZNAME:EDT
DTSTART:20260308T070000
END:DAYLIGHT
BEGIN:STANDARD
TZOFFSETFROM:-0400
TZOFFSETTO:-0500
TZNAME:EST
DTSTART:20261101T060000
END:STANDARD
BEGIN:DAYLIGHT
TZOFFSETFROM:-0500
TZOFFSETTO:-0400
TZNAME:EDT
DTSTART:20270314T070000
END:DAYLIGHT
BEGIN:STANDARD
TZOFFSETFROM:-0400
TZOFFSETTO:-0500
TZNAME:EST
DTSTART:20271107T060000
END:STANDARD
END:VTIMEZONE
BEGIN:VEVENT
DTSTART;TZID=America/New_York:20260428T190000
DTEND;TZID=America/New_York:20260428T200000
DTSTAMP:20260424T115200
CREATED:20260422T170242Z
LAST-MODIFIED:20260422T170242Z
UID:384951-1777402800-1777406400@aaneok.org
SUMMARY:Before and After  Group Speaker Meeting
DESCRIPTION:
URL:https://aaneok.org/event/before-and-after-group-speaker-meeting/
LOCATION:Before and After Group\, 1118 W Broadway\, Collinsville\, OK\, 74021\, United States
CATEGORIES:Group Events
ATTACH;FMTTYPE=application/pdf:https://aaneok.org/wp-content/uploads/2026/04/B4-After-April-2026.pdf
END:VEVENT
BEGIN:VEVENT
DTSTART;TZID=America/New_York:20260430T180000
DTEND;TZID=America/New_York:20260430T193000
DTSTAMP:20260424T115200
CREATED:20260423T193414Z
LAST-MODIFIED:20260423T193414Z
UID:384954-1777572000-1777577400@aaneok.org
SUMMARY:Bottoms Up Tahlequah Birthday Night
DESCRIPTION:
URL:https://aaneok.org/event/bottoms-up-tahlequah-birthday-night/
LOCATION:Tahlequah Church of the Nazarene\, 20443 E. Allen Rd.\, Tahlequah\, OK\, 74464\, United States
CATEGORIES:Group Events
ATTACH;FMTTYPE=application/pdf:https://aaneok.org/wp-content/uploads/2026/04/Bottoms-Up-April-2026-Speaker.pdf
END:VEVENT
BEGIN:VEVENT
DTSTART;VALUE=DATE:20260501
DTEND;VALUE=DATE:20260502
DTSTAMP:20260424T115200
CREATED:20260328T162050Z
LAST-MODIFIED:20260328T162050Z
UID:384768-1777593600-1777679999@aaneok.org
SUMMARY:REBOS Nooner Info
DESCRIPTION:
URL:https://aaneok.org/event/rebos-nooner-info-4/
LOCATION:REBOS Clubhouse/New\, 7012 S Utica Ave\, Tulsa\, OK\, 74136\, United States
CATEGORIES:Group Events
ATTACH;FMTTYPE=application/pdf:https://aaneok.org/wp-content/uploads/2026/03/REBOS-NOONER-Info-1.pdf
END:VEVENT
BEGIN:VEVENT
DTSTART;VALUE=DATE:20260502
DTEND;VALUE=DATE:20260503
DTSTAMP:20260424T115200
CREATED:20260415T141349Z
LAST-MODIFIED:20260415T141349Z
UID:384898-1777680000-1777766399@aaneok.org
SUMMARY:Love and Fellowship Ponca City Speaker
DESCRIPTION:
URL:https://aaneok.org/event/love-and-fellowship-ponca-city-speaker/
LOCATION:Woodlands Christian Church Ponca City\, 1400 E. Hartford Ave.\, Ponca City\, OK\, 74604\, United States
CATEGORIES:Group Events
ATTACH;FMTTYPE=application/pdf:https://aaneok.org/wp-content/uploads/2026/04/Love-and-Fellowship-Ponca-City-Sperker.pdf
END:VEVENT
BEGIN:VEVENT
DTSTART;TZID=America/New_York:20260502T160000
DTEND;TZID=America/New_York:20260502T200000
DTSTAMP:20260424T115200
CREATED:20260410T142845Z
LAST-MODIFIED:20260422T140505Z
UID:384871-1777737600-1777752000@aaneok.org
SUMMARY:Monkey Island Original Group Spring Picnic
DESCRIPTION:
URL:https://aaneok.org/event/monkey-island-original-group-spring-picnic/
LOCATION:Honey Creek State Park\, 901 State Park Rd.\, Grove\, OK\, 74344\, United States
CATEGORIES:Group Events
ATTACH;FMTTYPE=application/pdf:https://aaneok.org/wp-content/uploads/2026/04/updated-Monkey-Island.pdf
END:VEVENT
BEGIN:VEVENT
DTSTART;TZID=America/New_York:20260502T190000
DTEND;TZID=America/New_York:20260502T200000
DTSTAMP:20260424T115200
CREATED:20260422T164943Z
LAST-MODIFIED:20260422T164943Z
UID:384944-1777748400-1777752000@aaneok.org
SUMMARY:Outlaw Safe Cracker Speaker Meeting
DESCRIPTION:
URL:https://aaneok.org/event/outlaw-safe-cracker-speaker-meeting-2/
LOCATION:Outreach Church of Christ/Claremore\, 201 N. Moore Ave.\, Claremore\, OK\, 74017\, United States
CATEGORIES:Group Events
ATTACH;FMTTYPE=application/pdf:https://aaneok.org/wp-content/uploads/2026/04/Outlaw-Safe-Cracker-May-2026-Speaker.pdf
END:VEVENT
BEGIN:VEVENT
DTSTART;TZID=America/New_York:20260503T120000
DTEND;TZID=America/New_York:20260503T140000
DTSTAMP:20260424T115200
CREATED:20260403T135611Z
LAST-MODIFIED:20260414T142856Z
UID:384813-1777809600-1777816800@aaneok.org
SUMMARY:BAD Girls Meditation Walk with Sound Bath
DESCRIPTION:
URL:https://aaneok.org/event/bad-girls-meditation-walk/
LOCATION:Osage Forest of Peace\, 141 Monastery Rd\, Sand Springs\, OK\, 74063\, United States
CATEGORIES:Group Events
ATTACH;FMTTYPE=image/png:https://aaneok.org/wp-content/uploads/2026/04/010FDA9F-29E5-4E7B-96FB-503395B9FDD2-1.png
END:VEVENT
BEGIN:VEVENT
DTSTART;TZID=America/New_York:20260509T180000
DTEND;TZID=America/New_York:20260509T200000
DTSTAMP:20260424T115200
CREATED:20260413T145807Z
LAST-MODIFIED:20260413T145807Z
UID:384878-1778349600-1778356800@aaneok.org
SUMMARY:Acceptance Group Annual Hotdog Cookout
DESCRIPTION:
URL:https://aaneok.org/event/acceptance-group-annual-hotdog-cookout/
LOCATION:Lake Ponca Campground\, 1688 LA Cann Dr\, Ponca City\, OK\, 74604\, United States
CATEGORIES:Group Events
ATTACH;FMTTYPE=application/pdf:https://aaneok.org/wp-content/uploads/2026/04/Acceptance-group-hot-dog.pdf
END:VEVENT
BEGIN:VEVENT
DTSTART;VALUE=DATE:20260512
DTEND;VALUE=DATE:20260513
DTSTAMP:20260424T115200
CREATED:20260422T165131Z
LAST-MODIFIED:20260422T165317Z
UID:384947-1778544000-1778630399@aaneok.org
SUMMARY:Tulsa Big Book New Time May 12 2026
DESCRIPTION:
URL:https://aaneok.org/event/tulsa-big-book-new-time-may-12-2026/
LOCATION:Midtown Church of Christ\, 2900 S Yale Ave\, Tulsa\, OK\, 74114\, United States
CATEGORIES:Group Events
ATTACH;FMTTYPE=application/pdf:https://aaneok.org/wp-content/uploads/2026/04/Tulsa-Big-Book-Time-Change-May-2026.pdf
END:VEVENT
BEGIN:VEVENT
DTSTART;TZID=America/New_York:20260531T190000
DTEND;TZID=America/New_York:20260531T210000
DTSTAMP:20260424T115200
CREATED:20260206T145524Z
LAST-MODIFIED:20260206T145524Z
UID:384554-1780254000-1780261200@aaneok.org
SUMMARY:El Reno Group Eat an Speak
DESCRIPTION:
URL:https://aaneok.org/event/el-reno-group-eat-an-speak-2/
LOCATION:El Reno Group\, 506 S. Barker Avenue\, El Reno\, OK\, 73036\, United States
CATEGORIES:Group Events
ATTACH;FMTTYPE=application/pdf:https://aaneok.org/wp-content/uploads/2026/02/El-Reno-Group-Eat-an-Speak-May-2026.pdf
END:VEVENT
BEGIN:VEVENT
DTSTART;TZID=America/New_York:20260606T150000
DTEND;TZID=America/New_York:20260606T190000
DTSTAMP:20260424T115200
CREATED:20260406T134701Z
LAST-MODIFIED:20260406T134701Z
UID:384826-1780758000-1780772400@aaneok.org
SUMMARY:LOFT 10th ANNIVERSARY
DESCRIPTION:
URL:https://aaneok.org/event/loft-10th-anniversary/
LOCATION:The Loft\, 9902 N 161 E Ave\, owasso\, OK\, 74055\, United States
CATEGORIES:Group Events
ATTACH;FMTTYPE=image/jpeg:https://aaneok.org/wp-content/uploads/2026/04/The-Loft-10th-Anniversary-June-6-2026-scaled.jpeg
END:VEVENT
BEGIN:VEVENT
DTSTART;VALUE=DATE:20260619
DTEND;VALUE=DATE:20260622
DTSTAMP:20260424T115200
CREATED:20260408T200316Z
LAST-MODIFIED:20260408T200316Z
UID:384863-1781827200-1782086399@aaneok.org
SUMMARY:Old Homestead Group Summer Camp Out
DESCRIPTION:
URL:https://aaneok.org/event/old-homestead-group-summer-camp-out/
LOCATION:OK
CATEGORIES:Group Events
ATTACH;FMTTYPE=application/pdf:https://aaneok.org/wp-content/uploads/2026/04/Old-Homestead-Group-Summer-Campout-2026.pdf
END:VEVENT
BEGIN:VEVENT
DTSTART;TZID=America/New_York:20260718T100000
DTEND;TZID=America/New_York:20260718T150000
DTSTAMP:20260424T115200
CREATED:20260421T150554Z
LAST-MODIFIED:20260421T150554Z
UID:384932-1784368800-1784386800@aaneok.org
SUMMARY:Now rescheduled!  OWS Step Workshop
DESCRIPTION:
URL:https://aaneok.org/event/now-rescheduled-ows-step-workshop/
LOCATION:Original Westside Group/Tulsa\, 6727 S. Sheridan Rd.\, Tulsa\, OK\, 74133\, United States
CATEGORIES:Group Events
ATTACH;FMTTYPE=application/pdf:https://aaneok.org/wp-content/uploads/2026/04/OWS-workshop_steps-4567-flyer-update_041326-1.pdf
END:VEVENT
BEGIN:VEVENT
DTSTART;VALUE=DATE:20260918
DTEND;VALUE=DATE:20260921
DTSTAMP:20260424T115200
CREATED:20260129T202321Z
LAST-MODIFIED:20260129T202321Z
UID:384467-1789689600-1789948799@aaneok.org
SUMMARY:Gratitude Getaway Womens AA Retreat
DESCRIPTION:
URL:https://aaneok.org/event/gratitude-getaway-womens-aa-retreat/
LOCATION:OK
CATEGORIES:Group Events
ATTACH;FMTTYPE=application/pdf:https://aaneok.org/wp-content/uploads/2026/01/Gratitude-Getaway-2026.pdf
END:VEVENT
END:VCALENDAR