BEGIN:VCALENDAR
VERSION:2.0
PRODID:-//NECS - ECPv6.15.20//NONSGML v1.0//EN
CALSCALE:GREGORIAN
METHOD:PUBLISH
X-WR-CALNAME:NECS
X-ORIGINAL-URL:https://aaneok.org
X-WR-CALDESC:Events for NECS
REFRESH-INTERVAL;VALUE=DURATION:PT1H
X-Robots-Tag:noindex
X-PUBLISHED-TTL:PT1H
BEGIN:VTIMEZONE
TZID:America/New_York
BEGIN:DAYLIGHT
TZOFFSETFROM:-0500
TZOFFSETTO:-0400
TZNAME:EDT
DTSTART:20240310T070000
END:DAYLIGHT
BEGIN:STANDARD
TZOFFSETFROM:-0400
TZOFFSETTO:-0500
TZNAME:EST
DTSTART:20241103T060000
END:STANDARD
BEGIN:DAYLIGHT
TZOFFSETFROM:-0500
TZOFFSETTO:-0400
TZNAME:EDT
DTSTART:20250309T070000
END:DAYLIGHT
BEGIN:STANDARD
TZOFFSETFROM:-0400
TZOFFSETTO:-0500
TZNAME:EST
DTSTART:20251102T060000
END:STANDARD
BEGIN:DAYLIGHT
TZOFFSETFROM:-0500
TZOFFSETTO:-0400
TZNAME:EDT
DTSTART:20260308T070000
END:DAYLIGHT
BEGIN:STANDARD
TZOFFSETFROM:-0400
TZOFFSETTO:-0500
TZNAME:EST
DTSTART:20261101T060000
END:STANDARD
BEGIN:DAYLIGHT
TZOFFSETFROM:-0500
TZOFFSETTO:-0400
TZNAME:EDT
DTSTART:20270314T070000
END:DAYLIGHT
BEGIN:STANDARD
TZOFFSETFROM:-0400
TZOFFSETTO:-0500
TZNAME:EST
DTSTART:20271107T060000
END:STANDARD
END:VTIMEZONE
BEGIN:VEVENT
DTSTART;VALUE=DATE:20251204
DTEND;VALUE=DATE:20251205
DTSTAMP:20260425T095735
CREATED:20250530T163211Z
LAST-MODIFIED:20250925T174002Z
UID:382659-1764806400-1764892799@aaneok.org
SUMMARY:Its In The Book Muskogee Womens Big Book Study
DESCRIPTION:
URL:https://aaneok.org/event/its-in-the-book-muskogee-womens-big-book-study-7/
LOCATION:It’s in the Book/Muskogee\, 2130 W. Okmulgee St.\, Muskogee\, OK\, 74401\, United States
CATEGORIES:Group Events
ATTACH;FMTTYPE=application/pdf:https://aaneok.org/wp-content/uploads/2025/05/Its-in-the-book-revised-2.pdf
END:VEVENT
BEGIN:VEVENT
DTSTART;VALUE=DATE:20251206
DTEND;VALUE=DATE:20251207
DTSTAMP:20260425T095735
CREATED:20251119T230035Z
LAST-MODIFIED:20251119T230035Z
UID:383881-1764979200-1765065599@aaneok.org
SUMMARY:Tulsa Group's Ugly Sweater Party
DESCRIPTION:
URL:https://aaneok.org/event/tulsa-groups-ugly-sweater-party/
LOCATION:Tulsa Group\, 3010 E. King St.\, Tulsa\, OK\, 74110\, United States
CATEGORIES:Group Events
ATTACH;FMTTYPE=application/pdf:https://aaneok.org/wp-content/uploads/2025/11/Untitled-design-26.pdf
END:VEVENT
BEGIN:VEVENT
DTSTART;TZID=America/New_York:20251206T183000
DTEND;TZID=America/New_York:20251206T193000
DTSTAMP:20260425T095735
CREATED:20251217T191045Z
LAST-MODIFIED:20251217T191045Z
UID:384040-1765045800-1765049400@aaneok.org
SUMMARY:Jenks Group 3 Year Anniversary
DESCRIPTION:
URL:https://aaneok.org/event/jenks-group-3-year-anniversary/
LOCATION:St. James Presbyterian Church Jenks\, 11970 S. Elm St.\, Jenks\, OK\, 74037\, United States
CATEGORIES:Group Events
ATTACH;FMTTYPE=application/pdf:https://aaneok.org/wp-content/uploads/2025/12/Jenks-Group-jan-2026.pdf
END:VEVENT
BEGIN:VEVENT
DTSTART;TZID=America/New_York:20251213T170000
DTEND;TZID=America/New_York:20251213T210000
DTSTAMP:20260425T095735
CREATED:20250728T211719Z
LAST-MODIFIED:20250728T211719Z
UID:383071-1765645200-1765659600@aaneok.org
SUMMARY:Full Measures 6th Anniversary
DESCRIPTION:
URL:https://aaneok.org/event/full-measures-6th-anniversary/
LOCATION:Hillcrest Baptist Church\, 902 N Washington\, Stillwater\, OK\, 74075\, United States
CATEGORIES:Group Events
ATTACH;FMTTYPE=application/pdf:https://aaneok.org/wp-content/uploads/2025/07/Full-Measures-6th-FM-created.pdf
END:VEVENT
BEGIN:VEVENT
DTSTART;VALUE=DATE:20251218
DTEND;VALUE=DATE:20251219
DTSTAMP:20260425T095735
CREATED:20251217T192412Z
LAST-MODIFIED:20251217T193139Z
UID:384046-1766016000-1766102399@aaneok.org
SUMMARY:B.A.D. Girls Club is Moving
DESCRIPTION:
URL:https://aaneok.org/event/b-a-d-girls-club-is-moving/
LOCATION:REBOS Clubhouse/New\, 7012 S Utica Ave\, Tulsa\, OK\, 74136\, United States
CATEGORIES:Group Events
ATTACH;FMTTYPE=application/pdf:https://aaneok.org/wp-content/uploads/2025/12/BAD-Girls-Moving.pdf
END:VEVENT
BEGIN:VEVENT
DTSTART;VALUE=DATE:20251218
DTEND;VALUE=DATE:20251219
DTSTAMP:20260425T095735
CREATED:20251111T215157Z
LAST-MODIFIED:20251111T215157Z
UID:383837-1766016000-1766102399@aaneok.org
SUMMARY:Purcell Unity Group Bday/Speaker Night
DESCRIPTION:
URL:https://aaneok.org/event/purcell-unity-group-bday-speaker-night-3/
LOCATION:Trinity United Methodist Church/Purcell\, 211 north 2nd street\, purcell\, OK\, 73080\, United States
CATEGORIES:Group Events
ATTACH;FMTTYPE=application/pdf:https://aaneok.org/wp-content/uploads/2025/11/Untitled-design-20.pdf
END:VEVENT
BEGIN:VEVENT
DTSTART;VALUE=DATE:20251220
DTEND;VALUE=DATE:20251221
DTSTAMP:20260425T095735
CREATED:20251126T155451Z
LAST-MODIFIED:20251126T155451Z
UID:383925-1766188800-1766275199@aaneok.org
SUMMARY:B.A.D. Girls Christmas Sock & Book Exchange
DESCRIPTION:
URL:https://aaneok.org/event/b-a-d-girls-christmas-sock-book-exchange/
LOCATION:Harvard Avenue Christian Church\, 5502 S. Harvard Ave.\, Tulsa\, OK\, 74135\, United States
CATEGORIES:Group Events
ATTACH;FMTTYPE=application/pdf:https://aaneok.org/wp-content/uploads/2025/11/BAD-Girls-Xmas-Sock.pdf
END:VEVENT
BEGIN:VEVENT
DTSTART;VALUE=DATE:20251225
DTEND;VALUE=DATE:20251226
DTSTAMP:20260425T095735
CREATED:20251106T150719Z
LAST-MODIFIED:20251106T150719Z
UID:383788-1766620800-1766707199@aaneok.org
SUMMARY:ODAT Christmas Feast
DESCRIPTION:
URL:https://aaneok.org/event/odat-christmas-feast/
LOCATION:Unanimity Club\, 8749 S Lewis Avenue\, Tulsa\, OK\, 74137\, United States
CATEGORIES:Group Events
ATTACH;FMTTYPE=application/pdf:https://aaneok.org/wp-content/uploads/2025/11/ODat-Xmas-Feast.pdf
END:VEVENT
BEGIN:VEVENT
DTSTART;VALUE=DATE:20251225
DTEND;VALUE=DATE:20251226
DTSTAMP:20260425T095735
CREATED:20251212T232728Z
LAST-MODIFIED:20251212T232728Z
UID:384007-1766620800-1766707199@aaneok.org
SUMMARY:Dry Dock Clubhouse Christmas Day
DESCRIPTION:
URL:https://aaneok.org/event/dry-dock-clubhouse-christmas-day/
LOCATION:Dry Dock/Tulsa\, 5525 E. 51st St. Suite 403\, Tulsa\, OK\, 74135\, United States
CATEGORIES:Group Events
ATTACH;FMTTYPE=application/pdf:https://aaneok.org/wp-content/uploads/2025/12/Untitled-design-27.pdf
END:VEVENT
BEGIN:VEVENT
DTSTART;VALUE=DATE:20251225
DTEND;VALUE=DATE:20251226
DTSTAMP:20260425T095735
CREATED:20251217T194059Z
LAST-MODIFIED:20251217T194059Z
UID:384056-1766620800-1766707199@aaneok.org
SUMMARY:B.A.D. Girls is Moving
DESCRIPTION:
URL:https://aaneok.org/event/b-a-d-girls-is-moving/
LOCATION:REBOS Clubhouse/New\, 7012 S Utica Ave\, Tulsa\, OK\, 74136\, United States
CATEGORIES:Group Events
END:VEVENT
BEGIN:VEVENT
DTSTART;TZID=America/New_York:20251227T093000
DTEND;TZID=America/New_York:20251227T104500
DTSTAMP:20260425T095735
CREATED:20251217T192027Z
LAST-MODIFIED:20251217T192027Z
UID:384043-1766827800-1766832300@aaneok.org
SUMMARY:B.A.D. Girls December Birthdays
DESCRIPTION:
URL:https://aaneok.org/event/b-a-d-girls-december-birthdays/
LOCATION:Harvard Avenue Christian Church\, 5502 S. Harvard Ave.\, Tulsa\, OK\, 74135\, United States
CATEGORIES:Group Events
ATTACH;FMTTYPE=application/pdf:https://aaneok.org/wp-content/uploads/2025/12/BAD-Girls-Dec-2025-Bdays.pdf
END:VEVENT
BEGIN:VEVENT
DTSTART;TZID=America/New_York:20251228T190000
DTEND;TZID=America/New_York:20251228T200000
DTSTAMP:20260425T095735
CREATED:20251216T205327Z
LAST-MODIFIED:20251216T205327Z
UID:384034-1766948400-1766952000@aaneok.org
SUMMARY:Evening Sunrise Moving
DESCRIPTION:Evening Sunrise is Moving.docx (1)
URL:https://aaneok.org/event/evening-sunrise-moving/
LOCATION:Yale Ave. Presbyterian Church/Tulsa\, 510 S. Yale Ave.\, Tulsa\, OK\, 74112\, United States
CATEGORIES:Group Events
ATTACH;FMTTYPE=image/jpg:https://aaneok.org/wp-content/uploads/2025/12/Evening-Sunrise-is-Moving-docx-1-pdf-image.jpg
END:VEVENT
BEGIN:VEVENT
DTSTART;VALUE=DATE:20251230
DTEND;VALUE=DATE:20251231
DTSTAMP:20260425T095735
CREATED:20251210T213346Z
LAST-MODIFIED:20251210T213346Z
UID:383976-1767052800-1767139199@aaneok.org
SUMMARY:The Unity Group/Pryor Speaker Meeting
DESCRIPTION:
URL:https://aaneok.org/event/the-unity-group-pryor-speaker-meeting-4/
LOCATION:Unity Pryor Group\, 110 N Vann St\, Pryor\, 74361\, United States
CATEGORIES:Group Events
ATTACH;FMTTYPE=application/pdf:https://aaneok.org/wp-content/uploads/2025/12/Untitled-design-20.pdf
END:VEVENT
BEGIN:VEVENT
DTSTART;VALUE=DATE:20251230
DTEND;VALUE=DATE:20251231
DTSTAMP:20260425T095735
CREATED:20251217T194603Z
LAST-MODIFIED:20251217T194603Z
UID:384062-1767052800-1767139199@aaneok.org
SUMMARY:Before and After Group Bday/Speaker Meeting
DESCRIPTION:
URL:https://aaneok.org/event/before-and-after-group-bday-speaker-meeting/
LOCATION:Before and After Group\, 1118 W Broadway\, Collinsville\, OK\, 74021\, United States
CATEGORIES:Group Events
ATTACH;FMTTYPE=application/pdf:https://aaneok.org/wp-content/uploads/2025/12/B4-an-after-dec-30-2025.pdf
END:VEVENT
BEGIN:VEVENT
DTSTART;VALUE=DATE:20251231
DTEND;VALUE=DATE:20260101
DTSTAMP:20260425T095735
CREATED:20251226T144237Z
LAST-MODIFIED:20251226T144237Z
UID:384077-1767139200-1767225599@aaneok.org
SUMMARY:Unanimity Club New Years Eve Masquerade Party
DESCRIPTION:
URL:https://aaneok.org/event/unanimity-club-new-years-eve-masquerade-party/
LOCATION:Unanimity Club\, 8749 S Lewis Avenue\, Tulsa\, OK\, 74137\, United States
CATEGORIES:Group Events
ATTACH;FMTTYPE=application/pdf:https://aaneok.org/wp-content/uploads/2025/12/PATS-NYE-2025.pdf
END:VEVENT
BEGIN:VEVENT
DTSTART;VALUE=DATE:20251231
DTEND;VALUE=DATE:20260101
DTSTAMP:20260425T095735
CREATED:20251226T152242Z
LAST-MODIFIED:20251226T152242Z
UID:384080-1767139200-1767225599@aaneok.org
SUMMARY:Ada Three Legacies Group New Years Eve Event
DESCRIPTION:
URL:https://aaneok.org/event/ada-three-legacies-group-new-years-eve-event/
LOCATION:St. Luke’s Episcopal Church Ada\, 100 E. 17th St.\, Ada\, OK\, 74820\, United States
CATEGORIES:Group Events
ATTACH;FMTTYPE=application/pdf:https://aaneok.org/wp-content/uploads/2025/12/Dist-60-Three-Leg-New-Year-Eve-2025.pdf
END:VEVENT
BEGIN:VEVENT
DTSTART;VALUE=DATE:20260101
DTEND;VALUE=DATE:20260102
DTSTAMP:20260425T095735
CREATED:20251201T174126Z
LAST-MODIFIED:20251201T174126Z
UID:383943-1767225600-1767311999@aaneok.org
SUMMARY:REBOS is Moving!
DESCRIPTION:
URL:https://aaneok.org/event/rebos-is-moving/
LOCATION:7012 South Utica Ave Tulsa\,OK\, 7012 S Utica Ave\, Tulsa\, 74136\, United States
CATEGORIES:Group Events
ATTACH;FMTTYPE=application/pdf:https://aaneok.org/wp-content/uploads/2025/12/Rebos-Move-Flyer.pdf
END:VEVENT
BEGIN:VEVENT
DTSTART;VALUE=DATE:20260103
DTEND;VALUE=DATE:20260104
DTSTAMP:20260425T095735
CREATED:20251217T194309Z
LAST-MODIFIED:20251217T194309Z
UID:384059-1767398400-1767484799@aaneok.org
SUMMARY:B.A.D. Girls is Moving
DESCRIPTION:
URL:https://aaneok.org/event/b-a-d-girls-is-moving-2/
LOCATION:REBOS Clubhouse/New\, 7012 S Utica Ave\, Tulsa\, OK\, 74136\, United States
CATEGORIES:Group Events
END:VEVENT
BEGIN:VEVENT
DTSTART;TZID=America/New_York:20260106T183000
DTEND;TZID=America/New_York:20260106T193000
DTSTAMP:20260425T095735
CREATED:20260106T132834Z
LAST-MODIFIED:20260106T132834Z
UID:384126-1767724200-1767727800@aaneok.org
SUMMARY:Jenks Group 3 Year Anniversary
DESCRIPTION:
URL:https://aaneok.org/event/jenks-group-3-year-anniversary-2/
LOCATION:St James Presbyterian Church\, 11970 S. Elm St.\, Jenks\, 74037
CATEGORIES:Group Events
ATTACH;FMTTYPE=application/pdf:https://aaneok.org/wp-content/uploads/2026/01/JENKS-Group-2026.pdf
END:VEVENT
BEGIN:VEVENT
DTSTART;TZID=America/New_York:20260113T120000
DTEND;TZID=America/New_York:20260113T130000
DTSTAMP:20260425T095735
CREATED:20260113T172536Z
LAST-MODIFIED:20260113T172653Z
UID:384261-1768305600-1768309200@aaneok.org
SUMMARY:NEW MEETING! Noon Awakenings
DESCRIPTION:
URL:https://aaneok.org/event/new-meeting-noon-awakenings/
LOCATION:OK
CATEGORIES:Group Events
ATTACH;FMTTYPE=application/pdf:https://aaneok.org/wp-content/uploads/2026/01/noon-awakenings.pdf
END:VEVENT
BEGIN:VEVENT
DTSTART;VALUE=DATE:20260115
DTEND;VALUE=DATE:20260116
DTSTAMP:20260425T095735
CREATED:20260114T145844Z
LAST-MODIFIED:20260114T145844Z
UID:384272-1768435200-1768521599@aaneok.org
SUMMARY:Noon Awakenings New Online  Group
DESCRIPTION:
URL:https://aaneok.org/event/noon-awakenings-new-online-group/
LOCATION:OK
CATEGORIES:Group Events
ATTACH;FMTTYPE=application/pdf:https://aaneok.org/wp-content/uploads/2026/01/Noon-Awakenings20260114085558.pdf
END:VEVENT
BEGIN:VEVENT
DTSTART;TZID=America/New_York:20260119T190000
DTEND;TZID=America/New_York:20260119T200000
DTSTAMP:20260425T095735
CREATED:20260113T220801Z
LAST-MODIFIED:20260113T220801Z
UID:384268-1768849200-1768852800@aaneok.org
SUMMARY:Beginners Meeting
DESCRIPTION:Meeting Starts 1/19/ 26
URL:https://aaneok.org/event/beginners-meeting/
LOCATION:REBOS Clubhouse/New\, 7012 S Utica Ave\, Tulsa\, OK\, 74136\, United States
CATEGORIES:Group Events
ATTACH;FMTTYPE=application/pdf:https://aaneok.org/wp-content/uploads/2026/01/Beginners-Meeting.pdf
END:VEVENT
BEGIN:VEVENT
DTSTART;TZID=America/New_York:20260121T173000
DTEND;TZID=America/New_York:20260121T203000
DTSTAMP:20260425T095735
CREATED:20251206T151424Z
LAST-MODIFIED:20251206T151424Z
UID:383964-1769016600-1769027400@aaneok.org
SUMMARY:Going to Any Lengths Birthday
DESCRIPTION:
URL:https://aaneok.org/event/going-to-any-lengths-birthday/
LOCATION:Home Builders Association\, 11545 E 43rd St\, Tulsa\, 74146\, United States
CATEGORIES:Group Events
ATTACH;FMTTYPE=application/pdf:https://aaneok.org/wp-content/uploads/2025/12/Birthday-Flyer-2.pdf
END:VEVENT
BEGIN:VEVENT
DTSTART;TZID=America/New_York:20260123T190000
DTEND;TZID=America/New_York:20260123T200000
DTSTAMP:20260425T095735
CREATED:20260109T191438Z
LAST-MODIFIED:20260109T191438Z
UID:384223-1769194800-1769198400@aaneok.org
SUMMARY:Owasso Group Dinner/Speaker
DESCRIPTION:
URL:https://aaneok.org/event/owasso-group-dinner-speaker/
LOCATION:St Henry’s Catholic Church\, 8500 N Owasso Expressway\, Owasso\, OK\, 74055\, United States
CATEGORIES:Group Events
ATTACH;FMTTYPE=application/pdf:https://aaneok.org/wp-content/uploads/2026/01/Owasso-Jan-2026.pdf
END:VEVENT
BEGIN:VEVENT
DTSTART;TZID=America/New_York:20260123T193000
DTEND;TZID=America/New_York:20260123T203000
DTSTAMP:20260425T095735
CREATED:20260123T210103Z
LAST-MODIFIED:20260123T210103Z
UID:384436-1769196600-1769200200@aaneok.org
SUMMARY:Tulsa Big Book Meeting has been cancelled for tonight
DESCRIPTION:
URL:https://aaneok.org/event/tulsa-big-book-meeting-has-been-cancelled-for-tonight/
LOCATION:OK
CATEGORIES:Group Events
END:VEVENT
BEGIN:VEVENT
DTSTART;TZID=America/New_York:20260124T093000
DTEND;TZID=America/New_York:20260124T103000
DTSTAMP:20260425T095735
CREATED:20260119T171327Z
LAST-MODIFIED:20260121T145511Z
UID:384337-1769247000-1769250600@aaneok.org
SUMMARY:B.A.D. Girls January Birthdays
DESCRIPTION:
URL:https://aaneok.org/event/b-a-d-girls-january-birthdays/
LOCATION:REBOS Clubhouse/New\, 7012 S Utica Ave\, Tulsa\, OK\, 74136\, United States
CATEGORIES:Group Events
ATTACH;FMTTYPE=application/pdf:https://aaneok.org/wp-content/uploads/2026/01/Bad-Girls-Jan-Bday.pdf
END:VEVENT
BEGIN:VEVENT
DTSTART;TZID=America/New_York:20260125T090000
DTEND;TZID=America/New_York:20260125T100000
DTSTAMP:20260425T095735
CREATED:20260123T221241Z
LAST-MODIFIED:20260123T222243Z
UID:384438-1769331600-1769335200@aaneok.org
SUMMARY:Secular Sobriety will only meet on Zoom today
DESCRIPTION:
URL:https://aaneok.org/event/secular-sobriety-will-on-meet-on-zoom-today/
LOCATION:OK
CATEGORIES:Group Events
END:VEVENT
BEGIN:VEVENT
DTSTART;VALUE=DATE:20260127
DTEND;VALUE=DATE:20260128
DTSTAMP:20260425T095735
CREATED:20260114T223028Z
LAST-MODIFIED:20260114T223028Z
UID:384304-1769472000-1769558399@aaneok.org
SUMMARY:Before and After Bday/Speaker
DESCRIPTION:
URL:https://aaneok.org/event/before-and-after-bday-speaker/
LOCATION:Before and After Group\, 1118 W Broadway\, Collinsville\, OK\, 74021\, United States
CATEGORIES:Group Events
ATTACH;FMTTYPE=application/pdf:https://aaneok.org/wp-content/uploads/2026/01/B4an-After-Jan-2026.pdf
END:VEVENT
BEGIN:VEVENT
DTSTART;VALUE=DATE:20260129
DTEND;VALUE=DATE:20260130
DTSTAMP:20260425T095735
CREATED:20260129T225939Z
LAST-MODIFIED:20260129T225939Z
UID:384470-1769644800-1769731199@aaneok.org
SUMMARY:Marble City Meeting Canceled Today
DESCRIPTION:
URL:https://aaneok.org/event/marble-city-meeting-canceled-today/
LOCATION:OK
CATEGORIES:Group Events
END:VEVENT
BEGIN:VEVENT
DTSTART;TZID=America/New_York:20260129T180000
DTEND;TZID=America/New_York:20260129T190000
DTSTAMP:20260425T095735
CREATED:20260119T171605Z
LAST-MODIFIED:20260119T171605Z
UID:384341-1769709600-1769713200@aaneok.org
SUMMARY:Bottoms Up Birthday Night
DESCRIPTION:
URL:https://aaneok.org/event/bottoms-up-birthday-night/
LOCATION:Tahlequah Church of the Nazarene\, 20443 E. Allen Rd.\, Tahlequah\, OK\, 74464\, United States
CATEGORIES:Group Events
ATTACH;FMTTYPE=application/pdf:https://aaneok.org/wp-content/uploads/2026/01/Bottoms-Up.pdf
END:VEVENT
END:VCALENDAR