BEGIN:VCALENDAR
VERSION:2.0
PRODID:-//NECS - ECPv6.15.20//NONSGML v1.0//EN
CALSCALE:GREGORIAN
METHOD:PUBLISH
X-ORIGINAL-URL:https://aaneok.org
X-WR-CALDESC:Events for NECS
REFRESH-INTERVAL;VALUE=DURATION:PT1H
X-Robots-Tag:noindex
X-PUBLISHED-TTL:PT1H
BEGIN:VTIMEZONE
TZID:America/New_York
BEGIN:DAYLIGHT
TZOFFSETFROM:-0500
TZOFFSETTO:-0400
TZNAME:EDT
DTSTART:20240310T070000
END:DAYLIGHT
BEGIN:STANDARD
TZOFFSETFROM:-0400
TZOFFSETTO:-0500
TZNAME:EST
DTSTART:20241103T060000
END:STANDARD
BEGIN:DAYLIGHT
TZOFFSETFROM:-0500
TZOFFSETTO:-0400
TZNAME:EDT
DTSTART:20250309T070000
END:DAYLIGHT
BEGIN:STANDARD
TZOFFSETFROM:-0400
TZOFFSETTO:-0500
TZNAME:EST
DTSTART:20251102T060000
END:STANDARD
BEGIN:DAYLIGHT
TZOFFSETFROM:-0500
TZOFFSETTO:-0400
TZNAME:EDT
DTSTART:20260308T070000
END:DAYLIGHT
BEGIN:STANDARD
TZOFFSETFROM:-0400
TZOFFSETTO:-0500
TZNAME:EST
DTSTART:20261101T060000
END:STANDARD
BEGIN:DAYLIGHT
TZOFFSETFROM:-0500
TZOFFSETTO:-0400
TZNAME:EDT
DTSTART:20270314T070000
END:DAYLIGHT
BEGIN:STANDARD
TZOFFSETFROM:-0400
TZOFFSETTO:-0500
TZNAME:EST
DTSTART:20271107T060000
END:STANDARD
END:VTIMEZONE
BEGIN:VEVENT
DTSTART;VALUE=DATE:20260420
DTEND;VALUE=DATE:20260421
DTSTAMP:20260424T071829
CREATED:20260325T175217Z
LAST-MODIFIED:20260325T175217Z
UID:384756-1776643200-1776729599@aaneok.org
SUMMARY:Big Meeting Committee Meeting
DESCRIPTION:
URL:https://aaneok.org/event/big-meeting-committee-meeting-6/
LOCATION:Harvard Avenue Christian Church\, 5502 S. Harvard Ave.\, Tulsa\, OK\, 74135\, United States
CATEGORIES:NE Big Meeting
ATTACH;FMTTYPE=application/pdf:https://aaneok.org/wp-content/uploads/2026/03/BG-Committee-april-20th-flyer.pdf
END:VEVENT
BEGIN:VEVENT
DTSTART;TZID=America/New_York:20260411T190000
DTEND;TZID=America/New_York:20260411T210000
DTSTAMP:20260424T071829
CREATED:20260325T135419Z
LAST-MODIFIED:20260401T215015Z
UID:384744-1775934000-1775941200@aaneok.org
SUMMARY:Big Meeting
DESCRIPTION:
URL:https://aaneok.org/event/big-meeting-3/
LOCATION:Harvard Avenue Christian Church\, 5502 S. Harvard Ave.\, Tulsa\, OK\, 74135\, United States
CATEGORIES:NE Big Meeting
ATTACH;FMTTYPE=application/pdf:https://aaneok.org/wp-content/uploads/2026/03/April-Big-MeetingJulie-B.pdf
END:VEVENT
BEGIN:VEVENT
DTSTART;TZID=America/New_York:20260323T190000
DTEND;TZID=America/New_York:20260323T200000
DTSTAMP:20260424T071829
CREATED:20260304T174832Z
LAST-MODIFIED:20260304T174832Z
UID:384691-1774292400-1774296000@aaneok.org
SUMMARY:NEOK Big Meeting Committee Meeting
DESCRIPTION:
URL:https://aaneok.org/event/neok-big-meeting-committee-meeting/
LOCATION:Harvard Avenue Christian Church\, 5502 S. Harvard Ave.\, Tulsa\, OK\, 74135\, United States
CATEGORIES:NE Big Meeting
ATTACH;FMTTYPE=application/pdf:https://aaneok.org/wp-content/uploads/2026/03/BG-Committee-March.pdf
END:VEVENT
BEGIN:VEVENT
DTSTART;TZID=America/New_York:20260314T190000
DTEND;TZID=America/New_York:20260314T210000
DTSTAMP:20260424T071829
CREATED:20260203T213435Z
LAST-MODIFIED:20260203T213512Z
UID:384506-1773514800-1773522000@aaneok.org
SUMMARY:NEOK Big Meeting March
DESCRIPTION:
URL:https://aaneok.org/event/neok-big-meeting-march/
LOCATION:Harvard Avenue Christian Church\, 5502 S. Harvard Ave.\, Tulsa\, OK\, 74135\, United States
CATEGORIES:NE Big Meeting
ATTACH;FMTTYPE=application/pdf:https://aaneok.org/wp-content/uploads/2026/02/MARCHBM-1_1770145181258-1.pdf
END:VEVENT
BEGIN:VEVENT
DTSTART;VALUE=DATE:20260305
DTEND;VALUE=DATE:20260306
DTSTAMP:20260424T071830
CREATED:20260121T231339Z
LAST-MODIFIED:20260121T231339Z
UID:384383-1772668800-1772755199@aaneok.org
SUMMARY:Northeast OK Big Meeting Outreach Host/Co Hosts
DESCRIPTION:
URL:https://aaneok.org/event/northeast-ok-big-meeting-outreach-host-co-hosts-3/
LOCATION:OK
CATEGORIES:NE Big Meeting
ATTACH;FMTTYPE=application/pdf:https://aaneok.org/wp-content/uploads/2026/01/BM-Outreach-for-Groups-2.pdf
END:VEVENT
BEGIN:VEVENT
DTSTART;TZID=America/New_York:20260223T190000
DTEND;TZID=America/New_York:20260223T200000
DTSTAMP:20260424T071830
CREATED:20260203T194733Z
LAST-MODIFIED:20260203T194835Z
UID:384500-1771873200-1771876800@aaneok.org
SUMMARY:NEOK Big Meeting Committee
DESCRIPTION:
URL:https://aaneok.org/event/neok-big-meeting-committee-6/
LOCATION:Harvard Avenue Christian Church\, 5502 S. Harvard Ave.\, Tulsa\, OK\, 74135\, United States
CATEGORIES:NE Big Meeting
ATTACH;FMTTYPE=application/pdf:https://aaneok.org/wp-content/uploads/2026/02/BMcommitteemeetingfeb2026.pdf
END:VEVENT
BEGIN:VEVENT
DTSTART;VALUE=DATE:20260218
DTEND;VALUE=DATE:20260219
DTSTAMP:20260424T071830
CREATED:20260121T231424Z
LAST-MODIFIED:20260216T160904Z
UID:384386-1771372800-1771459199@aaneok.org
SUMMARY:Northeast OK Big Meeting Outreach Host/Co Hosts
DESCRIPTION:
URL:https://aaneok.org/event/northeast-ok-big-meeting-outreach-host-co-hosts-4/
LOCATION:OK
CATEGORIES:NE Big Meeting
ATTACH;FMTTYPE=application/pdf:https://aaneok.org/wp-content/uploads/2026/01/BM-Outreach-for-Groups-3.pdf
END:VEVENT
BEGIN:VEVENT
DTSTART;TZID=America/New_York:20260214T190000
DTEND;TZID=America/New_York:20260214T210000
DTSTAMP:20260424T071830
CREATED:20260106T163107Z
LAST-MODIFIED:20260113T205345Z
UID:384136-1771095600-1771102800@aaneok.org
SUMMARY:NEOK Big Meeting February 2026
DESCRIPTION:
URL:https://aaneok.org/event/neok-big-meeting-february-2026/
LOCATION:Harvard Avenue Christian Church\, 5502 S. Harvard Ave.\, Tulsa\, OK\, 74135\, United States
CATEGORIES:NE Big Meeting
ATTACH;FMTTYPE=application/pdf:https://aaneok.org/wp-content/uploads/2026/01/Big-Meet-Feb.pdf
END:VEVENT
BEGIN:VEVENT
DTSTART;VALUE=DATE:20260205
DTEND;VALUE=DATE:20260206
DTSTAMP:20260424T071830
CREATED:20260121T231250Z
LAST-MODIFIED:20260121T231250Z
UID:384380-1770249600-1770335999@aaneok.org
SUMMARY:Northeast OK Big Meeting Outreach Host/Co Hosts
DESCRIPTION:
URL:https://aaneok.org/event/northeast-ok-big-meeting-outreach-host-co-hosts-2/
LOCATION:OK
CATEGORIES:NE Big Meeting
ATTACH;FMTTYPE=application/pdf:https://aaneok.org/wp-content/uploads/2026/01/BM-Outreach-for-Groups-1.pdf
END:VEVENT
BEGIN:VEVENT
DTSTART;VALUE=DATE:20260122
DTEND;VALUE=DATE:20260123
DTSTAMP:20260424T071830
CREATED:20260121T231153Z
LAST-MODIFIED:20260121T231153Z
UID:384377-1769040000-1769126399@aaneok.org
SUMMARY:Northeast OK Big Meeting Outreach Host/Co Hosts
DESCRIPTION:
URL:https://aaneok.org/event/northeast-ok-big-meeting-outreach-host-co-hosts/
LOCATION:OK
CATEGORIES:NE Big Meeting
ATTACH;FMTTYPE=application/pdf:https://aaneok.org/wp-content/uploads/2026/01/BM-Outreach-for-Groups.pdf
END:VEVENT
BEGIN:VEVENT
DTSTART;TZID=America/New_York:20260119T190000
DTEND;TZID=America/New_York:20260119T200000
DTSTAMP:20260424T071830
CREATED:20260105T185900Z
LAST-MODIFIED:20260106T134413Z
UID:384108-1768849200-1768852800@aaneok.org
SUMMARY:NEOK Big Meeting Committee
DESCRIPTION:
URL:https://aaneok.org/event/neok-big-meeting-committee-5/
LOCATION:Harvard Avenue Christian Church\, 5502 S. Harvard Ave.\, Tulsa\, OK\, 74135\, United States
CATEGORIES:NE Big Meeting
ATTACH;FMTTYPE=application/pdf:https://aaneok.org/wp-content/uploads/2026/01/committeemeetingjan-1-4.pdf
END:VEVENT
BEGIN:VEVENT
DTSTART;TZID=America/New_York:20260110T190000
DTEND;TZID=America/New_York:20260110T210000
DTSTAMP:20260424T071830
CREATED:20251213T135335Z
LAST-MODIFIED:20251213T135335Z
UID:384011-1768071600-1768078800@aaneok.org
SUMMARY:Big Meeting January 2026
DESCRIPTION:
URL:https://aaneok.org/event/big-meeting-january-2026/
LOCATION:Harvard Avenue Christian Church\, 5502 S. Harvard Ave.\, Tulsa\, OK\, 74135\, United States
CATEGORIES:NE Big Meeting
ATTACH;FMTTYPE=application/pdf:https://aaneok.org/wp-content/uploads/2025/12/janflyer2026-pdf.pdf
END:VEVENT
BEGIN:VEVENT
DTSTART;TZID=America/New_York:20251222T190000
DTEND;TZID=America/New_York:20251222T200000
DTSTAMP:20260424T071830
CREATED:20251213T135844Z
LAST-MODIFIED:20251213T135844Z
UID:384014-1766430000-1766433600@aaneok.org
SUMMARY:Big Meeting January 2026 Committee Meeting
DESCRIPTION:
URL:https://aaneok.org/event/big-meeting-january-2026-committee-meeting/
LOCATION:Harvard Avenue Christian Church\, 5502 S. Harvard Ave.\, Tulsa\, OK\, 74135\, United States
CATEGORIES:NE Big Meeting
ATTACH;FMTTYPE=application/pdf:https://aaneok.org/wp-content/uploads/2025/12/committeemeetingdec-final.pdf
END:VEVENT
BEGIN:VEVENT
DTSTART;TZID=America/New_York:20251213T190000
DTEND;TZID=America/New_York:20251213T210000
DTSTAMP:20260424T071830
CREATED:20251201T214144Z
LAST-MODIFIED:20251201T214144Z
UID:383948-1765652400-1765659600@aaneok.org
SUMMARY:Big Meeting December 2025
DESCRIPTION:
URL:https://aaneok.org/event/big-meeting-december-2025/
LOCATION:Harvard Avenue Christian Church\, 5502 S. Harvard Ave.\, Tulsa\, OK\, 74135\, United States
CATEGORIES:NE Big Meeting
ATTACH;FMTTYPE=application/pdf:https://aaneok.org/wp-content/uploads/2025/12/December-flyer3.pdf
END:VEVENT
BEGIN:VEVENT
DTSTART;VALUE=DATE:20251117
DTEND;VALUE=DATE:20251118
DTSTAMP:20260424T071830
CREATED:20251008T140842Z
LAST-MODIFIED:20251008T140842Z
UID:383639-1763337600-1763423999@aaneok.org
SUMMARY:NEOK Big Meeting Committee Meeting/Elections
DESCRIPTION:
URL:https://aaneok.org/event/neok-big-meeting-committee-meeting-elections/
LOCATION:Harvard Avenue Christian Church\, 5502 S. Harvard Ave.\, Tulsa\, OK\, 74135\, United States
CATEGORIES:NE Big Meeting
ATTACH;FMTTYPE=application/pdf:https://aaneok.org/wp-content/uploads/2025/10/November-committee-cs.pdf
END:VEVENT
BEGIN:VEVENT
DTSTART;TZID=America/New_York:20251108T190000
DTEND;TZID=America/New_York:20251108T210000
DTSTAMP:20260424T071830
CREATED:20251007T213540Z
LAST-MODIFIED:20251023T134110Z
UID:383635-1762628400-1762635600@aaneok.org
SUMMARY:Big Meeting November
DESCRIPTION:
URL:https://aaneok.org/event/big-meeting-november/
LOCATION:Harvard Avenue Christian Church\, 5502 S. Harvard Ave.\, Tulsa\, OK\, 74135\, United States
CATEGORIES:NE Big Meeting
ATTACH;FMTTYPE=application/pdf:https://aaneok.org/wp-content/uploads/2025/10/novemberflyer2-1-PosterMyWall-1.pdf
END:VEVENT
BEGIN:VEVENT
DTSTART;TZID=America/New_York:20251020T190000
DTEND;TZID=America/New_York:20251020T200000
DTSTAMP:20260424T071830
CREATED:20251007T212841Z
LAST-MODIFIED:20251007T212841Z
UID:383631-1760986800-1760990400@aaneok.org
SUMMARY:NEOK Big Meeting Committee
DESCRIPTION:
URL:https://aaneok.org/event/neok-big-meeting-committee-4/
LOCATION:Harvard Avenue Christian Church\, 5502 S. Harvard Ave.\, Tulsa\, OK\, 74135\, United States
CATEGORIES:NE Big Meeting
ATTACH;FMTTYPE=application/pdf:https://aaneok.org/wp-content/uploads/2025/10/octcommitteemeeting-1-1.pdf
END:VEVENT
BEGIN:VEVENT
DTSTART;TZID=America/New_York:20251011T190000
DTEND;TZID=America/New_York:20251011T210000
DTSTAMP:20260424T071830
CREATED:20250827T153813Z
LAST-MODIFIED:20250912T143200Z
UID:383320-1760209200-1760216400@aaneok.org
SUMMARY:Big Meeting October 2025
DESCRIPTION:
URL:https://aaneok.org/event/big-meeting-october-2025/
LOCATION:Harvard Avenue Christian Church\, 5502 S. Harvard Ave.\, Tulsa\, OK\, 74135\, United States
CATEGORIES:NE Big Meeting
ATTACH;FMTTYPE=application/pdf:https://aaneok.org/wp-content/uploads/2025/08/Big-Meeting-Oct-25.pdf
END:VEVENT
BEGIN:VEVENT
DTSTART;TZID=America/New_York:20250915T190000
DTEND;TZID=America/New_York:20250915T200000
DTSTAMP:20260424T071830
CREATED:20250908T161741Z
LAST-MODIFIED:20250908T161748Z
UID:383459-1757962800-1757966400@aaneok.org
SUMMARY:Big Meeting Committee
DESCRIPTION:
URL:https://aaneok.org/event/big-meeting-committee/
LOCATION:Harvard Avenue Christian Church\, 5502 S. Harvard Ave.\, Tulsa\, OK\, 74135\, United States
CATEGORIES:NE Big Meeting
ATTACH;FMTTYPE=application/pdf:https://aaneok.org/wp-content/uploads/2025/09/SeptembercommitteeflyerRecovered.pdf
END:VEVENT
BEGIN:VEVENT
DTSTART;VALUE=DATE:20250907
DTEND;VALUE=DATE:20250908
DTSTAMP:20260424T071830
CREATED:20250827T143320Z
LAST-MODIFIED:20250827T143823Z
UID:383305-1757203200-1757289599@aaneok.org
SUMMARY:NEOK Big Meeting Committee Election (November 2025)
DESCRIPTION:Send your group Big Meeting Rep.\, so your group will have a voice! Come be of service!
URL:https://aaneok.org/event/neok-big-meeting-committee-election-november-2025/
LOCATION:OK
CATEGORIES:NE Big Meeting
ATTACH;FMTTYPE=application/pdf:https://aaneok.org/wp-content/uploads/2025/08/IMG_34501-1.pdf
END:VEVENT
BEGIN:VEVENT
DTSTART;TZID=America/New_York:20250906T190000
DTEND;TZID=America/New_York:20250906T210000
DTSTAMP:20260424T071830
CREATED:20250819T140628Z
LAST-MODIFIED:20250819T140628Z
UID:383222-1757185200-1757192400@aaneok.org
SUMMARY:September Big Meeting
DESCRIPTION:
URL:https://aaneok.org/event/september-big-meeting/
LOCATION:Harvard Avenue Christian Church\, 5502 S. Harvard Ave.\, Tulsa\, OK\, 74135\, United States
CATEGORIES:NE Big Meeting
ATTACH;FMTTYPE=application/pdf:https://aaneok.org/wp-content/uploads/2025/08/IMG_3227.pdf
END:VEVENT
BEGIN:VEVENT
DTSTART;TZID=America/New_York:20250818T190000
DTEND;TZID=America/New_York:20250818T190000
DTSTAMP:20260424T071830
CREATED:20250811T141858Z
LAST-MODIFIED:20250811T143737Z
UID:383131-1755543600-1755543600@aaneok.org
SUMMARY:NEOK Big Meeting Committee
DESCRIPTION:
URL:https://aaneok.org/event/neok-big-meeting-committee-3/
LOCATION:Harvard Avenue Christian Church\, 5502 S. Harvard Ave.\, Tulsa\, OK\, 74135\, United States
CATEGORIES:NE Big Meeting
ATTACH;FMTTYPE=application/pdf:https://aaneok.org/wp-content/uploads/2025/08/Augustcommitteemeeting.pdf
END:VEVENT
BEGIN:VEVENT
DTSTART;TZID=America/New_York:20250809T190000
DTEND;TZID=America/New_York:20250809T210000
DTSTAMP:20260424T071830
CREATED:20250715T163219Z
LAST-MODIFIED:20250724T212510Z
UID:382975-1754766000-1754773200@aaneok.org
SUMMARY:Big Meeting August 2025
DESCRIPTION:
URL:https://aaneok.org/event/big-meeting-august-2025/
LOCATION:Harvard Avenue Christian Church\, 5502 S. Harvard Ave.\, Tulsa\, OK\, 74135\, United States
CATEGORIES:NE Big Meeting
ATTACH;FMTTYPE=application/pdf:https://aaneok.org/wp-content/uploads/2025/07/Untitled-design-13.pdf
END:VEVENT
BEGIN:VEVENT
DTSTART;TZID=America/New_York:20250808T190000
DTEND;TZID=America/New_York:20250808T210000
DTSTAMP:20260424T071830
CREATED:20250808T140329Z
LAST-MODIFIED:20250808T140329Z
UID:383112-1754679600-1754686800@aaneok.org
SUMMARY:August Big Meeting Committee Meeting
DESCRIPTION:
URL:https://aaneok.org/event/august-big-meeting-committee-meeting/
LOCATION:Harvard Avenue Christian Church\, 5502 S. Harvard Ave.\, Tulsa\, OK\, 74135\, United States
CATEGORIES:NE Big Meeting
ATTACH;FMTTYPE=application/pdf:https://aaneok.org/wp-content/uploads/2025/08/Document-58-1.pdf
END:VEVENT
BEGIN:VEVENT
DTSTART;TZID=America/New_York:20250721T190000
DTEND;TZID=America/New_York:20250721T200000
DTSTAMP:20260424T071830
CREATED:20250714T152349Z
LAST-MODIFIED:20250714T152349Z
UID:382960-1753124400-1753128000@aaneok.org
SUMMARY:NEOK BIG MEETING COMMITTEE
DESCRIPTION:
URL:https://aaneok.org/event/neok-big-meeting-committee-2/
LOCATION:Harvard Avenue Christian Church\, 5502 S. Harvard Ave.\, Tulsa\, OK\, 74135\, United States
CATEGORIES:NE Big Meeting
ATTACH;FMTTYPE=application/pdf:https://aaneok.org/wp-content/uploads/2025/07/Big-Meeting-Coommittee-July.pdf
END:VEVENT
BEGIN:VEVENT
DTSTART;TZID=America/New_York:20250712T190000
DTEND;TZID=America/New_York:20250712T210000
DTSTAMP:20260424T071830
CREATED:20250620T141947Z
LAST-MODIFIED:20250625T150845Z
UID:382834-1752346800-1752354000@aaneok.org
SUMMARY:July 2025 Big Meeting
DESCRIPTION:
URL:https://aaneok.org/event/july-2025-big-meeting/
LOCATION:Harvard Avenue Christian Church\, 5502 S. Harvard Ave.\, Tulsa\, OK\, 74135\, United States
CATEGORIES:NE Big Meeting
END:VEVENT
BEGIN:VEVENT
DTSTART;TZID=America/New_York:20250623T190000
DTEND;TZID=America/New_York:20250623T200000
DTSTAMP:20260424T071830
CREATED:20250620T142212Z
LAST-MODIFIED:20250620T160659Z
UID:382838-1750705200-1750708800@aaneok.org
SUMMARY:Big Meeting Committee Meeting
DESCRIPTION:
URL:https://aaneok.org/event/big-meeting-committee-meeting-5/
LOCATION:Harvard Avenue Christian Church\, 5502 S. Harvard Ave.\, Tulsa\, OK\, 74135\, United States
CATEGORIES:NE Big Meeting
END:VEVENT
BEGIN:VEVENT
DTSTART;TZID=America/New_York:20250614T190000
DTEND;TZID=America/New_York:20250614T210000
DTSTAMP:20260424T071830
CREATED:20250513T152517Z
LAST-MODIFIED:20250522T132941Z
UID:382542-1749927600-1749934800@aaneok.org
SUMMARY:June Big Meeting
DESCRIPTION:
URL:https://aaneok.org/event/june-big-meeting/
LOCATION:Harvard Avenue Christian Church\, 5502 S. Harvard Ave.\, Tulsa\, OK\, 74135\, United States
CATEGORIES:NE Big Meeting
END:VEVENT
BEGIN:VEVENT
DTSTART;TZID=America/New_York:20250519T190000
DTEND;TZID=America/New_York:20250519T200000
DTSTAMP:20260424T071830
CREATED:20250513T151953Z
LAST-MODIFIED:20250513T151953Z
UID:382538-1747681200-1747684800@aaneok.org
SUMMARY:NEOK Big Meeting Committee
DESCRIPTION:
URL:https://aaneok.org/event/neok-big-meeting-committee/
LOCATION:Harvard Avenue Christian Church\, 5502 S. Harvard Ave.\, Tulsa\, OK\, 74135\, United States
CATEGORIES:NE Big Meeting
END:VEVENT
BEGIN:VEVENT
DTSTART;TZID=America/New_York:20250510T190000
DTEND;TZID=America/New_York:20250510T210000
DTSTAMP:20260424T071830
CREATED:20250418T134443Z
LAST-MODIFIED:20250418T134443Z
UID:382417-1746903600-1746910800@aaneok.org
SUMMARY:May 2025 Big Meeting
DESCRIPTION:
URL:https://aaneok.org/event/may-2025-big-meeting/
LOCATION:Harvard Avenue Christian Church\, 5502 S. Harvard Ave.\, Tulsa\, OK\, 74135\, United States
CATEGORIES:NE Big Meeting
END:VEVENT
END:VCALENDAR