BEGIN:VCALENDAR
VERSION:2.0
PRODID:-//NECS - ECPv6.15.20//NONSGML v1.0//EN
CALSCALE:GREGORIAN
METHOD:PUBLISH
X-WR-CALNAME:NECS
X-ORIGINAL-URL:https://aaneok.org
X-WR-CALDESC:Events for NECS
REFRESH-INTERVAL;VALUE=DURATION:PT1H
X-Robots-Tag:noindex
X-PUBLISHED-TTL:PT1H
BEGIN:VTIMEZONE
TZID:America/New_York
BEGIN:DAYLIGHT
TZOFFSETFROM:-0500
TZOFFSETTO:-0400
TZNAME:EDT
DTSTART:20240310T070000
END:DAYLIGHT
BEGIN:STANDARD
TZOFFSETFROM:-0400
TZOFFSETTO:-0500
TZNAME:EST
DTSTART:20241103T060000
END:STANDARD
BEGIN:DAYLIGHT
TZOFFSETFROM:-0500
TZOFFSETTO:-0400
TZNAME:EDT
DTSTART:20250309T070000
END:DAYLIGHT
BEGIN:STANDARD
TZOFFSETFROM:-0400
TZOFFSETTO:-0500
TZNAME:EST
DTSTART:20251102T060000
END:STANDARD
BEGIN:DAYLIGHT
TZOFFSETFROM:-0500
TZOFFSETTO:-0400
TZNAME:EDT
DTSTART:20260308T070000
END:DAYLIGHT
BEGIN:STANDARD
TZOFFSETFROM:-0400
TZOFFSETTO:-0500
TZNAME:EST
DTSTART:20261101T060000
END:STANDARD
END:VTIMEZONE
BEGIN:VEVENT
DTSTART;TZID=America/New_York:20250802T090000
DTEND;TZID=America/New_York:20250802T120000
DTSTAMP:20260425T065339
CREATED:20250630T210407Z
LAST-MODIFIED:20250630T210407Z
UID:382895-1754125200-1754136000@aaneok.org
SUMMARY:District 30 and Bottoms Up Concept Workshop
DESCRIPTION:
URL:https://aaneok.org/event/district-30-and-bottoms-up-concept-workshop/
LOCATION:Tahelequah Church of the Nazarene\, 20443 E. Allen Rd.\, Tahlequah\, 74464\, United States
CATEGORIES:District Events
ATTACH;FMTTYPE=application/pdf:https://aaneok.org/wp-content/uploads/2025/06/District-30-Bottoms-Up-Concepts-Workshop-8-2-25-1-1-2.pdf
END:VEVENT
BEGIN:VEVENT
DTSTART;VALUE=DATE:20250731
DTEND;VALUE=DATE:20250801
DTSTAMP:20260425T065339
CREATED:20250709T133908Z
LAST-MODIFIED:20250709T133908Z
UID:382941-1753920000-1754006399@aaneok.org
SUMMARY:Purcell Unity Group Bday/Speaker Night
DESCRIPTION:
URL:https://aaneok.org/event/purcell-unity-group-bday-speaker-night-2/
LOCATION:Landmark Church Purcell\, 1106 W. Grant Street\, Purcell\, OK\, 73080\, United States
CATEGORIES:Group Events
ATTACH;FMTTYPE=application/pdf:https://aaneok.org/wp-content/uploads/2025/07/Untitled-design-12.pdf
END:VEVENT
BEGIN:VEVENT
DTSTART;TZID=America/New_York:20250729T183000
DTEND;TZID=America/New_York:20250729T200000
DTSTAMP:20260425T065339
CREATED:20250716T193534Z
LAST-MODIFIED:20250717T204944Z
UID:382988-1753813800-1753819200@aaneok.org
SUMMARY:Pryor Unity Speaker Meeting
DESCRIPTION:Pryor Unity Speaker Meeting \nAugust 29\, 2025 \nFellowship at 6:30 Meeting at 7:00 \nGold Brick Building  \nBehind the First Presbyterian Church \n110 N Vann St \nPryor\, Ok 74361
URL:https://aaneok.org/event/pryor-unity-speaker-meeting/
LOCATION:Behind First Christian Presbyterian Church\, 110 N Vann St\, Pryor\, OK\, 74361\, United States
CATEGORIES:Group Events
ATTACH;FMTTYPE=application/pdf:https://aaneok.org/wp-content/uploads/2025/07/Scan20250717154319-1.pdf
END:VEVENT
BEGIN:VEVENT
DTSTART;TZID=America/New_York:20250728T180000
DTEND;TZID=America/New_York:20250728T190000
DTSTAMP:20260425T065339
CREATED:20250624T152131Z
LAST-MODIFIED:20250624T152131Z
UID:382848-1753725600-1753729200@aaneok.org
SUMMARY:There Is A Solution Speaker Night
DESCRIPTION:
URL:https://aaneok.org/event/there-is-a-solution-speaker-night/
LOCATION:Woodlands Christian Church Ponca City\, 1400 E. Hartford Ave.\, Ponca City\, OK\, 74604\, United States
CATEGORIES:Group Events
ATTACH;FMTTYPE=application/pdf:https://aaneok.org/wp-content/uploads/2025/06/There-Is-A-Solution-Birthday-Speaker-July-28-2025.pdf
END:VEVENT
BEGIN:VEVENT
DTSTART;TZID=America/New_York:20250726T120000
DTEND;TZID=America/New_York:20250726T140000
DTSTAMP:20260425T065339
CREATED:20250508T171527Z
LAST-MODIFIED:20250724T211232Z
UID:382510-1753531200-1753538400@aaneok.org
SUMMARY:B.A.D. Girls Bingo
DESCRIPTION:
URL:https://aaneok.org/event/b-a-d-girls-bingo/
LOCATION:Harvard Avenue Christian Church\, 5502 S. Harvard Ave.\, Tulsa\, OK\, 74135\, United States
CATEGORIES:Group Events
ATTACH;FMTTYPE=image/png:https://aaneok.org/wp-content/uploads/2025/05/BAD-Girls-Bingo.png
END:VEVENT
BEGIN:VEVENT
DTSTART;TZID=America/New_York:20250726T093000
DTEND;TZID=America/New_York:20250726T104500
DTSTAMP:20260425T065339
CREATED:20250714T152129Z
LAST-MODIFIED:20250714T152129Z
UID:382956-1753522200-1753526700@aaneok.org
SUMMARY:B.A.D. Girls July Birthdays
DESCRIPTION:
URL:https://aaneok.org/event/b-a-d-girls-july-birthdays/
LOCATION:Harvard Avenue Christian Church\, 5502 S. Harvard Ave.\, Tulsa\, OK\, 74135\, United States
CATEGORIES:Group Events
ATTACH;FMTTYPE=application/pdf:https://aaneok.org/wp-content/uploads/2025/07/Bad-Girls-July.pdf
END:VEVENT
BEGIN:VEVENT
DTSTART;TZID=America/New_York:20250725T190000
DTEND;TZID=America/New_York:20250725T210000
DTSTAMP:20260425T065339
CREATED:20250530T141737Z
LAST-MODIFIED:20250530T141737Z
UID:382626-1753470000-1753477200@aaneok.org
SUMMARY:Guthrie 89er Group Speaker/Bday Night
DESCRIPTION:
URL:https://aaneok.org/event/guthrie-89er-group-speaker-bday-night-5/
LOCATION:Guthrie 89er Group\, 3522 S Division St\, Guthrie\, OK\, 73044\, United States
CATEGORIES:Group Events
ATTACH;FMTTYPE=application/pdf:https://aaneok.org/wp-content/uploads/2025/05/Guthrie-89er-Group-July-25-2025.pdf
END:VEVENT
BEGIN:VEVENT
DTSTART;VALUE=DATE:20250725
DTEND;VALUE=DATE:20250728
DTSTAMP:20260425T065339
CREATED:20250611T213459Z
LAST-MODIFIED:20250611T213548Z
UID:382745-1753401600-1753660799@aaneok.org
SUMMARY:85th Old Grandad (Arkansas State AA Convention)
DESCRIPTION:2025 spanish OGD Flyer.pdf
URL:https://aaneok.org/event/85th-old-grandad-arkansas-state-aa-convention/
LOCATION:Arlington Resort Hotel & Spa/Hot Springs AR\, 239 Central Ave.\, Hot Springs\, AR\, 71901\, United States
CATEGORIES:General Events
ATTACH;FMTTYPE=application/pdf:https://aaneok.org/wp-content/uploads/2025/06/2025-English-OGD-Flyer.pdf-final-with-free-info.pdf
END:VEVENT
BEGIN:VEVENT
DTSTART;TZID=America/New_York:20250721T190000
DTEND;TZID=America/New_York:20250721T200000
DTSTAMP:20260425T065339
CREATED:20250714T152349Z
LAST-MODIFIED:20250714T152349Z
UID:382960-1753124400-1753128000@aaneok.org
SUMMARY:NEOK BIG MEETING COMMITTEE
DESCRIPTION:
URL:https://aaneok.org/event/neok-big-meeting-committee-2/
LOCATION:Harvard Avenue Christian Church\, 5502 S. Harvard Ave.\, Tulsa\, OK\, 74135\, United States
CATEGORIES:NE Big Meeting
ATTACH;FMTTYPE=application/pdf:https://aaneok.org/wp-content/uploads/2025/07/Big-Meeting-Coommittee-July.pdf
END:VEVENT
BEGIN:VEVENT
DTSTART;VALUE=DATE:20250720
DTEND;VALUE=DATE:20250726
DTSTAMP:20260425T065339
CREATED:20250416T143926Z
LAST-MODIFIED:20250418T211851Z
UID:382386-1752969600-1753487999@aaneok.org
SUMMARY:40th Annual Crested Butte Mountain Conference
DESCRIPTION:Visit- www.cbconference.org
URL:https://aaneok.org/event/40th-annual-crested-butte-mountain-conference/
LOCATION:OK
CATEGORIES:General Events
END:VEVENT
BEGIN:VEVENT
DTSTART;TZID=America/New_York:20250719T133000
DTEND;TZID=America/New_York:20250719T160000
DTSTAMP:20260425T065339
CREATED:20250619T135909Z
LAST-MODIFIED:20250619T135909Z
UID:382804-1752931800-1752940800@aaneok.org
SUMMARY:Area 57 Workshop/Enid
DESCRIPTION:
URL:https://aaneok.org/event/area-57-workshop-enid/
LOCATION:Maine Street Group/Enid\, 704 D W. Maine Street\, Enid\, OK\, 73701\, United States
CATEGORIES:Area 57 Events
ATTACH;FMTTYPE=application/pdf:https://aaneok.org/wp-content/uploads/2025/06/State-Sponsored-Workshop-D50-Enid-7-19-25.pdf
END:VEVENT
BEGIN:VEVENT
DTSTART;TZID=America/New_York:20250718T173000
DTEND;TZID=America/New_York:20250718T200000
DTSTAMP:20260425T065339
CREATED:20250618T143148Z
LAST-MODIFIED:20250618T143148Z
UID:382799-1752859800-1752868800@aaneok.org
SUMMARY:North Meridian Group 13th Anniversary
DESCRIPTION:
URL:https://aaneok.org/event/north-meridian-group-13th-anniversary/
LOCATION:4407 NW 50th Street/OKC\, 4407 NW 50th Street\, Oklahoma City\, OK\, 73112\, United States
CATEGORIES:Group Events
ATTACH;FMTTYPE=application/pdf:https://aaneok.org/wp-content/uploads/2025/06/Untitled-design-8.pdf
END:VEVENT
BEGIN:VEVENT
DTSTART;TZID=America/New_York:20250716T180000
DTEND;TZID=America/New_York:20250716T190000
DTSTAMP:20260425T065339
CREATED:20250614T131050Z
LAST-MODIFIED:20250703T192803Z
UID:382787-1752688800-1752692400@aaneok.org
SUMMARY:Public Info-Cooperation w/Professional Committee/Zoom
DESCRIPTION:Come join the conversation about service!!
URL:https://aaneok.org/event/public-info-cooperation-w-professional-committee-zoom-4/
LOCATION:OK
CATEGORIES:General Events
END:VEVENT
BEGIN:VEVENT
DTSTART;TZID=America/New_York:20250712T190000
DTEND;TZID=America/New_York:20250712T210000
DTSTAMP:20260425T065339
CREATED:20250620T141947Z
LAST-MODIFIED:20250625T150845Z
UID:382834-1752346800-1752354000@aaneok.org
SUMMARY:July 2025 Big Meeting
DESCRIPTION:
URL:https://aaneok.org/event/july-2025-big-meeting/
LOCATION:Harvard Avenue Christian Church\, 5502 S. Harvard Ave.\, Tulsa\, OK\, 74135\, United States
CATEGORIES:NE Big Meeting
END:VEVENT
BEGIN:VEVENT
DTSTART;TZID=America/New_York:20250712T100000
DTEND;TZID=America/New_York:20250712T130000
DTSTAMP:20260425T065339
CREATED:20250617T134058Z
LAST-MODIFIED:20250617T134058Z
UID:382792-1752314400-1752325200@aaneok.org
SUMMARY:GTO 17th Birthday Taco Bar
DESCRIPTION:
URL:https://aaneok.org/event/gto-17th-birthday-taco-bar/
LOCATION:Heritage Baptist Church\, 1201 S Elliott\, Pryor\, OK\, 74361\, United States
CATEGORIES:Group Events
END:VEVENT
BEGIN:VEVENT
DTSTART;TZID=America/New_York:20250712T100000
DTEND;TZID=America/New_York:20250712T120000
DTSTAMP:20260425T065339
CREATED:20250115T143128Z
LAST-MODIFIED:20250115T143128Z
UID:381857-1752314400-1752321600@aaneok.org
SUMMARY:NECS CS Rep Meeting
DESCRIPTION:
URL:https://aaneok.org/event/necs-cs-rep-meeting-2/
LOCATION:Unanimity Club\, 8749 S Lewis Avenue\, Tulsa\, OK\, 74137\, United States
CATEGORIES:NECS Events
ATTACH;FMTTYPE=application/pdf:https://aaneok.org/wp-content/uploads/2025/01/NECS-CS-REP-July-2025.pdf
END:VEVENT
BEGIN:VEVENT
DTSTART;VALUE=DATE:20250711
DTEND;VALUE=DATE:20250713
DTSTAMP:20260425T065339
CREATED:20250627T215104Z
LAST-MODIFIED:20250627T215104Z
UID:382882-1752192000-1752364799@aaneok.org
SUMMARY:9th Annual Red Dirt Roundup
DESCRIPTION:https://aaneok.org/wp-content/uploads/2025/06/2025-Red-Dirt-Roundup-Inside-Program.pdf
URL:https://aaneok.org/event/9th-annual-red-dirt-roundup/
LOCATION:Cole Community Center\, 4400 NW Expressway\, OKC\, OK\, 73116\, United States
CATEGORIES:General Events
ATTACH;FMTTYPE=application/pdf:https://aaneok.org/wp-content/uploads/2025/06/2025-Red-Dirt-Roundup-Cover-Program-1.pdf
END:VEVENT
BEGIN:VEVENT
DTSTART;VALUE=DATE:20250711
DTEND;VALUE=DATE:20250712
DTSTAMP:20260425T065339
CREATED:20250708T164412Z
LAST-MODIFIED:20250708T164412Z
UID:382936-1752192000-1752278399@aaneok.org
SUMMARY:Fun in Fellowship 2025 Calling for Raffle Prizes
DESCRIPTION:
URL:https://aaneok.org/event/fun-in-fellowship-2025-calling-for-raffle-prizes/
LOCATION:OK
CATEGORIES:Area 57 Events
ATTACH;FMTTYPE=application/pdf:https://aaneok.org/wp-content/uploads/2025/07/Untitled-design-10.pdf
END:VEVENT
BEGIN:VEVENT
DTSTART;TZID=America/New_York:20250710T190000
DTEND;TZID=America/New_York:20250710T200000
DTSTAMP:20260425T065339
CREATED:20250613T190628Z
LAST-MODIFIED:20250613T190628Z
UID:382763-1752174000-1752177600@aaneok.org
SUMMARY:Districts 30 & 40 Joint Service Meeting
DESCRIPTION:
URL:https://aaneok.org/event/districts-30-40-joint-service-meeting/
LOCATION:Unanimity Club\, 8749 S Lewis Avenue\, Tulsa\, OK\, 74137\, United States
CATEGORIES:District Events
ATTACH;FMTTYPE=application/pdf:https://aaneok.org/wp-content/uploads/2025/06/July-2025-JSM.pdf
END:VEVENT
BEGIN:VEVENT
DTSTART;TZID=America/New_York:20250710T100000
DTEND;TZID=America/New_York:20250710T110000
DTSTAMP:20260425T065339
CREATED:20250630T151556Z
LAST-MODIFIED:20250630T151556Z
UID:382890-1752141600-1752145200@aaneok.org
SUMMARY:One Time Meeting During Woodyfest 2025
DESCRIPTION:
URL:https://aaneok.org/event/one-time-meeting-during-woodyfest-2025/
LOCATION:Mosaic Grind Coffee Shop\, 215 W Broadway St\, Okemah\, OK\, 74859\, United States
CATEGORIES:General Events
END:VEVENT
BEGIN:VEVENT
DTSTART;TZID=America/New_York:20250706T130000
DTEND;TZID=America/New_York:20250706T150000
DTSTAMP:20260425T065339
CREATED:20250611T164156Z
LAST-MODIFIED:20250611T164156Z
UID:382742-1751806800-1751814000@aaneok.org
SUMMARY:Group 164 Ardmore Speaker/Bday
DESCRIPTION:
URL:https://aaneok.org/event/group-164-ardmore-speaker-bday-2/
LOCATION:311 N. Washington St./Ardmore\, 311 N. Washington St.\, Ardmore\, OK\, 73401\, United States
CATEGORIES:Group Events
END:VEVENT
BEGIN:VEVENT
DTSTART;TZID=America/New_York:20250705T180000
DTEND;TZID=America/New_York:20250705T190000
DTSTAMP:20260425T065339
CREATED:20250523T222647Z
LAST-MODIFIED:20250523T222647Z
UID:382607-1751738400-1751742000@aaneok.org
SUMMARY:Love & Fellowship Group Speaker Night
DESCRIPTION:
URL:https://aaneok.org/event/love-fellowship-group-speaker-night-2/
LOCATION:Woodlands Christian Church Ponca City\, 1400 E. Hartford Ave.\, Ponca City\, OK\, 74604\, United States
CATEGORIES:Group Events
END:VEVENT
BEGIN:VEVENT
DTSTART;TZID=America/New_York:20250705T093000
DTEND;TZID=America/New_York:20250705T104500
DTSTAMP:20260425T065339
CREATED:20250609T141656Z
LAST-MODIFIED:20250609T143034Z
UID:382712-1751707800-1751712300@aaneok.org
SUMMARY:BAD Girls June Birthdays
DESCRIPTION:
URL:https://aaneok.org/event/bad-girls-june-birthdays/
LOCATION:Harvard Avenue Christian Church\, 5502 S. Harvard Ave.\, Tulsa\, OK\, 74135\, United States
CATEGORIES:Group Events
ATTACH;FMTTYPE=application/pdf:https://aaneok.org/wp-content/uploads/2025/06/Bad-Girls-June-bday.pdf
END:VEVENT
BEGIN:VEVENT
DTSTART;VALUE=DATE:20250704
DTEND;VALUE=DATE:20250705
DTSTAMP:20260425T065339
CREATED:20250515T201554Z
LAST-MODIFIED:20250530T164239Z
UID:382559-1751587200-1751673599@aaneok.org
SUMMARY:NECS Office Closed
DESCRIPTION:
URL:https://aaneok.org/event/necs-office-closed-5/
LOCATION:Northeast Central Service\, 4833 S Sheridan\, Ste 410\, Tulsa\, OK\, 74145\, United States
CATEGORIES:NECS Events
ATTACH;FMTTYPE=application/pdf:https://aaneok.org/wp-content/uploads/2025/05/Office-Close-4th-of-July.pdf
END:VEVENT
BEGIN:VEVENT
DTSTART;VALUE=DATE:20250703
DTEND;VALUE=DATE:20250707
DTSTAMP:20260425T065339
CREATED:20250102T154027Z
LAST-MODIFIED:20250102T154027Z
UID:381781-1751500800-1751846399@aaneok.org
SUMMARY:Not A Glum Lot Roundup Charlotte NC
DESCRIPTION:
URL:https://aaneok.org/event/not-a-glum-lot-roundup-charlotte-nc/
LOCATION:Hilton Charotte University Place\, 8629 JM Keyes Drive\, Charlotte\, NC\, 28262\, United States
CATEGORIES:General Events
ATTACH;FMTTYPE=application/pdf:https://aaneok.org/wp-content/uploads/2025/01/Not-a-Glum-Lot-Roundup-Flyer-2.pdf
END:VEVENT
BEGIN:VEVENT
DTSTART;VALUE=DATE:20250703
DTEND;VALUE=DATE:20250707
DTSTAMP:20260425T065339
CREATED:20240909T173533Z
LAST-MODIFIED:20250418T135857Z
UID:380260-1751500800-1751846399@aaneok.org
SUMMARY:AA International/Vancouver 2025
DESCRIPTION:
URL:https://aaneok.org/event/aa-international-housing-information/
LOCATION:2025 International\, Vancouver Convention Center\, Vancouver\, British Columbia\, Canada
CATEGORIES:General Events
END:VEVENT
BEGIN:VEVENT
DTSTART;VALUE=DATE:20250703
DTEND;VALUE=DATE:20250704
DTSTAMP:20260425T065339
CREATED:20250530T161041Z
LAST-MODIFIED:20250703T185617Z
UID:382644-1751500800-1751587199@aaneok.org
SUMMARY:It's In The Book Muskogee Women's Big Book Study
DESCRIPTION:
URL:https://aaneok.org/event/its-in-the-book-muskogee-womens-big-book-study-2/
LOCATION:It’s in the Book/Muskogee\, 2130 W. Okmulgee St.\, Muskogee\, OK\, 74401\, United States
CATEGORIES:Group Events
END:VEVENT
BEGIN:VEVENT
DTSTART;TZID=America/New_York:20250701T173000
DTEND;TZID=America/New_York:20250701T183000
DTSTAMP:20260425T065339
CREATED:20250630T150120Z
LAST-MODIFIED:20250630T150120Z
UID:382886-1751391000-1751394600@aaneok.org
SUMMARY:B.A.D. Girls PLAIN LANGUAGE Big Book Study
DESCRIPTION:
URL:https://aaneok.org/event/b-a-d-girls-plain-language-big-book-study/
LOCATION:Harvard Avenue Christian Church\, 5502 S. Harvard Ave.\, Tulsa\, OK\, 74135\, United States
CATEGORIES:Group Events
ATTACH;FMTTYPE=application/pdf:https://aaneok.org/wp-content/uploads/2025/06/BAD-Girls-Plain-Lang-Tuesday.pdf
END:VEVENT
BEGIN:VEVENT
DTSTART;TZID=America/New_York:20250630T180000
DTEND;TZID=America/New_York:20250630T190000
DTSTAMP:20260425T065339
CREATED:20250620T145711Z
LAST-MODIFIED:20250620T151031Z
UID:382840-1751306400-1751310000@aaneok.org
SUMMARY:There Is A Solution Speaker/Bday
DESCRIPTION:
URL:https://aaneok.org/event/there-is-a-solution-speaker-bday/
LOCATION:Woodlands Christian Church Ponca City\, 1400 E. Hartford Ave.\, Ponca City\, OK\, 74604\, United States
CATEGORIES:Group Events
ATTACH;FMTTYPE=image/jpeg:https://aaneok.org/wp-content/uploads/2025/06/There-Is-A-Solution-Birthday-Speaker-Night-June-30-2025-scaled.jpeg
END:VEVENT
BEGIN:VEVENT
DTSTART;TZID=America/New_York:20250629T173000
DTEND;TZID=America/New_York:20250629T200000
DTSTAMP:20260425T065339
CREATED:20250311T171027Z
LAST-MODIFIED:20250311T171027Z
UID:382237-1751218200-1751227200@aaneok.org
SUMMARY:Southside Traditions 5th Anniversary
DESCRIPTION:
URL:https://aaneok.org/event/southside-traditions-5th-anniversary/
LOCATION:Christ Church Episcopal\, 10901 S. Yale Ave.\, Tulsa\, OK\, 74137\, United States
CATEGORIES:Group Events
ATTACH;FMTTYPE=image/png:https://aaneok.org/wp-content/uploads/2025/03/SSTG-5th-Anniversary-1.png
END:VEVENT
END:VCALENDAR