BEGIN:VCALENDAR
VERSION:2.0
PRODID:-//NECS - ECPv6.15.20//NONSGML v1.0//EN
CALSCALE:GREGORIAN
METHOD:PUBLISH
X-ORIGINAL-URL:https://aaneok.org
X-WR-CALDESC:Events for NECS
REFRESH-INTERVAL;VALUE=DURATION:PT1H
X-Robots-Tag:noindex
X-PUBLISHED-TTL:PT1H
BEGIN:VTIMEZONE
TZID:America/New_York
BEGIN:DAYLIGHT
TZOFFSETFROM:-0500
TZOFFSETTO:-0400
TZNAME:EDT
DTSTART:20230312T070000
END:DAYLIGHT
BEGIN:STANDARD
TZOFFSETFROM:-0400
TZOFFSETTO:-0500
TZNAME:EST
DTSTART:20231105T060000
END:STANDARD
BEGIN:DAYLIGHT
TZOFFSETFROM:-0500
TZOFFSETTO:-0400
TZNAME:EDT
DTSTART:20240310T070000
END:DAYLIGHT
BEGIN:STANDARD
TZOFFSETFROM:-0400
TZOFFSETTO:-0500
TZNAME:EST
DTSTART:20241103T060000
END:STANDARD
BEGIN:DAYLIGHT
TZOFFSETFROM:-0500
TZOFFSETTO:-0400
TZNAME:EDT
DTSTART:20250309T070000
END:DAYLIGHT
BEGIN:STANDARD
TZOFFSETFROM:-0400
TZOFFSETTO:-0500
TZNAME:EST
DTSTART:20251102T060000
END:STANDARD
BEGIN:DAYLIGHT
TZOFFSETFROM:-0500
TZOFFSETTO:-0400
TZNAME:EDT
DTSTART:20260308T070000
END:DAYLIGHT
BEGIN:STANDARD
TZOFFSETFROM:-0400
TZOFFSETTO:-0500
TZNAME:EST
DTSTART:20261101T060000
END:STANDARD
END:VTIMEZONE
BEGIN:VEVENT
DTSTART;TZID=America/New_York:20241212T183000
DTEND;TZID=America/New_York:20241212T200000
DTSTAMP:20260426T001012
CREATED:20241210T202756Z
LAST-MODIFIED:20241210T202841Z
UID:381695-1734028200-1734033600@aaneok.org
SUMMARY:Joint Service Meeting
DESCRIPTION:Please join the meeting to learn about the Tradition\, Concept and Topic of the month. \nFellowship at 6:00 and Meeting at 7:00 \nAll are welcome!
URL:https://aaneok.org/event/joint-service-meeting/
LOCATION:Unanimity Club\, 8749 S Lewis Avenue\, Tulsa\, OK\, 74137\, United States
CATEGORIES:District Events
END:VEVENT
BEGIN:VEVENT
DTSTART;VALUE=DATE:20241214
DTEND;VALUE=DATE:20241215
DTSTAMP:20260426T001012
CREATED:20240927T170830Z
LAST-MODIFIED:20240927T170830Z
UID:381299-1734134400-1734220799@aaneok.org
SUMMARY:Area 57 State Sponsored Workshop
DESCRIPTION:
URL:https://aaneok.org/event/area-57-state-sponsored-workshop-2/
LOCATION:Primary Purpose Group\, 226 w. Gray Street\, Norman\, OK\, 73069\, United States
ATTACH;FMTTYPE=image/jpeg:https://aaneok.org/wp-content/uploads/2024/09/State-Sponsored-Workshop-12-14-24-PPG-scaled.jpeg
END:VEVENT
BEGIN:VEVENT
DTSTART;TZID=America/New_York:20241214T090000
DTEND;TZID=America/New_York:20241214T130000
DTSTAMP:20260426T001012
CREATED:20241115T192228Z
LAST-MODIFIED:20241207T175748Z
UID:381576-1734166800-1734181200@aaneok.org
SUMMARY:NECS Open House
DESCRIPTION:
URL:https://aaneok.org/event/necs-open-house/
LOCATION:Northeast Central Service\, 4833 S Sheridan\, Ste 410\, Tulsa\, OK\, 74145\, United States
CATEGORIES:NECS Events
ATTACH;FMTTYPE=image/jpeg:https://aaneok.org/wp-content/uploads/2024/11/Open-House-2024.jpg
END:VEVENT
BEGIN:VEVENT
DTSTART;TZID=America/New_York:20241214T190000
DTEND;TZID=America/New_York:20241214T210000
DTSTAMP:20260426T001012
CREATED:20241114T194356Z
LAST-MODIFIED:20241207T175458Z
UID:381571-1734202800-1734210000@aaneok.org
SUMMARY:Big Meeting
DESCRIPTION:
URL:https://aaneok.org/event/big-meeting-2/
LOCATION:Harvard Avenue Christian Church\, 5502 S. Harvard Ave.\, Tulsa\, OK\, 74135\, United States
CATEGORIES:NE Big Meeting
ATTACH;FMTTYPE=application/pdf:https://aaneok.org/wp-content/uploads/2024/11/BigMeeting-Dec-2024-1.pdf
END:VEVENT
BEGIN:VEVENT
DTSTART;TZID=America/New_York:20241224T183000
DTEND;TZID=America/New_York:20241224T200000
DTSTAMP:20260426T001012
CREATED:20241204T152742Z
LAST-MODIFIED:20241204T152742Z
UID:381662-1735065000-1735070400@aaneok.org
SUMMARY:The Unity Group/Pryor
DESCRIPTION:
URL:https://aaneok.org/event/the-unity-group-pryor/
LOCATION:Youth Center Building\, 110 N. Vann St.\, Pryor\, OK\, 74361\, United States
CATEGORIES:Group Events
ATTACH;FMTTYPE=application/pdf:https://aaneok.org/wp-content/uploads/2024/12/Winter-Speaker-Meeting-Flyer-dec.pdf
END:VEVENT
BEGIN:VEVENT
DTSTART;TZID=America/New_York:20241224T190000
DTEND;TZID=America/New_York:20241225T000000
DTSTAMP:20260426T001012
CREATED:20241214T161630Z
LAST-MODIFIED:20241214T161630Z
UID:381737-1735066800-1735084800@aaneok.org
SUMMARY:Christmas Eve Marathon Meetings
DESCRIPTION:
URL:https://aaneok.org/event/christmas-eve-marathon-meetings/
LOCATION:Grand Arc\, 6333 E. Skelly Dr.\, Tulsa\, OK\, 74135\, United States
CATEGORIES:Group Events
ATTACH;FMTTYPE=application/pdf:https://aaneok.org/wp-content/uploads/2024/12/xmas-marathon-2024-1.pdf
END:VEVENT
BEGIN:VEVENT
DTSTART;VALUE=DATE:20241225
DTEND;VALUE=DATE:20241227
DTSTAMP:20260426T001012
CREATED:20240913T125757Z
LAST-MODIFIED:20241212T220822Z
UID:381211-1735084800-1735257599@aaneok.org
SUMMARY:NECS Office Closed
DESCRIPTION:
URL:https://aaneok.org/event/necs-office-closed-2/
LOCATION:OK
CATEGORIES:NECS Events
ATTACH;FMTTYPE=image/jpeg:https://aaneok.org/wp-content/uploads/2024/09/CHRISTMAS-DAY-closed.jpg
END:VEVENT
BEGIN:VEVENT
DTSTART;TZID=America/New_York:20241227T190000
DTEND;TZID=America/New_York:20241227T210000
DTSTAMP:20260426T001012
CREATED:20241120T171927Z
LAST-MODIFIED:20241120T171927Z
UID:381592-1735326000-1735333200@aaneok.org
SUMMARY:Guthrie 89er Group Speaker/Bday Night
DESCRIPTION:
URL:https://aaneok.org/event/guthrie-89er-group-speaker-bday-night/
LOCATION:Old Red Brick School House\, 3522 S Division St\, Guthrie\, OK\, 73044\, United States
CATEGORIES:Group Events
ATTACH;FMTTYPE=image/jpeg:https://aaneok.org/wp-content/uploads/2024/11/89er-Birthday-Speaker-Night-1-scaled.jpeg
END:VEVENT
BEGIN:VEVENT
DTSTART;VALUE=DATE:20241228
DTEND;VALUE=DATE:20241229
DTSTAMP:20260426T001012
CREATED:20241212T145351Z
LAST-MODIFIED:20241212T211208Z
UID:381711-1735344000-1735430399@aaneok.org
SUMMARY:NECS Office Closed for Inventory
DESCRIPTION:
URL:https://aaneok.org/event/necs-office-for-inventory/
LOCATION:Northeast Central Service\, 4833 S Sheridan\, Ste 410\, Tulsa\, OK\, 74145\, United States
CATEGORIES:NECS Events
ATTACH;FMTTYPE=image/jpeg:https://aaneok.org/wp-content/uploads/2024/12/Closed-Inventory.jpg
END:VEVENT
BEGIN:VEVENT
DTSTART;TZID=America/New_York:20241229T173000
DTEND;TZID=America/New_York:20241229T200000
DTSTAMP:20260426T001012
CREATED:20241218T172452Z
LAST-MODIFIED:20241218T172452Z
UID:381745-1735493400-1735502400@aaneok.org
SUMMARY:Southside Traditions Speaker Meeting
DESCRIPTION:
URL:https://aaneok.org/event/southside-traditions-speaker-meeting/
LOCATION:Christ Church Episcopal\, 10901 S. Yale Ave.\, Tulsa\, OK\, 74137\, United States
CATEGORIES:Group Events
ATTACH;FMTTYPE=application/pdf:https://aaneok.org/wp-content/uploads/2024/12/Southside-Traditions-Speaker.pdf
END:VEVENT
BEGIN:VEVENT
DTSTART;VALUE=DATE:20241231
DTEND;VALUE=DATE:20250102
DTSTAMP:20260426T001012
CREATED:20240913T125855Z
LAST-MODIFIED:20241212T220545Z
UID:381214-1735603200-1735775999@aaneok.org
SUMMARY:NECS Office Closed
DESCRIPTION:
URL:https://aaneok.org/event/necs-office-closed-3/
LOCATION:OK
CATEGORIES:NECS Events
ATTACH;FMTTYPE=image/jpeg:https://aaneok.org/wp-content/uploads/2024/09/NY-Office-closed.jpg
END:VEVENT
BEGIN:VEVENT
DTSTART;TZID=America/New_York:20241231T190000
DTEND;TZID=America/New_York:20241231T223000
DTSTAMP:20260426T001012
CREATED:20241218T171902Z
LAST-MODIFIED:20241218T171902Z
UID:381741-1735671600-1735684200@aaneok.org
SUMMARY:Ada Three Legacies "NYE Event"
DESCRIPTION:
URL:https://aaneok.org/event/ada-three-legacies-nye-event/
LOCATION:St. Luke’s Episcopal Church Ada\, 100 E. 17th St.\, Ada\, OK\, 74820\, United States
CATEGORIES:Group Events
ATTACH;FMTTYPE=application/pdf:https://aaneok.org/wp-content/uploads/2024/12/ADA-THREE-LEGACIES-NEW-YEARS-EVE-MEETING.pdf
END:VEVENT
BEGIN:VEVENT
DTSTART;TZID=America/New_York:20241231T200000
DTEND;TZID=America/New_York:20250101T020000
DTSTAMP:20260426T001012
CREATED:20241230T163124Z
LAST-MODIFIED:20241230T163124Z
UID:381777-1735675200-1735696800@aaneok.org
SUMMARY:Alive in 25'
DESCRIPTION:
URL:https://aaneok.org/event/alive-in-25/
LOCATION:Unanimity Club\, 8749 S Lewis Avenue\, Tulsa\, OK\, 74137\, United States
CATEGORIES:Group Events
ATTACH;FMTTYPE=application/pdf:https://aaneok.org/wp-content/uploads/2024/12/UN-NYE.pdf
END:VEVENT
BEGIN:VEVENT
DTSTART;TZID=America/New_York:20250107T183000
DTEND;TZID=America/New_York:20250107T200000
DTSTAMP:20260426T001012
CREATED:20241212T210806Z
LAST-MODIFIED:20241212T210806Z
UID:381728-1736274600-1736280000@aaneok.org
SUMMARY:Jenks Group 2nd Anniversary
DESCRIPTION:
URL:https://aaneok.org/event/jenks-group-2nd-anniversary/
LOCATION:St. James Presbyterian Church Jenks\, 11970 S. Elm St.\, Jenks\, OK\, 74037\, United States
CATEGORIES:Group Events
ATTACH;FMTTYPE=image/jpeg:https://aaneok.org/wp-content/uploads/2024/12/JENKS-Group.jpg
END:VEVENT
BEGIN:VEVENT
DTSTART;TZID=America/New_York:20250109T183000
DTEND;TZID=America/New_York:20250109T200000
DTSTAMP:20260426T001012
CREATED:20241210T201950Z
LAST-MODIFIED:20241210T201950Z
UID:381690-1736447400-1736452800@aaneok.org
SUMMARY:Joint Service Meeting
DESCRIPTION:
URL:https://aaneok.org/event/joint-service-meeting-2/
LOCATION:Unanimity Club\, 8749 S Lewis Avenue\, Tulsa\, OK\, 74137\, United States
CATEGORIES:District Events
ATTACH;FMTTYPE=application/pdf:https://aaneok.org/wp-content/uploads/2024/12/JSM-Dec.pdf
END:VEVENT
BEGIN:VEVENT
DTSTART;TZID=America/New_York:20250110T170000
DTEND;TZID=America/New_York:20250110T200000
DTSTAMP:20260426T001012
CREATED:20241028T163709Z
LAST-MODIFIED:20241028T163709Z
UID:381490-1736528400-1736539200@aaneok.org
SUMMARY:North Meredian Chili Cookoff
DESCRIPTION:
URL:https://aaneok.org/event/north-meredian-chili-cookoff/
LOCATION:N. Meridan Group\, 4407 NW 50th\, OKC\, OK\, 73112\, United States
CATEGORIES:Group Events
ATTACH;FMTTYPE=application/pdf:https://aaneok.org/wp-content/uploads/2024/10/N.-Meridian-Speaker-Chili-Cookoff-1-10-25-1.pdf
END:VEVENT
BEGIN:VEVENT
DTSTART;TZID=America/New_York:20250111T090000
DTEND;TZID=America/New_York:20250111T110000
DTSTAMP:20260426T001012
CREATED:20241104T222901Z
LAST-MODIFIED:20241212T211415Z
UID:381524-1736586000-1736593200@aaneok.org
SUMMARY:Central Service Rep Quarterly Meeting
DESCRIPTION:
URL:https://aaneok.org/event/central-service-rep-quarterly-meeting/
LOCATION:Unanimity Club\, 8749 S Lewis Avenue\, Tulsa\, OK\, 74137\, United States
CATEGORIES:NECS Events
ATTACH;FMTTYPE=application/pdf:https://aaneok.org/wp-content/uploads/2024/11/CSR-Meeting-01-11-2025.pdf
END:VEVENT
BEGIN:VEVENT
DTSTART;TZID=America/New_York:20250111T190000
DTEND;TZID=America/New_York:20250111T210000
DTSTAMP:20260426T001012
CREATED:20241218T173149Z
LAST-MODIFIED:20241227T193822Z
UID:381753-1736622000-1736629200@aaneok.org
SUMMARY:Big Meeting January 2025 Meeting
DESCRIPTION:
URL:https://aaneok.org/event/big-meeting-january-2025-meeting/
LOCATION:Harvard Avenue Christian Church\, 5502 S. Harvard Ave.\, Tulsa\, OK\, 74135\, United States
CATEGORIES:NE Big Meeting
ATTACH;FMTTYPE=application/pdf:https://aaneok.org/wp-content/uploads/2024/12/January-11th2025-12-27-24-2-1.pdf
END:VEVENT
BEGIN:VEVENT
DTSTART;TZID=America/New_York:20250112T190000
DTEND;TZID=America/New_York:20250112T200000
DTSTAMP:20260426T001012
CREATED:20250102T154326Z
LAST-MODIFIED:20250102T154326Z
UID:381785-1736708400-1736712000@aaneok.org
SUMMARY:Southside Traditions Open Speaker Meeting
DESCRIPTION:
URL:https://aaneok.org/event/southside-traditions-open-speaker-meeting/
LOCATION:Southside Traditions Meeting\, 10901 S. Yale Ave.\, Tulsa\, OK\, 74137\, United States
CATEGORIES:Group Events
ATTACH;FMTTYPE=application/pdf:https://aaneok.org/wp-content/uploads/2025/01/Southside-January-Flyer.pdf
END:VEVENT
BEGIN:VEVENT
DTSTART;TZID=America/New_York:20250113T190000
DTEND;TZID=America/New_York:20250113T200000
DTSTAMP:20260426T001012
CREATED:20241218T215910Z
LAST-MODIFIED:20250108T132546Z
UID:381756-1736794800-1736798400@aaneok.org
SUMMARY:Big Meeting Committee Meeting
DESCRIPTION:
URL:https://aaneok.org/event/big-meeting-committee-meeting-2/
LOCATION:Harvard Avenue Christian Church\, 5502 S. Harvard Ave.\, Tulsa\, OK\, 74135\, United States
CATEGORIES:NE Big Meeting
ATTACH;FMTTYPE=image/jpeg:https://aaneok.org/wp-content/uploads/2024/12/Big-Meeting-Committee-Jan.jpg
END:VEVENT
BEGIN:VEVENT
DTSTART;TZID=America/New_York:20250115T120000
DTEND;TZID=America/New_York:20250115T130000
DTSTAMP:20260426T001012
CREATED:20241218T172948Z
LAST-MODIFIED:20241218T172948Z
UID:381749-1736942400-1736946000@aaneok.org
SUMMARY:Muskogee Brown Bag Group Special Speaker
DESCRIPTION:
URL:https://aaneok.org/event/muskogee-brown-bag-group-special-speaker/
LOCATION:First United Methodist Church Muskogee\, 600 E. Okmulgee St/\, Muskogee\, OK\, 74403\, United States
CATEGORIES:Group Events
ATTACH;FMTTYPE=application/pdf:https://aaneok.org/wp-content/uploads/2024/12/Brown-Bag-Speaker-Flyer.pdf
END:VEVENT
BEGIN:VEVENT
DTSTART;VALUE=DATE:20250124
DTEND;VALUE=DATE:20250127
DTSTAMP:20260426T001012
CREATED:20240911T205112Z
LAST-MODIFIED:20240911T205112Z
UID:381197-1737676800-1737935999@aaneok.org
SUMMARY:District 30 Winter Conference
DESCRIPTION:
URL:https://aaneok.org/event/district-30-winter-conference/
LOCATION:Claremore Conference Center\, 1400 W. Country Club Road\, Claremore\, OK\, 74017\, United States
CATEGORIES:District Events
ATTACH;FMTTYPE=image/jpeg:https://aaneok.org/wp-content/uploads/2024/09/Dist-30-Winter-Conf-2025-1.jpg
END:VEVENT
BEGIN:VEVENT
DTSTART;VALUE=DATE:20250124
DTEND;VALUE=DATE:20250127
DTSTAMP:20260426T001012
CREATED:20240911T205751Z
LAST-MODIFIED:20240911T205751Z
UID:381201-1737676800-1737935999@aaneok.org
SUMMARY:Outright Mental Defectives 2025
DESCRIPTION:
URL:https://aaneok.org/event/outright-mental-defectives-2025/
LOCATION:St. Crispin’s Conference Center\, 36302 SH-9\, Wewoka\, OK\, 74884\, United States
CATEGORIES:General Events
ATTACH;FMTTYPE=image/jpeg:https://aaneok.org/wp-content/uploads/2024/09/OutRight-Mental-Defectives-Mens-Retreat-1.jpg
END:VEVENT
BEGIN:VEVENT
DTSTART;TZID=America/New_York:20250126T080000
DTEND;TZID=America/New_York:20250126T170000
DTSTAMP:20260426T001012
CREATED:20250102T154451Z
LAST-MODIFIED:20250102T154451Z
UID:381789-1737878400-1737910800@aaneok.org
SUMMARY:Southside Traditions Open Speaker Meeting
DESCRIPTION:
URL:https://aaneok.org/event/southside-traditions-open-speaker-meeting-2/
LOCATION:Southside Traditions Meeting\, 10901 S. Yale Ave.\, Tulsa\, OK\, 74137\, United States
CATEGORIES:Group Events
ATTACH;FMTTYPE=application/pdf:https://aaneok.org/wp-content/uploads/2025/01/Southside-January-Flyer-1.pdf
END:VEVENT
BEGIN:VEVENT
DTSTART;TZID=America/New_York:20250128T183000
DTEND;TZID=America/New_York:20250128T200000
DTSTAMP:20260426T001012
CREATED:20241226T163621Z
LAST-MODIFIED:20241226T214113Z
UID:381763-1738089000-1738094400@aaneok.org
SUMMARY:The Unity Group Pryor Speaker Meeting
DESCRIPTION:
URL:https://aaneok.org/event/the-unity-group-pryor-speaker-meeting-2/
LOCATION:Youth Center Building Pryor\, 110 N. Vann St.\, Pryor\, OK\, 74361\, United States
CATEGORIES:Group Events
ATTACH;FMTTYPE=application/pdf:https://aaneok.org/wp-content/uploads/2024/12/Winter-Speaker-Meeting-Flyer-jan-25.pdf
END:VEVENT
BEGIN:VEVENT
DTSTART;TZID=America/New_York:20250130T183000
DTEND;TZID=America/New_York:20250130T193000
DTSTAMP:20260426T001012
CREATED:20250122T162742Z
LAST-MODIFIED:20250122T162742Z
UID:381877-1738261800-1738265400@aaneok.org
SUMMARY:AA Service Manual in Depth Book Study Virtual
DESCRIPTION:
URL:https://aaneok.org/event/aa-service-manual-in-depth-book-study-virtual/
LOCATION:OK
CATEGORIES:Group Events
ATTACH;FMTTYPE=application/pdf:https://aaneok.org/wp-content/uploads/2025/01/SW-Region-AA-Serv-Manual-Study-2025-png-1.pdf
END:VEVENT
BEGIN:VEVENT
DTSTART;TZID=America/New_York:20250130T190000
DTEND;TZID=America/New_York:20250130T200000
DTSTAMP:20260426T001012
CREATED:20250107T154144Z
LAST-MODIFIED:20250107T154144Z
UID:381821-1738263600-1738267200@aaneok.org
SUMMARY:Purcell Unity Group Birthday Meeting
DESCRIPTION:
URL:https://aaneok.org/event/purcell-unity-group-birthday-meeting/
LOCATION:Landmark Church\, 1106 W. Grant Street\, Purcell\, OK\, 73080\, United States
CATEGORIES:Group Events
ATTACH;FMTTYPE=application/pdf:https://aaneok.org/wp-content/uploads/2025/01/Purcell-Unity-Group-Birthday-Jan.pdf
END:VEVENT
BEGIN:VEVENT
DTSTART;TZID=America/New_York:20250131T190000
DTEND;TZID=America/New_York:20250131T210000
DTSTAMP:20260426T001012
CREATED:20241119T191635Z
LAST-MODIFIED:20241119T191635Z
UID:381585-1738350000-1738357200@aaneok.org
SUMMARY:Guthrie 89er Speaker Birthday Meeting
DESCRIPTION:
URL:https://aaneok.org/event/guthrie-89er-speaker-birthday-meeting/
LOCATION:Old Red Brick School House\, 3522 S Division St\, Guthrie\, OK\, 73044\, United States
CATEGORIES:Group Events
ATTACH;FMTTYPE=application/pdf:https://aaneok.org/wp-content/uploads/2024/11/89er-Birthday-Speaker-Night-1.pdf
END:VEVENT
BEGIN:VEVENT
DTSTART;TZID=America/New_York:20250201T093000
DTEND;TZID=America/New_York:20250201T103000
DTSTAMP:20260426T001012
CREATED:20250111T160426Z
LAST-MODIFIED:20250111T160426Z
UID:381847-1738402200-1738405800@aaneok.org
SUMMARY:BAD Girls Birthday Celebrations
DESCRIPTION:
URL:https://aaneok.org/event/bad-girls-birthday-celebrations/
LOCATION:Rebos ClubHouse\, 3355 S Jamestown Ave\, Tulsa\, OK\, 74135\, United States
CATEGORIES:Group Events
ATTACH;FMTTYPE=application/pdf:https://aaneok.org/wp-content/uploads/2025/01/BAD-girls-Feb.pdf
END:VEVENT
BEGIN:VEVENT
DTSTART;TZID=America/New_York:20250201T100000
DTEND;TZID=America/New_York:20250201T140000
DTSTAMP:20260426T001012
CREATED:20250110T145104Z
LAST-MODIFIED:20250110T145104Z
UID:381831-1738404000-1738418400@aaneok.org
SUMMARY:District 40 AA Traditions Workshop
DESCRIPTION:
URL:https://aaneok.org/event/district-40-aa-traditions-workshop/
LOCATION:Disciples Christian Church/Bartlesville\, 5800 Douglas Lane\, Bartlesville\, OK\, 74006\, United States
CATEGORIES:District Events
ATTACH;FMTTYPE=application/pdf:https://aaneok.org/wp-content/uploads/2025/01/Traditions-Workshop.pdf
END:VEVENT
END:VCALENDAR