BEGIN:VCALENDAR
VERSION:2.0
PRODID:-//NECS - ECPv6.15.20//NONSGML v1.0//EN
CALSCALE:GREGORIAN
METHOD:PUBLISH
X-ORIGINAL-URL:https://aaneok.org
X-WR-CALDESC:Events for NECS
REFRESH-INTERVAL;VALUE=DURATION:PT1H
X-Robots-Tag:noindex
X-PUBLISHED-TTL:PT1H
BEGIN:VTIMEZONE
TZID:America/New_York
BEGIN:DAYLIGHT
TZOFFSETFROM:-0500
TZOFFSETTO:-0400
TZNAME:EDT
DTSTART:20240310T070000
END:DAYLIGHT
BEGIN:STANDARD
TZOFFSETFROM:-0400
TZOFFSETTO:-0500
TZNAME:EST
DTSTART:20241103T060000
END:STANDARD
BEGIN:DAYLIGHT
TZOFFSETFROM:-0500
TZOFFSETTO:-0400
TZNAME:EDT
DTSTART:20250309T070000
END:DAYLIGHT
BEGIN:STANDARD
TZOFFSETFROM:-0400
TZOFFSETTO:-0500
TZNAME:EST
DTSTART:20251102T060000
END:STANDARD
BEGIN:DAYLIGHT
TZOFFSETFROM:-0500
TZOFFSETTO:-0400
TZNAME:EDT
DTSTART:20260308T070000
END:DAYLIGHT
BEGIN:STANDARD
TZOFFSETFROM:-0400
TZOFFSETTO:-0500
TZNAME:EST
DTSTART:20261101T060000
END:STANDARD
END:VTIMEZONE
BEGIN:VEVENT
DTSTART;VALUE=DATE:20250822
DTEND;VALUE=DATE:20250825
DTSTAMP:20260425T064128
CREATED:20250625T151521Z
LAST-MODIFIED:20250625T151521Z
UID:382857-1755820800-1756079999@aaneok.org
SUMMARY:East Central Regional Forum 2025
DESCRIPTION:
URL:https://aaneok.org/event/east-central-regional-forum-2025/
LOCATION:Marriott Indy Place Indianapolis\, IN\, 350 W. Maryland Street\, Indianapolis\, IN\, 46225\, United States
CATEGORIES:General Events
ATTACH;FMTTYPE=application/pdf:https://aaneok.org/wp-content/uploads/2025/06/2025-Regional-Forum-East-Central.pdf
END:VEVENT
BEGIN:VEVENT
DTSTART;TZID=America/New_York:20250824T100000
DTEND;TZID=America/New_York:20250824T140000
DTSTAMP:20260425T064128
CREATED:20250725T161339Z
LAST-MODIFIED:20250725T161339Z
UID:383040-1756029600-1756044000@aaneok.org
SUMMARY:District 50 Meeting
DESCRIPTION:
URL:https://aaneok.org/event/district-50-meeting-2/
LOCATION:Harmony House/Ponca City\, 212 S. 3rd St.\, Ponca City\, OK\, 74601\, United States
CATEGORIES:District Events
ATTACH;FMTTYPE=application/pdf:https://aaneok.org/wp-content/uploads/2025/07/District-50-Meeting-Sun.-Aug.-24-2025.pdf
END:VEVENT
BEGIN:VEVENT
DTSTART;TZID=America/New_York:20250824T150000
DTEND;TZID=America/New_York:20250824T160000
DTSTAMP:20260425T064128
CREATED:20250821T191158Z
LAST-MODIFIED:20250821T191158Z
UID:383243-1756047600-1756051200@aaneok.org
SUMMARY:2026 OK. State Conference Committee Meeting
DESCRIPTION:3pm IN PERSON- Mindset Behavioral Health 5563 S. Lewis Ave. #100\, Tulsa\, 74105 \nZoom- 2521537503 Password-Rule62 \nAnyone willing to help are welcome!
URL:https://aaneok.org/event/2026-ok-state-conference-committee-meeting/
LOCATION:OK
CATEGORIES:Area 57 Events
END:VEVENT
BEGIN:VEVENT
DTSTART;TZID=America/New_York:20250827T190000
DTEND;TZID=America/New_York:20250827T210000
DTSTAMP:20260425T064128
CREATED:20250822T194433Z
LAST-MODIFIED:20250822T194700Z
UID:383262-1756321200-1756328400@aaneok.org
SUMMARY:Full Measures AA birthdays
DESCRIPTION:
URL:https://aaneok.org/event/full-measures-aa-birthdays/
LOCATION:Hillcrest Baptist Church\, 902 N Washington\, Stillwater\, OK\, 74075\, United States
CATEGORIES:Group Events
ATTACH;FMTTYPE=image/jpeg:https://aaneok.org/wp-content/uploads/2025/08/Full-Measures-AA-Speaker-Birthday-7-27-25-scaled.jpeg
END:VEVENT
BEGIN:VEVENT
DTSTART;VALUE=DATE:20250828
DTEND;VALUE=DATE:20250901
DTSTAMP:20260425T064128
CREATED:20250814T173442Z
LAST-MODIFIED:20250814T173442Z
UID:383179-1756339200-1756684799@aaneok.org
SUMMARY:65th ICYPAA/Minneapolis
DESCRIPTION:
URL:https://aaneok.org/event/65th-icypaa-minneapolis/
LOCATION:Hilton Minneapolis
CATEGORIES:General Events
ATTACH;FMTTYPE=image/jpeg:https://aaneok.org/wp-content/uploads/2025/08/AA-ICYPAA-1.jpg
END:VEVENT
BEGIN:VEVENT
DTSTART;TZID=America/New_York:20250828T190000
DTEND;TZID=America/New_York:20250828T210000
DTSTAMP:20260425T064128
CREATED:20250822T201904Z
LAST-MODIFIED:20250822T201904Z
UID:383275-1756407600-1756414800@aaneok.org
SUMMARY:Purcell Unity Group August Birthday
DESCRIPTION:
URL:https://aaneok.org/event/purcell-unity-group-august-birthday/
LOCATION:Landmark Church Purcell\, 1106 W. Grant Street\, Purcell\, OK\, 73080\, United States
CATEGORIES:Group Events
ATTACH;FMTTYPE=application/pdf:https://aaneok.org/wp-content/uploads/2025/08/Purcell-Unity-Group-Birthdays.pdf
END:VEVENT
BEGIN:VEVENT
DTSTART;VALUE=DATE:20250829
DTEND;VALUE=DATE:20250901
DTSTAMP:20260425T064128
CREATED:20250619T150343Z
LAST-MODIFIED:20250619T150343Z
UID:382807-1756425600-1756684799@aaneok.org
SUMMARY:Summer Serenity XXII 2025
DESCRIPTION:
URL:https://aaneok.org/event/summer-serenity-xxii-2025/
LOCATION:Hilton-Sandestin Beach Resort\, 4000 S Sandestin Blvd Miramar\, Miramir Beach\, FL\, 32550\, United States
CATEGORIES:General Events
ATTACH;FMTTYPE=application/pdf:https://aaneok.org/wp-content/uploads/2025/06/Summer-Serenity-202520250619093622.pdf
END:VEVENT
BEGIN:VEVENT
DTSTART;TZID=America/New_York:20250829T190000
DTEND;TZID=America/New_York:20250829T210000
DTSTAMP:20260425T064128
CREATED:20250721T174735Z
LAST-MODIFIED:20250724T213503Z
UID:383002-1756494000-1756501200@aaneok.org
SUMMARY:Guthrie 89er Birthday and Speaker Meeting
DESCRIPTION:
URL:https://aaneok.org/event/guthrie-89er-birthday-and-speaker-meeting/
LOCATION:Guthrie 89er Group\, 3522 S Division St\, Guthrie\, OK\, 73044\, United States
CATEGORIES:Group Events
ATTACH;FMTTYPE=application/pdf:https://aaneok.org/wp-content/uploads/2025/07/Guthrie-89er-Group-Speaker-Night-Friday-August-29-2025-1.pdf
END:VEVENT
BEGIN:VEVENT
DTSTART;TZID=America/New_York:20250830T090000
DTEND;TZID=America/New_York:20250830T130000
DTSTAMP:20260425T064128
CREATED:20250721T165709Z
LAST-MODIFIED:20250724T213633Z
UID:382997-1756544400-1756558800@aaneok.org
SUMMARY:Area 57 5th Tradition Workshop
DESCRIPTION:
URL:https://aaneok.org/event/area-57-5th-tradition-workshop/
LOCATION:OK
CATEGORIES:Area 57 Events
ATTACH;FMTTYPE=image/jpeg:https://aaneok.org/wp-content/uploads/2025/07/State-Sponsored-Workshop-Aug.-30-2025-Sleepy-Hollow-Stillwater-2-scaled.jpeg
END:VEVENT
BEGIN:VEVENT
DTSTART;TZID=America/New_York:20250830T093000
DTEND;TZID=America/New_York:20250830T103000
DTSTAMP:20260425T064128
CREATED:20250728T212231Z
LAST-MODIFIED:20250728T212231Z
UID:383076-1756546200-1756549800@aaneok.org
SUMMARY:B.A.D. Girls August Birthdays
DESCRIPTION:
URL:https://aaneok.org/event/b-a-d-girls-august-birthdays/
LOCATION:Harvard Avenue Christian Church\, 5502 S. Harvard Ave.\, Tulsa\, OK\, 74135\, United States
CATEGORIES:Group Events
ATTACH;FMTTYPE=application/pdf:https://aaneok.org/wp-content/uploads/2025/07/Untitled-design-14.pdf
END:VEVENT
BEGIN:VEVENT
DTSTART;VALUE=DATE:20250901
DTEND;VALUE=DATE:20250902
DTSTAMP:20260425T064128
CREATED:20250515T203050Z
LAST-MODIFIED:20250530T164138Z
UID:382563-1756684800-1756771199@aaneok.org
SUMMARY:NECS Office Closed
DESCRIPTION:
URL:https://aaneok.org/event/necs-office-closed-6/
LOCATION:Northeast Central Service\, 4833 S Sheridan\, Ste 410\, Tulsa\, OK\, 74145\, United States
CATEGORIES:NECS Events
ATTACH;FMTTYPE=application/pdf:https://aaneok.org/wp-content/uploads/2025/05/Labor-day-closed.pdf
END:VEVENT
BEGIN:VEVENT
DTSTART;VALUE=DATE:20250904
DTEND;VALUE=DATE:20250905
DTSTAMP:20260425T064128
CREATED:20250530T162922Z
LAST-MODIFIED:20250724T213725Z
UID:382650-1756944000-1757030399@aaneok.org
SUMMARY:It's In The Book Muskogee Women's Big Book Study
DESCRIPTION:
URL:https://aaneok.org/event/its-in-the-book-muskogee-womens-big-book-study-4/
LOCATION:It’s in the Book/Muskogee\, 2130 W. Okmulgee St.\, Muskogee\, OK\, 74401\, United States
CATEGORIES:Group Events
ATTACH;FMTTYPE=application/pdf:https://aaneok.org/wp-content/uploads/2025/05/Its-in-the-book-1.pdf
END:VEVENT
BEGIN:VEVENT
DTSTART;VALUE=DATE:20250905
DTEND;VALUE=DATE:20250906
DTSTAMP:20260425T064128
CREATED:20250708T164449Z
LAST-MODIFIED:20250902T170227Z
UID:382939-1757030400-1757116799@aaneok.org
SUMMARY:Fun in Fellowship Raffle Prizes Needed
DESCRIPTION:
URL:https://aaneok.org/event/fun-in-fellowship-2025-calling-for-raffle-prizes-copy/
LOCATION:OK
CATEGORIES:Area 57 Events
ATTACH;FMTTYPE=application/pdf:https://aaneok.org/wp-content/uploads/2025/07/Untitled-design-10.pdf
END:VEVENT
BEGIN:VEVENT
DTSTART;VALUE=DATE:20250905
DTEND;VALUE=DATE:20250908
DTSTAMP:20260425T064128
CREATED:20250117T211946Z
LAST-MODIFIED:20250117T211946Z
UID:381866-1757030400-1757289599@aaneok.org
SUMMARY:2025 Bridging the Gap Workshop/Ortario CA
DESCRIPTION:
URL:https://aaneok.org/event/2025-bridging-the-gap-workshop-ortario-ca/
LOCATION:Sheraton Ontario Airport Hotel\, 429 N. Vineyard Ave.\, Ontario\, CA\, 91764\, United States
CATEGORIES:General Events
ATTACH;FMTTYPE=application/pdf:https://aaneok.org/wp-content/uploads/2025/01/btgww25flyer.pdf
END:VEVENT
BEGIN:VEVENT
DTSTART;TZID=America/New_York:20250906T090000
DTEND;TZID=America/New_York:20250906T120000
DTSTAMP:20260425T064128
CREATED:20241211T210839Z
LAST-MODIFIED:20250611T215815Z
UID:381705-1757149200-1757160000@aaneok.org
SUMMARY:District 30 Meeting
DESCRIPTION:
URL:https://aaneok.org/event/district-30-meeting-3/
LOCATION:Generations North Church/Bixby\, 8017 East 131st St. S.\, Bixby\, OK\, 74008\, United States
CATEGORIES:District Events
ATTACH;FMTTYPE=application/pdf:https://aaneok.org/wp-content/uploads/2024/12/District-30-September-Meeting.pdf
END:VEVENT
BEGIN:VEVENT
DTSTART;TZID=America/New_York:20250906T090000
DTEND;TZID=America/New_York:20250906T120000
DTSTAMP:20260425T064128
CREATED:20250814T211449Z
LAST-MODIFIED:20250814T211449Z
UID:383187-1757149200-1757160000@aaneok.org
SUMMARY:District 40 Quarterly Meeting
DESCRIPTION:
URL:https://aaneok.org/event/district-40-quarterly-meeting/
LOCATION:Good Orderly Direction Group/Bartlesville\, 5800 Douglas Lane\, Bartlesville\, OK\, 74006\, United States
CATEGORIES:District Events
ATTACH;FMTTYPE=application/pdf:https://aaneok.org/wp-content/uploads/2025/08/September-Meeting-1.pdf
END:VEVENT
BEGIN:VEVENT
DTSTART;TZID=America/New_York:20250906T190000
DTEND;TZID=America/New_York:20250906T210000
DTSTAMP:20260425T064128
CREATED:20250819T140628Z
LAST-MODIFIED:20250819T140628Z
UID:383222-1757185200-1757192400@aaneok.org
SUMMARY:September Big Meeting
DESCRIPTION:
URL:https://aaneok.org/event/september-big-meeting/
LOCATION:Harvard Avenue Christian Church\, 5502 S. Harvard Ave.\, Tulsa\, OK\, 74135\, United States
CATEGORIES:NE Big Meeting
ATTACH;FMTTYPE=application/pdf:https://aaneok.org/wp-content/uploads/2025/08/IMG_3227.pdf
END:VEVENT
BEGIN:VEVENT
DTSTART;VALUE=DATE:20250907
DTEND;VALUE=DATE:20250908
DTSTAMP:20260425T064128
CREATED:20250807T180455Z
LAST-MODIFIED:20250807T180455Z
UID:383093-1757203200-1757289599@aaneok.org
SUMMARY:District 10 Quarterly Meeting
DESCRIPTION:
URL:https://aaneok.org/event/district-10-quarterly-meeting-3/
LOCATION:primary purpose Group/Norman\, 226 W. Gray St. Suite 102\, Norman\, OK\, 73069\, United States
CATEGORIES:District Events
ATTACH;FMTTYPE=application/pdf:https://aaneok.org/wp-content/uploads/2025/08/Dist-10-Quart-Meeting.pdf
END:VEVENT
BEGIN:VEVENT
DTSTART;VALUE=DATE:20250907
DTEND;VALUE=DATE:20250908
DTSTAMP:20260425T064128
CREATED:20250808T142759Z
LAST-MODIFIED:20250821T175031Z
UID:383118-1757203200-1757289599@aaneok.org
SUMMARY:District 20  Quarterly Meeting
DESCRIPTION:
URL:https://aaneok.org/event/district-20-quarterly-meeting-2/
LOCATION:North Meridian Group OKC\, 4407 NW 50th\, Oklahoma City\, OK\, 73112\, United States
CATEGORIES:District Events
ATTACH;FMTTYPE=application/pdf:https://aaneok.org/wp-content/uploads/2025/08/District-20-meeting.pdf
END:VEVENT
BEGIN:VEVENT
DTSTART;VALUE=DATE:20250907
DTEND;VALUE=DATE:20250908
DTSTAMP:20260425T064128
CREATED:20250827T143320Z
LAST-MODIFIED:20250827T143823Z
UID:383305-1757203200-1757289599@aaneok.org
SUMMARY:NEOK Big Meeting Committee Election (November 2025)
DESCRIPTION:Send your group Big Meeting Rep.\, so your group will have a voice! Come be of service!
URL:https://aaneok.org/event/neok-big-meeting-committee-election-november-2025/
LOCATION:OK
CATEGORIES:NE Big Meeting
ATTACH;FMTTYPE=application/pdf:https://aaneok.org/wp-content/uploads/2025/08/IMG_34501-1.pdf
END:VEVENT
BEGIN:VEVENT
DTSTART;TZID=America/New_York:20250907T120000
DTEND;TZID=America/New_York:20250907T150000
DTSTAMP:20260425T064128
CREATED:20250905T151659Z
LAST-MODIFIED:20250905T151659Z
UID:383432-1757246400-1757257200@aaneok.org
SUMMARY:KickBall
DESCRIPTION:
URL:https://aaneok.org/event/kickball/
LOCATION:Chandler Park\, 6500 W. 21st St.\, tulsa\, 74107\, United States
CATEGORIES:General Events
ATTACH;FMTTYPE=application/pdf:https://aaneok.org/wp-content/uploads/2025/09/Kickball.pdf
END:VEVENT
BEGIN:VEVENT
DTSTART;VALUE=DATE:20250912
DTEND;VALUE=DATE:20250915
DTSTAMP:20260425T064128
CREATED:20250626T144840Z
LAST-MODIFIED:20250626T144840Z
UID:382873-1757635200-1757894399@aaneok.org
SUMMARY:Tri-Country 38th Conference/Pontiac\,MI
DESCRIPTION:
URL:https://aaneok.org/event/tri-country-38th-conference-pontiacmi/
LOCATION:Auburn Hills Marriott Pontiac\,MI\, 3600 Centerpointe Parkway\, Pontiac\, MI\, 48341\, United States
CATEGORIES:General Events
ATTACH;FMTTYPE=application/pdf:https://aaneok.org/wp-content/uploads/2025/06/Tri-County-38th-2025-Conference.pdf
END:VEVENT
BEGIN:VEVENT
DTSTART;VALUE=DATE:20250913
DTEND;VALUE=DATE:20250914
DTSTAMP:20260425T064128
CREATED:20250701T142341Z
LAST-MODIFIED:20250701T142341Z
UID:382899-1757721600-1757807999@aaneok.org
SUMMARY:Fun in the Fellowship
DESCRIPTION:
URL:https://aaneok.org/event/fun-in-the-fellowship-2/
LOCATION:Western  Club\, 5207 N Western Ave\, OKC\, 73118\, United States
CATEGORIES:Area 57 Events
ATTACH;FMTTYPE=image/jpeg:https://aaneok.org/wp-content/uploads/2025/07/Fun-in-Fellowship-revised.jpg
END:VEVENT
BEGIN:VEVENT
DTSTART;TZID=America/New_York:20250913T093000
DTEND;TZID=America/New_York:20250913T180000
DTSTAMP:20260425T064128
CREATED:20250908T160841Z
LAST-MODIFIED:20250908T160841Z
UID:383455-1757755800-1757786400@aaneok.org
SUMMARY:Fun in fellowship Program
DESCRIPTION:
URL:https://aaneok.org/event/fun-in-fellowship-program/
LOCATION:Western  Club\, 5207 N Western Ave\, OKC\, 73118\, United States
CATEGORIES:Area 57 Events
ATTACH;FMTTYPE=application/pdf:https://aaneok.org/wp-content/uploads/2025/09/Fun-in-Fellowship-Program.pdf
END:VEVENT
BEGIN:VEVENT
DTSTART;VALUE=DATE:20250914
DTEND;VALUE=DATE:20250915
DTSTAMP:20260425T064128
CREATED:20250308T132151Z
LAST-MODIFIED:20250308T132151Z
UID:382224-1757808000-1757894399@aaneok.org
SUMMARY:Area 57 Quarterly Meeting
DESCRIPTION:Area 57 Meeting\n\nSeptember 14 @ 9:00 AM – 3:00 PM\n\n\n\nEmbassy Suites Hotel\n741 N Phillips Ave\nOklahoma City\, OK 73104\nJust East of Lincoln and NE 8th St
URL:https://aaneok.org/event/area-57-quarterly-meeting-3/
LOCATION:Embassy Suites OKC\, 741 N Phillips\, OKC\, OK\, 73104\, United States
CATEGORIES:Area 57 Events
END:VEVENT
BEGIN:VEVENT
DTSTART;TZID=America/New_York:20250915T190000
DTEND;TZID=America/New_York:20250915T200000
DTSTAMP:20260425T064128
CREATED:20250908T161741Z
LAST-MODIFIED:20250908T161748Z
UID:383459-1757962800-1757966400@aaneok.org
SUMMARY:Big Meeting Committee
DESCRIPTION:
URL:https://aaneok.org/event/big-meeting-committee/
LOCATION:Harvard Avenue Christian Church\, 5502 S. Harvard Ave.\, Tulsa\, OK\, 74135\, United States
CATEGORIES:NE Big Meeting
ATTACH;FMTTYPE=application/pdf:https://aaneok.org/wp-content/uploads/2025/09/SeptembercommitteeflyerRecovered.pdf
END:VEVENT
BEGIN:VEVENT
DTSTART;TZID=America/New_York:20250919T150000
DTEND;TZID=America/New_York:20250921T110000
DTSTAMP:20260425T064128
CREATED:20250211T155950Z
LAST-MODIFIED:20250807T173904Z
UID:381987-1758294000-1758452400@aaneok.org
SUMMARY:Gratitude Getaway 2025
DESCRIPTION:
URL:https://aaneok.org/event/gratitude-getaway-2025/
LOCATION:Camp Christian\, 275 Camp Christian Lane\, Choteau\, OK\, 74337\, United States
CATEGORIES:General Events
ATTACH;FMTTYPE=application/pdf:https://aaneok.org/wp-content/uploads/2025/02/2025-GG-Flyer-Template.pdf
END:VEVENT
BEGIN:VEVENT
DTSTART;TZID=America/New_York:20250920T110000
DTEND;TZID=America/New_York:20250920T180000
DTSTAMP:20260425T064128
CREATED:20250822T200429Z
LAST-MODIFIED:20250822T200429Z
UID:383270-1758366000-1758391200@aaneok.org
SUMMARY:Districts 10 & 20 Picnic
DESCRIPTION:
URL:https://aaneok.org/event/districts-10-20-picnic/
LOCATION:Victory Church\, 4300 MacArthur Blvd\, Warr Acres\, OK\, 73122\, United States
CATEGORIES:District Events
ATTACH;FMTTYPE=application/pdf:https://aaneok.org/wp-content/uploads/2025/08/Districts-10-20-1st-Picnic-9-20-25-1.pdf
END:VEVENT
BEGIN:VEVENT
DTSTART;TZID=America/New_York:20250925T190000
DTEND;TZID=America/New_York:20250925T210000
DTSTAMP:20260425T064128
CREATED:20250918T191525Z
LAST-MODIFIED:20250918T191525Z
UID:383544-1758826800-1758834000@aaneok.org
SUMMARY:Purcell Birthday Sept 2025
DESCRIPTION:
URL:https://aaneok.org/event/purcell-birthday-sept-2025/
LOCATION:Landmark Church Purcell\, 1106 W. Grant Street\, Purcell\, OK\, 73080\, United States
CATEGORIES:Group Events
ATTACH;FMTTYPE=application/pdf:https://aaneok.org/wp-content/uploads/2025/09/Purcell-Unity-Group-Birthday-Speaker-Night-9-25-25.pdf
END:VEVENT
BEGIN:VEVENT
DTSTART;VALUE=DATE:20250926
DTEND;VALUE=DATE:20250927
DTSTAMP:20260425T064128
CREATED:20250827T154427Z
LAST-MODIFIED:20250827T154427Z
UID:383326-1758844800-1758931199@aaneok.org
SUMMARY:Guthrie 89er Group Bday & Speaker Night
DESCRIPTION:
URL:https://aaneok.org/event/guthrie-89er-group-bday-speaker-night/
LOCATION:Guthrie 89er Group\, 3522 S Division St\, Guthrie\, OK\, 73044\, United States
CATEGORIES:Group Events
ATTACH;FMTTYPE=application/pdf:https://aaneok.org/wp-content/uploads/2025/08/89er-Group-Speaker-Night-Friday-September-26-2025.pdf
END:VEVENT
END:VCALENDAR