BEGIN:VCALENDAR
VERSION:2.0
PRODID:-//NECS - ECPv6.15.20//NONSGML v1.0//EN
CALSCALE:GREGORIAN
METHOD:PUBLISH
X-ORIGINAL-URL:https://aaneok.org
X-WR-CALDESC:Events for NECS
REFRESH-INTERVAL;VALUE=DURATION:PT1H
X-Robots-Tag:noindex
X-PUBLISHED-TTL:PT1H
BEGIN:VTIMEZONE
TZID:America/New_York
BEGIN:DAYLIGHT
TZOFFSETFROM:-0500
TZOFFSETTO:-0400
TZNAME:EDT
DTSTART:20240310T070000
END:DAYLIGHT
BEGIN:STANDARD
TZOFFSETFROM:-0400
TZOFFSETTO:-0500
TZNAME:EST
DTSTART:20241103T060000
END:STANDARD
BEGIN:DAYLIGHT
TZOFFSETFROM:-0500
TZOFFSETTO:-0400
TZNAME:EDT
DTSTART:20250309T070000
END:DAYLIGHT
BEGIN:STANDARD
TZOFFSETFROM:-0400
TZOFFSETTO:-0500
TZNAME:EST
DTSTART:20251102T060000
END:STANDARD
BEGIN:DAYLIGHT
TZOFFSETFROM:-0500
TZOFFSETTO:-0400
TZNAME:EDT
DTSTART:20260308T070000
END:DAYLIGHT
BEGIN:STANDARD
TZOFFSETFROM:-0400
TZOFFSETTO:-0500
TZNAME:EST
DTSTART:20261101T060000
END:STANDARD
END:VTIMEZONE
BEGIN:VEVENT
DTSTART;TZID=America/New_York:20250308T083000
DTEND;TZID=America/New_York:20250308T133000
DTSTAMP:20260425T214003
CREATED:20241211T210650Z
LAST-MODIFIED:20241212T195743Z
UID:381701-1741422600-1741440600@aaneok.org
SUMMARY:District 30 Meeting
DESCRIPTION:
URL:https://aaneok.org/event/district-30-meeting/
LOCATION:Yale Church of Christ Tulsa\, 2901 S Yale Ave\, Tulsa\, OK\, 74114\, United States
CATEGORIES:District Events
ATTACH;FMTTYPE=application/pdf:https://aaneok.org/wp-content/uploads/2024/12/March-8th-District-30-Meeting.pdf
END:VEVENT
BEGIN:VEVENT
DTSTART;TZID=America/New_York:20250308T190000
DTEND;TZID=America/New_York:20250308T210000
DTSTAMP:20260425T214003
CREATED:20250209T164534Z
LAST-MODIFIED:20250304T172638Z
UID:381969-1741460400-1741467600@aaneok.org
SUMMARY:Big Meeting March 2025
DESCRIPTION:
URL:https://aaneok.org/event/big-meeting-march-2025/
LOCATION:Harvard Avenue Christian Church\, 5502 S. Harvard Ave.\, Tulsa\, OK\, 74135\, United States
CATEGORIES:NE Big Meeting
ATTACH;FMTTYPE=application/pdf:https://aaneok.org/wp-content/uploads/2025/02/Big-Meeting-March-revised.pdf
END:VEVENT
BEGIN:VEVENT
DTSTART;VALUE=DATE:20250309
DTEND;VALUE=DATE:20250310
DTSTAMP:20260425T214003
CREATED:20250228T201239Z
LAST-MODIFIED:20250228T201239Z
UID:382131-1741478400-1741564799@aaneok.org
SUMMARY:District 50 Quarterly Meeting
DESCRIPTION:
URL:https://aaneok.org/event/district-50-quarterly-meeting/
LOCATION:NOAL Group\, 802 9th Street\, Woodward\, OK\, 73801\, United States
CATEGORIES:District Events
ATTACH;FMTTYPE=application/pdf:https://aaneok.org/wp-content/uploads/2025/02/District-50-March.pdf
END:VEVENT
BEGIN:VEVENT
DTSTART;TZID=America/New_York:20250310T190000
DTEND;TZID=America/New_York:20250310T200000
DTSTAMP:20260425T214003
CREATED:20250227T224454Z
LAST-MODIFIED:20250227T224454Z
UID:382117-1741633200-1741636800@aaneok.org
SUMMARY:Big Meeting Committee Meeting
DESCRIPTION:
URL:https://aaneok.org/event/big-meeting-committee-meeting-4/
LOCATION:Harvard Avenue Christian Church\, 5502 S. Harvard Ave.\, Tulsa\, OK\, 74135\, United States
CATEGORIES:NE Big Meeting
ATTACH;FMTTYPE=application/pdf:https://aaneok.org/wp-content/uploads/2025/02/March-Big-Meeting-Committee.pdf
END:VEVENT
BEGIN:VEVENT
DTSTART;TZID=America/New_York:20250313T063000
DTEND;TZID=America/New_York:20250313T200000
DTSTAMP:20260425T214003
CREATED:20250304T162912Z
LAST-MODIFIED:20250304T162912Z
UID:382163-1741847400-1741896000@aaneok.org
SUMMARY:AA Service Manual Study
DESCRIPTION:
URL:https://aaneok.org/event/aa-service-manual-study/
CATEGORIES:SW Regional Events
ATTACH;FMTTYPE=application/pdf:https://aaneok.org/wp-content/uploads/2025/03/March-2025-SW-Region-AA-Serv-Manual-COL.pdf
END:VEVENT
BEGIN:VEVENT
DTSTART;TZID=America/New_York:20250313T183000
DTEND;TZID=America/New_York:20250313T200000
DTSTAMP:20260425T214003
CREATED:20250215T184153Z
LAST-MODIFIED:20250215T184153Z
UID:382023-1741890600-1741896000@aaneok.org
SUMMARY:District 30 &40 Joint Service meeting
DESCRIPTION:
URL:https://aaneok.org/event/district-30-40-joint-service-meeting-2/
LOCATION:Unanimity Club\, 8749 S Lewis Avenue\, Tulsa\, OK\, 74137\, United States
CATEGORIES:District Events
ATTACH;FMTTYPE=image/jpeg:https://aaneok.org/wp-content/uploads/2025/02/March-Joint-Service-Flyer.pdf-1.jpg
END:VEVENT
BEGIN:VEVENT
DTSTART;TZID=America/New_York:20250314T080000
DTEND;TZID=America/New_York:20250314T170000
DTSTAMP:20260425T214003
CREATED:20250220T224438Z
LAST-MODIFIED:20250220T224438Z
UID:382082-1741939200-1741971600@aaneok.org
SUMMARY:REBOS Clubhouse has meeting space available
DESCRIPTION:
URL:https://aaneok.org/event/rebos-clubhouse-has-meeting-space-available-4/
LOCATION:Rebos ClubHouse\, 3355 S Jamestown Ave\, Tulsa\, OK\, 74135\, United States
CATEGORIES:General Events
ATTACH;FMTTYPE=application/pdf:https://aaneok.org/wp-content/uploads/2025/02/Rebos-has-space-4.pdf
END:VEVENT
BEGIN:VEVENT
DTSTART;TZID=America/New_York:20250314T123000
DTEND;TZID=America/New_York:20250314T235900
DTSTAMP:20260425T214003
CREATED:20250220T161430Z
LAST-MODIFIED:20250220T162858Z
UID:382047-1741955400-1741996740@aaneok.org
SUMMARY:State Conference 2025 Volunteer Sign Up
DESCRIPTION:
URL:https://aaneok.org/event/state-conference-2025-volunteer-sign-up-copy-5/
CATEGORIES:Area 57 Events
ATTACH;FMTTYPE=application/pdf:https://aaneok.org/wp-content/uploads/2025/02/Vol-Sign-up-State-Conf-2025.pdf
END:VEVENT
BEGIN:VEVENT
DTSTART;TZID=America/New_York:20250315T090000
DTEND;TZID=America/New_York:20250315T170000
DTSTAMP:20260425T214003
CREATED:20250106T211151Z
LAST-MODIFIED:20250108T134233Z
UID:381813-1742029200-1742058000@aaneok.org
SUMMARY:Corrections Conference 2025
DESCRIPTION:
URL:https://aaneok.org/event/corrections-conference-2025/
LOCATION:Christview Christian Church Tulsa\, 2525 S garnett Rd\, Tulsa\, OK\, 74129\, United States
CATEGORIES:Area 57 Events
ATTACH;FMTTYPE=image/jpeg:https://aaneok.org/wp-content/uploads/2025/01/Corrections-Updated-March-1-8-25.jpg
END:VEVENT
BEGIN:VEVENT
DTSTART;VALUE=DATE:20250316
DTEND;VALUE=DATE:20250317
DTSTAMP:20260425T214003
CREATED:20250214T161328Z
LAST-MODIFIED:20250214T161328Z
UID:382014-1742083200-1742169599@aaneok.org
SUMMARY:District 10 Quarterly Meeting
DESCRIPTION:
URL:https://aaneok.org/event/district-10-quarterly-meeting/
LOCATION:Simply AA\, 400 S. Broadway\, Edmond\, OK\, 73034\, United States
CATEGORIES:District Events
ATTACH;FMTTYPE=application/pdf:https://aaneok.org/wp-content/uploads/2025/02/Dist-10-Q-Meeting.pdf
END:VEVENT
BEGIN:VEVENT
DTSTART;VALUE=DATE:20250316
DTEND;VALUE=DATE:20250317
DTSTAMP:20260425T214003
CREATED:20250228T152817Z
LAST-MODIFIED:20250228T152817Z
UID:382127-1742083200-1742169599@aaneok.org
SUMMARY:Area 57 District 80 Meeting
DESCRIPTION:
URL:https://aaneok.org/event/area-57-district-80-meeting/
LOCATION:Ardmore Group\, 935 Grand Ave.\, Ardmore\, OK\, 73401\, United States
CATEGORIES:District Events
ATTACH;FMTTYPE=application/pdf:https://aaneok.org/wp-content/uploads/2025/02/District-80-march.pdf
END:VEVENT
BEGIN:VEVENT
DTSTART;VALUE=DATE:20250321
DTEND;VALUE=DATE:20250322
DTSTAMP:20260425T214003
CREATED:20250228T221110Z
LAST-MODIFIED:20250228T221134Z
UID:382144-1742515200-1742601599@aaneok.org
SUMMARY:2025 AA International Early Register
DESCRIPTION:
URL:https://aaneok.org/event/2025-aa-international-early-register/
CATEGORIES:General Events
ATTACH;FMTTYPE=application/pdf:https://aaneok.org/wp-content/uploads/2025/02/2025-Internation-Early-Registration-Flyer.pdf
END:VEVENT
BEGIN:VEVENT
DTSTART;VALUE=DATE:20250321
DTEND;VALUE=DATE:20250322
DTSTAMP:20260425T214003
CREATED:20250319T202654Z
LAST-MODIFIED:20250319T210247Z
UID:382266-1742515200-1742601599@aaneok.org
SUMMARY:Tulsa Big Book Temporarily Moving
DESCRIPTION:
URL:https://aaneok.org/event/tulsa-big-book-temporarily-moving/
LOCATION:Harvard Avenue Christian Church\, 5502 S. Harvard Ave.\, Tulsa\, OK\, 74135\, United States
CATEGORIES:General Events
END:VEVENT
BEGIN:VEVENT
DTSTART;TZID=America/New_York:20250321T120000
DTEND;TZID=America/New_York:20250321T235900
DTSTAMP:20260425T214003
CREATED:20250220T161443Z
LAST-MODIFIED:20250220T162824Z
UID:382048-1742558400-1742601540@aaneok.org
SUMMARY:State Conference 2025 Volunteer Sign Up
DESCRIPTION:
URL:https://aaneok.org/event/state-conference-2025-volunteer-sign-up-copy-6/
CATEGORIES:Area 57 Events
ATTACH;FMTTYPE=application/pdf:https://aaneok.org/wp-content/uploads/2025/02/Vol-Sign-up-State-Conf-2025.pdf
END:VEVENT
BEGIN:VEVENT
DTSTART;VALUE=DATE:20250322
DTEND;VALUE=DATE:20250323
DTSTAMP:20260425T214003
CREATED:20250321T171935Z
LAST-MODIFIED:20250321T171935Z
UID:382274-1742601600-1742687999@aaneok.org
SUMMARY:PI & CPC Hybrid Workshop
DESCRIPTION:
URL:https://aaneok.org/event/pi-cpc-hybrid-workshop/
CATEGORIES:General Events
ATTACH;FMTTYPE=application/pdf:https://aaneok.org/wp-content/uploads/2025/03/PI-CPC-Workshop-3-22-25.pdf
END:VEVENT
BEGIN:VEVENT
DTSTART;VALUE=DATE:20250323
DTEND;VALUE=DATE:20250324
DTSTAMP:20260425T214003
CREATED:20250312T162027Z
LAST-MODIFIED:20250312T162027Z
UID:382244-1742688000-1742774399@aaneok.org
SUMMARY:Area 57 Quarterly Meeting
DESCRIPTION:
URL:https://aaneok.org/event/area-57-quarterly-meeting/
LOCATION:Embassy Suites OKC\, 741 N Phillips\, OKC\, OK\, 73104\, United States
CATEGORIES:Area 57 Events
ATTACH;FMTTYPE=image/jpg:https://aaneok.org/wp-content/uploads/2025/03/Area-57-Meeting-March-2025-pdf-image.jpg
END:VEVENT
BEGIN:VEVENT
DTSTART;TZID=America/New_York:20250325T183000
DTEND;TZID=America/New_York:20250325T200000
DTSTAMP:20260425T214003
CREATED:20250304T164404Z
LAST-MODIFIED:20250304T164404Z
UID:382169-1742927400-1742932800@aaneok.org
SUMMARY:Pryor Unity Winter Speaker
DESCRIPTION:
URL:https://aaneok.org/event/pryor-unity-winter-speaker/
LOCATION:Behind First Christian Presbyterian Church\, 110 N Vann St\, Pryor\, OK\, 74361\, United States
CATEGORIES:Group Events
ATTACH;FMTTYPE=application/pdf:https://aaneok.org/wp-content/uploads/2025/03/Winter-Speaker-Meeting-Flyer.pdf
END:VEVENT
BEGIN:VEVENT
DTSTART;TZID=America/New_York:20250327T183000
DTEND;TZID=America/New_York:20250327T193000
DTSTAMP:20260425T214003
CREATED:20250305T161336Z
LAST-MODIFIED:20250305T161336Z
UID:382183-1743100200-1743103800@aaneok.org
SUMMARY:A.A. Service Manual in Depth Book Study
DESCRIPTION:
URL:https://aaneok.org/event/a-a-service-manual-in-depth-book-study/
CATEGORIES:General Events
ATTACH;FMTTYPE=application/pdf:https://aaneok.org/wp-content/uploads/2025/03/March-2025-SW-Region-AA-Serv-Manual-COL-1.pdf
END:VEVENT
BEGIN:VEVENT
DTSTART;VALUE=DATE:20250328
DTEND;VALUE=DATE:20250329
DTSTAMP:20260425T214003
CREATED:20250306T223914Z
LAST-MODIFIED:20250306T223914Z
UID:382198-1743120000-1743206399@aaneok.org
SUMMARY:Marchmallow Madness/Rockwell Club
DESCRIPTION:
URL:https://aaneok.org/event/marchmallow-madness-rockwell-club/
LOCATION:Rockwell Club\, 1425 1/2 N. Rockwell Ave.\, Oklahoma City\, OK\, 73127\, United States
CATEGORIES:Group Events
END:VEVENT
BEGIN:VEVENT
DTSTART;TZID=America/New_York:20250328T123000
DTEND;TZID=America/New_York:20250328T235900
DTSTAMP:20260425T214003
CREATED:20250220T161456Z
LAST-MODIFIED:20250220T162731Z
UID:382049-1743165000-1743206340@aaneok.org
SUMMARY:State Conference 2025 Volunteer Sign Up
DESCRIPTION:
URL:https://aaneok.org/event/state-conference-2025-volunteer-sign-up-copy-7/
CATEGORIES:Area 57 Events
ATTACH;FMTTYPE=application/pdf:https://aaneok.org/wp-content/uploads/2025/02/Vol-Sign-up-State-Conf-2025.pdf
END:VEVENT
BEGIN:VEVENT
DTSTART;TZID=America/New_York:20250328T170000
DTEND;TZID=America/New_York:20250329T170000
DTSTAMP:20260425T214003
CREATED:20250211T154935Z
LAST-MODIFIED:20250211T154935Z
UID:381978-1743181200-1743267600@aaneok.org
SUMMARY:5th Annual Ladies Retreat
DESCRIPTION:
URL:https://aaneok.org/event/5th-annual-ladies-retreat/
LOCATION:Lake Texoma\, 14 S Main St\, Kingston\, OK\, 73439\, United States
CATEGORIES:General Events
ATTACH;FMTTYPE=application/pdf:https://aaneok.org/wp-content/uploads/2025/02/Retreat-Women-1.pdf
END:VEVENT
BEGIN:VEVENT
DTSTART;TZID=America/New_York:20250328T190000
DTEND;TZID=America/New_York:20250328T210000
DTSTAMP:20260425T214003
CREATED:20250206T214859Z
LAST-MODIFIED:20250206T214859Z
UID:381963-1743188400-1743195600@aaneok.org
SUMMARY:Guthrie 89er Group Bday/Speaker
DESCRIPTION:
URL:https://aaneok.org/event/guthrie-89er-group-bday-speaker-2/
LOCATION:Red Brick Shool House 89er Group Guthrie\, 3522 S Division St\, Guthrie\, OK\, 73044\, United States
CATEGORIES:Group Events
ATTACH;FMTTYPE=application/pdf:https://aaneok.org/wp-content/uploads/2025/02/March-Guthrie-89er-Group-Speaker-Birthday.pdf
END:VEVENT
BEGIN:VEVENT
DTSTART;VALUE=DATE:20250329
DTEND;VALUE=DATE:20250330
DTSTAMP:20260425T214003
CREATED:20250220T155919Z
LAST-MODIFIED:20250220T155919Z
UID:382038-1743206400-1743292799@aaneok.org
SUMMARY:State Sponsored Workshop District 60
DESCRIPTION:
URL:https://aaneok.org/event/state-sponsored-workshop-district-60/
LOCATION:St. Luke’s Episcopal Church Ada\, 100 E. 17th St.\, Ada\, OK\, 74820\, United States
CATEGORIES:Area 57 Events
ATTACH;FMTTYPE=application/pdf:https://aaneok.org/wp-content/uploads/2025/02/State-Sponsored-Workshop-Dist-60.pdf
END:VEVENT
BEGIN:VEVENT
DTSTART;VALUE=DATE:20250404
DTEND;VALUE=DATE:20250405
DTSTAMP:20260425T214003
CREATED:20250228T221425Z
LAST-MODIFIED:20250228T221425Z
UID:382150-1743724800-1743811199@aaneok.org
SUMMARY:2025 AA International Early Register
DESCRIPTION:
URL:https://aaneok.org/event/2025-aa-international-early-register-3/
CATEGORIES:General Events
ATTACH;FMTTYPE=application/pdf:https://aaneok.org/wp-content/uploads/2025/02/2025-Internation-Early-Registration-Flyer-2.pdf
END:VEVENT
BEGIN:VEVENT
DTSTART;VALUE=DATE:20250404
DTEND;VALUE=DATE:20250407
DTSTAMP:20260425T214003
CREATED:20241205T161017Z
LAST-MODIFIED:20241205T161353Z
UID:381667-1743724800-1743983999@aaneok.org
SUMMARY:24th Annual Promises Men's Getaway Weekend
DESCRIPTION:
URL:https://aaneok.org/event/24th-annual-promises-mens-getaway-weekend/
LOCATION:Camp Egan\, 26633 Highway 62\, Tahlequah\, OK\, 74464\, United States
CATEGORIES:General Events
END:VEVENT
BEGIN:VEVENT
DTSTART;TZID=America/New_York:20250405T090000
DTEND;TZID=America/New_York:20250405T103000
DTSTAMP:20260425T214003
CREATED:20250401T140043Z
LAST-MODIFIED:20250401T140043Z
UID:382304-1743843600-1743849000@aaneok.org
SUMMARY:B.A.D. Girls April Birthday Party
DESCRIPTION:
URL:https://aaneok.org/event/b-a-d-girls-april-birthday-party/
LOCATION:Harvard Avenue Christian Church\, 5502 S. Harvard Ave.\, Tulsa\, OK\, 74135\, United States
CATEGORIES:Group Events
END:VEVENT
BEGIN:VEVENT
DTSTART;TZID=America/New_York:20250406T140000
DTEND;TZID=America/New_York:20250406T153000
DTSTAMP:20260425T214003
CREATED:20250227T211201Z
LAST-MODIFIED:20250227T211201Z
UID:382110-1743948000-1743953400@aaneok.org
SUMMARY:Area 57 Delegate Sharing Session (2)
DESCRIPTION:
URL:https://aaneok.org/event/area-57-delegate-sharing-session-2/
CATEGORIES:Area 57 Events
ATTACH;FMTTYPE=application/pdf:https://aaneok.org/wp-content/uploads/2025/02/Area-57-Delegates-Sharing-April.pdf
END:VEVENT
BEGIN:VEVENT
DTSTART;VALUE=DATE:20250407
DTEND;VALUE=DATE:20250408
DTSTAMP:20260425T214003
CREATED:20250319T205817Z
LAST-MODIFIED:20250319T210203Z
UID:382270-1743984000-1744070399@aaneok.org
SUMMARY:Tulsa Big Book Temporarily Moving
DESCRIPTION:
URL:https://aaneok.org/event/tulsa-big-book-temporarily-moving-2/
LOCATION:Harvard Avenue Christian Church\, 5502 S. Harvard Ave.\, Tulsa\, OK\, 74135\, United States
CATEGORIES:General Events
END:VEVENT
BEGIN:VEVENT
DTSTART;TZID=America/New_York:20250410T190000
DTEND;TZID=America/New_York:20250410T200000
DTSTAMP:20260425T214003
CREATED:20250319T185310Z
LAST-MODIFIED:20250319T185310Z
UID:382263-1744311600-1744315200@aaneok.org
SUMMARY:Districts 30 & 40 Service Meeting
DESCRIPTION:
URL:https://aaneok.org/event/districts-30-40-service-meeting-2/
LOCATION:Unanimity Club\, 8749 S Lewis Avenue\, Tulsa\, OK\, 74137\, United States
CATEGORIES:District Events
END:VEVENT
BEGIN:VEVENT
DTSTART;TZID=America/New_York:20250411T120000
DTEND;TZID=America/New_York:20250411T235900
DTSTAMP:20260425T214003
CREATED:20250220T161512Z
LAST-MODIFIED:20250220T162647Z
UID:382050-1744372800-1744415940@aaneok.org
SUMMARY:State Conference 2025 Volunteer Sign Up
DESCRIPTION:
URL:https://aaneok.org/event/state-conference-2025-volunteer-sign-up-copy-8/
CATEGORIES:Area 57 Events
ATTACH;FMTTYPE=application/pdf:https://aaneok.org/wp-content/uploads/2025/02/Vol-Sign-up-State-Conf-2025.pdf
END:VEVENT
END:VCALENDAR