BEGIN:VCALENDAR
VERSION:2.0
PRODID:-//NECS - ECPv6.15.20//NONSGML v1.0//EN
CALSCALE:GREGORIAN
METHOD:PUBLISH
X-ORIGINAL-URL:https://aaneok.org
X-WR-CALDESC:Events for NECS
REFRESH-INTERVAL;VALUE=DURATION:PT1H
X-Robots-Tag:noindex
X-PUBLISHED-TTL:PT1H
BEGIN:VTIMEZONE
TZID:America/New_York
BEGIN:DAYLIGHT
TZOFFSETFROM:-0500
TZOFFSETTO:-0400
TZNAME:EDT
DTSTART:20240310T070000
END:DAYLIGHT
BEGIN:STANDARD
TZOFFSETFROM:-0400
TZOFFSETTO:-0500
TZNAME:EST
DTSTART:20241103T060000
END:STANDARD
BEGIN:DAYLIGHT
TZOFFSETFROM:-0500
TZOFFSETTO:-0400
TZNAME:EDT
DTSTART:20250309T070000
END:DAYLIGHT
BEGIN:STANDARD
TZOFFSETFROM:-0400
TZOFFSETTO:-0500
TZNAME:EST
DTSTART:20251102T060000
END:STANDARD
BEGIN:DAYLIGHT
TZOFFSETFROM:-0500
TZOFFSETTO:-0400
TZNAME:EDT
DTSTART:20260308T070000
END:DAYLIGHT
BEGIN:STANDARD
TZOFFSETFROM:-0400
TZOFFSETTO:-0500
TZNAME:EST
DTSTART:20261101T060000
END:STANDARD
END:VTIMEZONE
BEGIN:VEVENT
DTSTART;VALUE=DATE:20250417
DTEND;VALUE=DATE:20250421
DTSTAMP:20260425T170750
CREATED:20250220T200500Z
LAST-MODIFIED:20250220T200500Z
UID:382068-1744848000-1745193599@aaneok.org
SUMMARY:Springtime in the Ozarks
DESCRIPTION:
URL:https://aaneok.org/event/springtime-in-the-ozarks/
CATEGORIES:General Events
ATTACH;FMTTYPE=application/pdf:https://aaneok.org/wp-content/uploads/2025/02/2025-Springtime-in-Ozarks.pdf
END:VEVENT
BEGIN:VEVENT
DTSTART;VALUE=DATE:20250418
DTEND;VALUE=DATE:20250419
DTSTAMP:20260425T170750
CREATED:20250228T221509Z
LAST-MODIFIED:20250228T221509Z
UID:382153-1744934400-1745020799@aaneok.org
SUMMARY:2025 AA International Early Register
DESCRIPTION:
URL:https://aaneok.org/event/2025-aa-international-early-register-4/
CATEGORIES:General Events
ATTACH;FMTTYPE=application/pdf:https://aaneok.org/wp-content/uploads/2025/02/2025-Internation-Early-Registration-Flyer-3.pdf
END:VEVENT
BEGIN:VEVENT
DTSTART;VALUE=DATE:20250419
DTEND;VALUE=DATE:20250420
DTSTAMP:20260425T170750
CREATED:20250410T143748Z
LAST-MODIFIED:20250418T134238Z
UID:382330-1745020800-1745107199@aaneok.org
SUMMARY:RoundTable Group
DESCRIPTION:
URL:https://aaneok.org/event/roundtable-group/
LOCATION:3006 N. Portland Ave./OKC\, 3006 N. Portland Ave.\, OKC\, OK\, 73107\, United States
CATEGORIES:Group Events
END:VEVENT
BEGIN:VEVENT
DTSTART;VALUE=DATE:20250419
DTEND;VALUE=DATE:20250420
DTSTAMP:20260425T170750
CREATED:20250418T215139Z
LAST-MODIFIED:20250418T215139Z
UID:382431-1745020800-1745107199@aaneok.org
SUMMARY:REBOS has Meeting Space Available
DESCRIPTION:
URL:https://aaneok.org/event/rebos-has-meeting-space-available/
CATEGORIES:Group Events
ATTACH;FMTTYPE=application/pdf:https://aaneok.org/wp-content/uploads/2025/04/Rebos-has-space.pdf
END:VEVENT
BEGIN:VEVENT
DTSTART;TZID=America/New_York:20250419T140000
DTEND;TZID=America/New_York:20250419T170000
DTSTAMP:20260425T170750
CREATED:20250414T205735Z
LAST-MODIFIED:20250414T205735Z
UID:382355-1745071200-1745082000@aaneok.org
SUMMARY:Area 57 CPC & PI Workshop
DESCRIPTION:
URL:https://aaneok.org/event/area-57-cpc-pi-workshop/
LOCATION:Red Brick Shool House 89er Group Guthrie\, 3522 S Division St\, Guthrie\, OK\, 73044\, United States
CATEGORIES:Area 57 Events
END:VEVENT
BEGIN:VEVENT
DTSTART;TZID=America/New_York:20250419T170000
DTEND;TZID=America/New_York:20250419T200000
DTSTAMP:20260425T170750
CREATED:20250410T144140Z
LAST-MODIFIED:20250410T144140Z
UID:382333-1745082000-1745092800@aaneok.org
SUMMARY:RoundTable Spring Thing BBQ
DESCRIPTION:
URL:https://aaneok.org/event/roundtable-spring-thing-bbq/
LOCATION:Roundtable\, 3006 N. Portland Ave.\, Oklahoma City\, OK\, 73107\, United States
CATEGORIES:Group Events
END:VEVENT
BEGIN:VEVENT
DTSTART;TZID=America/New_York:20250421T190000
DTEND;TZID=America/New_York:20250421T200000
DTSTAMP:20260425T170750
CREATED:20250418T140854Z
LAST-MODIFIED:20250418T140854Z
UID:382426-1745262000-1745265600@aaneok.org
SUMMARY:April 2025 Big Meeting Committee Meeting
DESCRIPTION:
URL:https://aaneok.org/event/april-2025-big-meeting-committee-meeting/
LOCATION:Harvard Avenue Christian Church\, 5502 S. Harvard Ave.\, Tulsa\, OK\, 74135\, United States
CATEGORIES:NE Big Meeting
END:VEVENT
BEGIN:VEVENT
DTSTART;TZID=America/New_York:20250422T190000
DTEND;TZID=America/New_York:20250422T200000
DTSTAMP:20260425T170750
CREATED:20250409T195358Z
LAST-MODIFIED:20250409T195358Z
UID:382327-1745348400-1745352000@aaneok.org
SUMMARY:Unity Group/Pryor Speaker Meeting
DESCRIPTION:
URL:https://aaneok.org/event/unity-group-pryor-speaker-meeting/
LOCATION:Unity Pryor Group\, 110 N Vann St\, Pryor\, 74361\, United States
CATEGORIES:Group Events
ATTACH;FMTTYPE=application/pdf:https://aaneok.org/wp-content/uploads/2025/04/April-Uninity-Group-Flyer.pdf
END:VEVENT
BEGIN:VEVENT
DTSTART;TZID=America/New_York:20250424T080000
DTEND;TZID=America/New_York:20250424T170000
DTSTAMP:20260425T170750
CREATED:20250416T204841Z
LAST-MODIFIED:20250416T204841Z
UID:382395-1745481600-1745514000@aaneok.org
SUMMARY:State Conference AA Trivia/Bingo Items Needed
DESCRIPTION:
URL:https://aaneok.org/event/state-conference-aa-trivia-bingo-items-needed-2/
CATEGORIES:Area 57 Events
END:VEVENT
BEGIN:VEVENT
DTSTART;VALUE=DATE:20250425
DTEND;VALUE=DATE:20250428
DTSTAMP:20260425T170750
CREATED:20250226T161618Z
LAST-MODIFIED:20250226T161618Z
UID:382102-1745539200-1745798399@aaneok.org
SUMMARY:17th Annual Spring Fling Convention
DESCRIPTION:
URL:https://aaneok.org/event/17th-annual-spring-fling-convention/
LOCATION:Hilton St. Louis Airport\, 10330 Natural Bridge Rd.\, St. Louis\, MO\, 63134\, United States
CATEGORIES:General Events
ATTACH;FMTTYPE=application/pdf:https://aaneok.org/wp-content/uploads/2025/02/Spring-Fling-2025.pdf
END:VEVENT
BEGIN:VEVENT
DTSTART;VALUE=DATE:20250425
DTEND;VALUE=DATE:20250428
DTSTAMP:20260425T170750
CREATED:20250324T142536Z
LAST-MODIFIED:20250324T142536Z
UID:382277-1745539200-1745798399@aaneok.org
SUMMARY:Keep on Tookin'
DESCRIPTION:
URL:https://aaneok.org/event/keep-on-tookin/
LOCATION:Mindset Conference Room\, 5563 S Lewis Ave
CATEGORIES:District Events
END:VEVENT
BEGIN:VEVENT
DTSTART;TZID=America/New_York:20250425T080000
DTEND;TZID=America/New_York:20250425T170000
DTSTAMP:20260425T170750
CREATED:20250414T210219Z
LAST-MODIFIED:20250414T210219Z
UID:382360-1745568000-1745600400@aaneok.org
SUMMARY:Guthrie 89er Group Speaker Night
DESCRIPTION:
URL:https://aaneok.org/event/guthrie-89er-group-speaker-night/
LOCATION:Red Brick Shool House 89er Group Guthrie\, 3522 S Division St\, Guthrie\, OK\, 73044\, United States
CATEGORIES:Group Events
END:VEVENT
BEGIN:VEVENT
DTSTART;TZID=America/New_York:20250425T120000
DTEND;TZID=America/New_York:20250425T235900
DTSTAMP:20260425T170750
CREATED:20250220T161529Z
LAST-MODIFIED:20250220T162610Z
UID:382051-1745582400-1745625540@aaneok.org
SUMMARY:State Conference 2025 Volunteer Sign Up
DESCRIPTION:
URL:https://aaneok.org/event/state-conference-2025-volunteer-sign-up-copy/
CATEGORIES:Area 57 Events
ATTACH;FMTTYPE=application/pdf:https://aaneok.org/wp-content/uploads/2025/02/Vol-Sign-up-State-Conf-2025.pdf
END:VEVENT
BEGIN:VEVENT
DTSTART;VALUE=DATE:20250426
DTEND;VALUE=DATE:20250427
DTSTAMP:20260425T170750
CREATED:20250418T215250Z
LAST-MODIFIED:20250423T202913Z
UID:382434-1745625600-1745711999@aaneok.org
SUMMARY:REBOS has Meeting Space Available
DESCRIPTION:
URL:https://aaneok.org/event/rebos-has-meeting-space-available-2/
CATEGORIES:Group Events
END:VEVENT
BEGIN:VEVENT
DTSTART;TZID=America/New_York:20250426T170000
DTEND;TZID=America/New_York:20250426T193000
DTSTAMP:20260425T170750
CREATED:20250225T162605Z
LAST-MODIFIED:20250225T162605Z
UID:382098-1745686800-1745695800@aaneok.org
SUMMARY:B.A.D. Girls 5th Anniversary
DESCRIPTION:
URL:https://aaneok.org/event/b-a-d-girls-5th-anniversary/
LOCATION:Harvard Avenue Christian Church\, 5502 S. Harvard Ave.\, Tulsa\, OK\, 74135\, United States
CATEGORIES:Group Events
ATTACH;FMTTYPE=application/pdf:https://aaneok.org/wp-content/uploads/2025/02/bad-girls-anniversary.pdf
END:VEVENT
BEGIN:VEVENT
DTSTART;VALUE=DATE:20250502
DTEND;VALUE=DATE:20250503
DTSTAMP:20260425T170750
CREATED:20250220T161321Z
LAST-MODIFIED:20250220T161542Z
UID:382041-1746144000-1746230399@aaneok.org
SUMMARY:State Conference 2025 Volunteer Sign Up
DESCRIPTION:
URL:https://aaneok.org/event/state-conference-2025-volunteer-sign-up/
CATEGORIES:Area 57 Events
ATTACH;FMTTYPE=application/pdf:https://aaneok.org/wp-content/uploads/2025/02/Vol-Sign-up-State-Conf-2025.pdf
END:VEVENT
BEGIN:VEVENT
DTSTART;VALUE=DATE:20250503
DTEND;VALUE=DATE:20250504
DTSTAMP:20260425T170750
CREATED:20250418T215544Z
LAST-MODIFIED:20250423T202820Z
UID:382437-1746230400-1746316799@aaneok.org
SUMMARY:REBOS has Meeting Space Available
DESCRIPTION:
URL:https://aaneok.org/event/rebos-has-meeting-space-available-3/
CATEGORIES:Group Events
END:VEVENT
BEGIN:VEVENT
DTSTART;TZID=America/New_York:20250503T093000
DTEND;TZID=America/New_York:20250503T104500
DTSTAMP:20260425T170750
CREATED:20250421T152602Z
LAST-MODIFIED:20250421T152602Z
UID:382444-1746264600-1746269100@aaneok.org
SUMMARY:B.A.D. Girls April Birthdays Meeting
DESCRIPTION:
URL:https://aaneok.org/event/b-a-d-girls-april-birthdays-meeting/
LOCATION:Harvard Avenue Christian Church\, 5502 S. Harvard Ave.\, Tulsa\, OK\, 74135\, United States
CATEGORIES:Group Events
END:VEVENT
BEGIN:VEVENT
DTSTART;TZID=America/New_York:20250503T180000
DTEND;TZID=America/New_York:20250503T203000
DTSTAMP:20260425T170750
CREATED:20250428T145825Z
LAST-MODIFIED:20250428T145825Z
UID:382464-1746295200-1746304200@aaneok.org
SUMMARY:Acceptance Group Hot Dog Cookout
DESCRIPTION:
URL:https://aaneok.org/event/acceptance-group-hot-dog-cookout/
LOCATION:Lake Ponca Campground\, 1688 LA Cann Dr\, Ponca City\, OK\, 74604\, United States
CATEGORIES:Group Events
END:VEVENT
BEGIN:VEVENT
DTSTART;TZID=America/New_York:20250504T090000
DTEND;TZID=America/New_York:20250504T150000
DTSTAMP:20260425T170750
CREATED:20250410T150012Z
LAST-MODIFIED:20250410T150012Z
UID:382341-1746349200-1746370800@aaneok.org
SUMMARY:Area 57 State Sponsored Workshop
DESCRIPTION:
URL:https://aaneok.org/event/area-57-state-sponsored-workshop-4/
LOCATION:District 90 Location\, 3076 NW 29th\, Oklahoma City\, OK\, 73112\, United States
CATEGORIES:Area 57 Events
END:VEVENT
BEGIN:VEVENT
DTSTART;TZID=America/New_York:20250506T200000
DTEND;TZID=America/New_York:20250506T210000
DTSTAMP:20260425T170750
CREATED:20250429T153442Z
LAST-MODIFIED:20250429T153442Z
UID:382469-1746561600-1746565200@aaneok.org
SUMMARY:District 10 &20 Joint Service Meeting
DESCRIPTION:
URL:https://aaneok.org/event/district-10-20-joint-service-meeting-3/
LOCATION:North Meridian Group OKC\, 4407 NW 50th\, Oklahoma City\, OK\, 73112\, United States
CATEGORIES:District Events
END:VEVENT
BEGIN:VEVENT
DTSTART;VALUE=DATE:20250508
DTEND;VALUE=DATE:20250509
DTSTAMP:20260425T170750
CREATED:20250416T205001Z
LAST-MODIFIED:20250416T205001Z
UID:382398-1746662400-1746748799@aaneok.org
SUMMARY:State Conference AA Trivia/Bingo Items Needed
DESCRIPTION:
URL:https://aaneok.org/event/state-conference-aa-trivia-bingo-items-needed-3/
CATEGORIES:Area 57 Events
ATTACH;FMTTYPE=application/pdf:https://aaneok.org/wp-content/uploads/2025/04/2025-State-Conference-Prize-Request-Flyer-3.pdf
END:VEVENT
BEGIN:VEVENT
DTSTART;TZID=America/New_York:20250508T190000
DTEND;TZID=America/New_York:20250508T200000
DTSTAMP:20260425T170750
CREATED:20250414T201900Z
LAST-MODIFIED:20250414T201900Z
UID:382350-1746730800-1746734400@aaneok.org
SUMMARY:District 30&40 Joint Service Meeting
DESCRIPTION:
URL:https://aaneok.org/event/district-3040-joint-service-meeting-3/
LOCATION:Unanimity Club\, 8749 S Lewis Avenue\, Tulsa\, OK\, 74137\, United States
CATEGORIES:District Events
END:VEVENT
BEGIN:VEVENT
DTSTART;TZID=America/New_York:20250510T190000
DTEND;TZID=America/New_York:20250510T210000
DTSTAMP:20260425T170750
CREATED:20250418T134443Z
LAST-MODIFIED:20250418T134443Z
UID:382417-1746903600-1746910800@aaneok.org
SUMMARY:May 2025 Big Meeting
DESCRIPTION:
URL:https://aaneok.org/event/may-2025-big-meeting/
LOCATION:Harvard Avenue Christian Church\, 5502 S. Harvard Ave.\, Tulsa\, OK\, 74135\, United States
CATEGORIES:NE Big Meeting
END:VEVENT
BEGIN:VEVENT
DTSTART;TZID=America/New_York:20250516T150000
DTEND;TZID=America/New_York:20250518T110000
DTSTAMP:20260425T170750
CREATED:20240916T210002Z
LAST-MODIFIED:20240916T210002Z
UID:381239-1747407600-1747566000@aaneok.org
SUMMARY:2025 State Conference
DESCRIPTION:
URL:https://aaneok.org/event/2025-state-conference/
LOCATION:embassy suites  norman\, ok\, 2501 Conference Drive\, Norman\, OK\, 73069\, United States
CATEGORIES:Area 57 Events
ATTACH;FMTTYPE=image/jpeg:https://aaneok.org/wp-content/uploads/2024/09/2025-State-Conference-Flyer-FINAL-scaled.jpeg
END:VEVENT
BEGIN:VEVENT
DTSTART;TZID=America/New_York:20250516T150000
DTEND;TZID=America/New_York:20250518T113000
DTSTAMP:20260425T170750
CREATED:20250415T214003Z
LAST-MODIFIED:20250415T214135Z
UID:382381-1747407600-1747567800@aaneok.org
SUMMARY:Oklahoma State Conference Needs PRIZES!
DESCRIPTION:
URL:https://aaneok.org/event/oklahoma-state-conference-need-prizes/
LOCATION:embassy suites  norman\, ok\, 2501 Conference Drive\, Norman\, OK\, 73069\, United States
CATEGORIES:Area 57 Events
ATTACH;FMTTYPE=application/pdf:https://aaneok.org/wp-content/uploads/2025/04/2025-State-Conference-Prize-Request-Flyer.pdf
END:VEVENT
BEGIN:VEVENT
DTSTART;VALUE=DATE:20250517
DTEND;VALUE=DATE:20250518
DTSTAMP:20260425T170750
CREATED:20250418T215637Z
LAST-MODIFIED:20250508T204218Z
UID:382440-1747440000-1747526399@aaneok.org
SUMMARY:REBOS has Meeting Space Available
DESCRIPTION:
URL:https://aaneok.org/event/rebos-has-meeting-space-available-4/
CATEGORIES:Group Events
ATTACH;FMTTYPE=application/pdf:https://aaneok.org/wp-content/uploads/2025/04/Rebos-has-space-1.pdf
END:VEVENT
BEGIN:VEVENT
DTSTART;TZID=America/New_York:20250519T190000
DTEND;TZID=America/New_York:20250519T200000
DTSTAMP:20260425T170750
CREATED:20250513T151953Z
LAST-MODIFIED:20250513T151953Z
UID:382538-1747681200-1747684800@aaneok.org
SUMMARY:NEOK Big Meeting Committee
DESCRIPTION:
URL:https://aaneok.org/event/neok-big-meeting-committee/
LOCATION:Harvard Avenue Christian Church\, 5502 S. Harvard Ave.\, Tulsa\, OK\, 74135\, United States
CATEGORIES:NE Big Meeting
END:VEVENT
BEGIN:VEVENT
DTSTART;TZID=America/New_York:20250524T060000
DTEND;TZID=America/New_York:20250524T070000
DTSTAMP:20260425T170750
CREATED:20250507T203942Z
LAST-MODIFIED:20250509T201137Z
UID:382502-1748066400-1748070000@aaneok.org
SUMMARY:Leaf Kickin Coffee Morning
DESCRIPTION:
URL:https://aaneok.org/event/leaf-kickin-coffee-morning/
LOCATION:May Club\, 2913 W. Britton Rd.\, Oklahoma City\, OK\, 73120\, United States
CATEGORIES:Group Events
END:VEVENT
BEGIN:VEVENT
DTSTART;TZID=America/New_York:20250524T120000
DTEND;TZID=America/New_York:20250524T170000
DTSTAMP:20260425T170750
CREATED:20250423T133747Z
LAST-MODIFIED:20250510T164210Z
UID:382450-1748088000-1748106000@aaneok.org
SUMMARY:Maine Street Group 4th Step Workshop
DESCRIPTION:There have been changes to the panel for this event: \nBen B\, Area 57\, Panel 67\, Past Delegate.    Altered Boys\, OKC \nJoe F\, District 50  Chair.    Acceptance Group\, Ponca City \nTim S\, Maine Street Group\, Enid
URL:https://aaneok.org/event/maine-street-group-4th-step-workshop/
LOCATION:704D W. Maine Street\, 704 D W. Maine Street\, Enid\, OK\, 73701\, United States
CATEGORIES:Group Events
END:VEVENT
END:VCALENDAR