BEGIN:VCALENDAR
VERSION:2.0
PRODID:-//NECS - ECPv6.15.20//NONSGML v1.0//EN
CALSCALE:GREGORIAN
METHOD:PUBLISH
X-WR-CALNAME:NECS
X-ORIGINAL-URL:https://aaneok.org
X-WR-CALDESC:Events for NECS
REFRESH-INTERVAL;VALUE=DURATION:PT1H
X-Robots-Tag:noindex
X-PUBLISHED-TTL:PT1H
BEGIN:VTIMEZONE
TZID:America/New_York
BEGIN:DAYLIGHT
TZOFFSETFROM:-0500
TZOFFSETTO:-0400
TZNAME:EDT
DTSTART:20250309T070000
END:DAYLIGHT
BEGIN:STANDARD
TZOFFSETFROM:-0400
TZOFFSETTO:-0500
TZNAME:EST
DTSTART:20251102T060000
END:STANDARD
BEGIN:DAYLIGHT
TZOFFSETFROM:-0500
TZOFFSETTO:-0400
TZNAME:EDT
DTSTART:20260308T070000
END:DAYLIGHT
BEGIN:STANDARD
TZOFFSETFROM:-0400
TZOFFSETTO:-0500
TZNAME:EST
DTSTART:20261101T060000
END:STANDARD
BEGIN:DAYLIGHT
TZOFFSETFROM:-0500
TZOFFSETTO:-0400
TZNAME:EDT
DTSTART:20270314T070000
END:DAYLIGHT
BEGIN:STANDARD
TZOFFSETFROM:-0400
TZOFFSETTO:-0500
TZNAME:EST
DTSTART:20271107T060000
END:STANDARD
END:VTIMEZONE
BEGIN:VEVENT
DTSTART;TZID=America/New_York:20260223T190000
DTEND;TZID=America/New_York:20260223T200000
DTSTAMP:20260425T112612
CREATED:20260203T194733Z
LAST-MODIFIED:20260203T194835Z
UID:384500-1771873200-1771876800@aaneok.org
SUMMARY:NEOK Big Meeting Committee
DESCRIPTION:
URL:https://aaneok.org/event/neok-big-meeting-committee-6/
LOCATION:Harvard Avenue Christian Church\, 5502 S. Harvard Ave.\, Tulsa\, OK\, 74135\, United States
CATEGORIES:NE Big Meeting
ATTACH;FMTTYPE=application/pdf:https://aaneok.org/wp-content/uploads/2026/02/BMcommitteemeetingfeb2026.pdf
END:VEVENT
BEGIN:VEVENT
DTSTART;TZID=America/New_York:20260221T160000
DTEND;TZID=America/New_York:20260221T200000
DTSTAMP:20260425T112612
CREATED:20260119T191109Z
LAST-MODIFIED:20260123T135341Z
UID:384354-1771689600-1771704000@aaneok.org
SUMMARY:NECS Chili and Cornbread Cookoff 2026
DESCRIPTION:
URL:https://aaneok.org/event/necs-chili-and-cornbread-cookoff/
LOCATION:Harvard Avenue Christian Church\, 5502 S. Harvard Ave.\, Tulsa\, OK\, 74135\, United States
CATEGORIES:NECS Events
ATTACH;FMTTYPE=application/pdf:https://aaneok.org/wp-content/uploads/2026/01/NECSCookoffrevised.pdf
END:VEVENT
BEGIN:VEVENT
DTSTART;VALUE=DATE:20260221
DTEND;VALUE=DATE:20260222
DTSTAMP:20260425T112612
CREATED:20260128T152354Z
LAST-MODIFIED:20260128T152354Z
UID:384461-1771632000-1771718399@aaneok.org
SUMMARY:Outlaw Safe Crackers Claremore Meeting Change
DESCRIPTION:
URL:https://aaneok.org/event/outlaw-safe-crackers-claremore-meeting-change-2/
LOCATION:OK
CATEGORIES:Group Events
ATTACH;FMTTYPE=image/jpeg:https://aaneok.org/wp-content/uploads/2026/01/Outlaw-Safe-Cracker-meeting-change-1.jpg
END:VEVENT
BEGIN:VEVENT
DTSTART;VALUE=DATE:20260221
DTEND;VALUE=DATE:20260222
DTSTAMP:20260425T112612
CREATED:20260123T222102Z
LAST-MODIFIED:20260123T222102Z
UID:384440-1771632000-1771718399@aaneok.org
SUMMARY:Going to Any Lengths Rita L Celebration
DESCRIPTION:
URL:https://aaneok.org/event/going-to-any-lengths-rita-l-celebration/
LOCATION:Home Builders Association\, 11545 E 43rd St\, Tulsa\, 74146\, United States
CATEGORIES:Group Events
ATTACH;FMTTYPE=application/pdf:https://aaneok.org/wp-content/uploads/2026/01/GTAL-Rita-Bday.pdf
END:VEVENT
BEGIN:VEVENT
DTSTART;VALUE=DATE:20260221
DTEND;VALUE=DATE:20260222
DTSTAMP:20260425T112612
CREATED:20260115T170636Z
LAST-MODIFIED:20260115T170636Z
UID:384314-1771632000-1771718399@aaneok.org
SUMMARY:Fun in the Fellowship Online 3rd Saturday Ongoing Meeting
DESCRIPTION:
URL:https://aaneok.org/event/fun-in-the-fellowship-online-3rd-saturday-ongoing-meeting-2/
LOCATION:OK
CATEGORIES:Area 57 Events
ATTACH;FMTTYPE=application/pdf:https://aaneok.org/wp-content/uploads/2026/01/FIF-2026-third-sat-online-meeting-1.pdf
END:VEVENT
BEGIN:VEVENT
DTSTART;VALUE=DATE:20260221
DTEND;VALUE=DATE:20260222
DTSTAMP:20260425T112612
CREATED:20260114T151109Z
LAST-MODIFIED:20260114T151256Z
UID:384287-1771632000-1771718399@aaneok.org
SUMMARY:The Big Book Stays Alive Online Sundays
DESCRIPTION:
URL:https://aaneok.org/event/the-big-book-stays-alive-online-sundays-4/
LOCATION:OK
CATEGORIES:General Events
ATTACH;FMTTYPE=application/pdf:https://aaneok.org/wp-content/uploads/2026/01/Big-Book-Comes-Alive-4.pdf
END:VEVENT
BEGIN:VEVENT
DTSTART;VALUE=DATE:20260221
DTEND;VALUE=DATE:20260222
DTSTAMP:20260425T112612
CREATED:20251205T153619Z
LAST-MODIFIED:20251208T145443Z
UID:383960-1771632000-1771718399@aaneok.org
SUMMARY:Area 57 Corrections Conference/Grove
DESCRIPTION:
URL:https://aaneok.org/event/area-57-corrections-conference-grove/
LOCATION:First Christian Church/Grove\, 102 W. 4th Street\, Grove\, OK\, 74344\, United States
CATEGORIES:Area 57 Events
ATTACH;FMTTYPE=image/jpeg:https://aaneok.org/wp-content/uploads/2025/12/Area-57-Corrections-revised.jpg
END:VEVENT
BEGIN:VEVENT
DTSTART;VALUE=DATE:20260221
DTEND;VALUE=DATE:20260222
DTSTAMP:20260425T112612
CREATED:20251212T193625Z
LAST-MODIFIED:20260123T222916Z
UID:383993-1771632000-1771718399@aaneok.org
SUMMARY:2026 OK State Conference Volunteers Scan Codes
DESCRIPTION:
URL:https://aaneok.org/event/2026-ok-state-conference-volunteers-scan-codes-2-copy-9/
LOCATION:OK
CATEGORIES:Area 57 Events
ATTACH;FMTTYPE=application/pdf:https://aaneok.org/wp-content/uploads/2025/12/2026-State-Conference-Need-Volunteers-4.pdf
END:VEVENT
BEGIN:VEVENT
DTSTART;VALUE=DATE:20260220
DTEND;VALUE=DATE:20260223
DTSTAMP:20260425T112612
CREATED:20260127T181111Z
LAST-MODIFIED:20260127T181111Z
UID:384447-1771545600-1771804799@aaneok.org
SUMMARY:Sunlight of the Spirit
DESCRIPTION:
URL:https://aaneok.org/event/sunlight-of-the-spirit/
LOCATION:Quartz Mountain State Park Lodge\, 22469 Lodge Rd\,\, Lone Wolf\, OK\, 73655\, United States
CATEGORIES:SW Regional Events
ATTACH;FMTTYPE=application/pdf:https://aaneok.org/wp-content/uploads/2026/01/Quartz-Mt.pdf
END:VEVENT
BEGIN:VEVENT
DTSTART;VALUE=DATE:20260220
DTEND;VALUE=DATE:20260221
DTSTAMP:20260425T112612
CREATED:20260206T144551Z
LAST-MODIFIED:20260206T144551Z
UID:384548-1771545600-1771631999@aaneok.org
SUMMARY:Round Table Group February 2026 Friday Night Speakers
DESCRIPTION:
URL:https://aaneok.org/event/round-table-group-february-2026-friday-night-speakers-2/
LOCATION:Roundtable Group\, 3006 N Portland Ave\, OKC\, OK\, 73107\, United States
CATEGORIES:Group Events
ATTACH;FMTTYPE=application/pdf:https://aaneok.org/wp-content/uploads/2026/02/Round-Table-Feb-2026-Speakers-1.pdf
END:VEVENT
BEGIN:VEVENT
DTSTART;VALUE=DATE:20260220
DTEND;VALUE=DATE:20260223
DTSTAMP:20260425T112612
CREATED:20250827T150958Z
LAST-MODIFIED:20250827T153415Z
UID:383314-1771545600-1771804799@aaneok.org
SUMMARY:Meeting in Paradise San Pedro Belize
DESCRIPTION:
URL:https://aaneok.org/event/meeting-in-paradise-san-pedro-belize/
LOCATION:OK
CATEGORIES:General Events
ATTACH;FMTTYPE=application/pdf:https://aaneok.org/wp-content/uploads/2025/08/MIP-2026.pdf
END:VEVENT
BEGIN:VEVENT
DTSTART;TZID=America/New_York:20260218T190000
DTEND;TZID=America/New_York:20260218T200000
DTSTAMP:20260425T112612
CREATED:20260218T171112Z
LAST-MODIFIED:20260218T171112Z
UID:384622-1771441200-1771444800@aaneok.org
SUMMARY:Mid-Town Mens NOT MEETING TONIGHT
DESCRIPTION:
URL:https://aaneok.org/event/mid-town-mens-not-meeting-tonight/
LOCATION:OK
CATEGORIES:Group Events
END:VEVENT
BEGIN:VEVENT
DTSTART;VALUE=DATE:20260218
DTEND;VALUE=DATE:20260219
DTSTAMP:20260425T112612
CREATED:20260121T231424Z
LAST-MODIFIED:20260216T160904Z
UID:384386-1771372800-1771459199@aaneok.org
SUMMARY:Northeast OK Big Meeting Outreach Host/Co Hosts
DESCRIPTION:
URL:https://aaneok.org/event/northeast-ok-big-meeting-outreach-host-co-hosts-4/
LOCATION:OK
CATEGORIES:NE Big Meeting
ATTACH;FMTTYPE=application/pdf:https://aaneok.org/wp-content/uploads/2026/01/BM-Outreach-for-Groups-3.pdf
END:VEVENT
BEGIN:VEVENT
DTSTART;VALUE=DATE:20260216
DTEND;VALUE=DATE:20260217
DTSTAMP:20260425T112612
CREATED:20260211T154228Z
LAST-MODIFIED:20260211T154228Z
UID:384576-1771200000-1771286399@aaneok.org
SUMMARY:Escaping Disaster Together 630pm meeting will not meet only for tonight Monday February 16 2026
DESCRIPTION:
URL:https://aaneok.org/event/escaping-disaster-together-630pm-meeting-will-not-meet-only-for-tonight-monday-february-16-2026/
LOCATION:OK
END:VEVENT
BEGIN:VEVENT
DTSTART;VALUE=DATE:20260215
DTEND;VALUE=DATE:20260216
DTSTAMP:20260425T112612
CREATED:20260114T145939Z
LAST-MODIFIED:20260114T145939Z
UID:384275-1771113600-1771199999@aaneok.org
SUMMARY:Noon Awakenings New Online  Group
DESCRIPTION:
URL:https://aaneok.org/event/noon-awakenings-new-online-group-2/
LOCATION:OK
CATEGORIES:Group Events
ATTACH;FMTTYPE=application/pdf:https://aaneok.org/wp-content/uploads/2026/01/Noon-Awakenings20260114085558-1.pdf
END:VEVENT
BEGIN:VEVENT
DTSTART;TZID=America/New_York:20260214T190000
DTEND;TZID=America/New_York:20260214T210000
DTSTAMP:20260425T112612
CREATED:20260106T163107Z
LAST-MODIFIED:20260113T205345Z
UID:384136-1771095600-1771102800@aaneok.org
SUMMARY:NEOK Big Meeting February 2026
DESCRIPTION:
URL:https://aaneok.org/event/neok-big-meeting-february-2026/
LOCATION:Harvard Avenue Christian Church\, 5502 S. Harvard Ave.\, Tulsa\, OK\, 74135\, United States
CATEGORIES:NE Big Meeting
ATTACH;FMTTYPE=application/pdf:https://aaneok.org/wp-content/uploads/2026/01/Big-Meet-Feb.pdf
END:VEVENT
BEGIN:VEVENT
DTSTART;TZID=America/New_York:20260214T100000
DTEND;TZID=America/New_York:20260214T110000
DTSTAMP:20260425T112612
CREATED:20260121T185915Z
LAST-MODIFIED:20260123T171145Z
UID:384372-1771063200-1771066800@aaneok.org
SUMMARY:NECS CS Rep 2026 Special Proposed Budget Meeting
DESCRIPTION:
URL:https://aaneok.org/event/necs-cs-rep-2026-special-proposed-budget-meeting/
LOCATION:Unanimity Club\, 8749 S Lewis Avenue\, Tulsa\, OK\, 74137\, United States
CATEGORIES:NECS Events
ATTACH;FMTTYPE=application/pdf:https://aaneok.org/wp-content/uploads/2026/01/CS-REp-Feb-2026-1.pdf
END:VEVENT
BEGIN:VEVENT
DTSTART;TZID=America/New_York:20260212T190000
DTEND;TZID=America/New_York:20260212T200000
DTSTAMP:20260425T112612
CREATED:20260210T180714Z
LAST-MODIFIED:20260210T180714Z
UID:384564-1770922800-1770926400@aaneok.org
SUMMARY:District 30/40 Joint Service Meeting
DESCRIPTION:
URL:https://aaneok.org/event/district-30-40-joint-service-meeting-4/
LOCATION:Unanimity Club\, 8749 S Lewis Avenue\, Tulsa\, OK\, 74137\, United States
CATEGORIES:District Events
ATTACH;FMTTYPE=application/pdf:https://aaneok.org/wp-content/uploads/2026/02/Untitled-design-21.pdf
END:VEVENT
BEGIN:VEVENT
DTSTART;VALUE=DATE:20260212
DTEND;VALUE=DATE:20260216
DTSTAMP:20260425T112612
CREATED:20250709T214155Z
LAST-MODIFIED:20250709T214155Z
UID:382947-1770854400-1771199999@aaneok.org
SUMMARY:International Women's Conference/Register Now
DESCRIPTION:
URL:https://aaneok.org/event/international-womens-conference-register-now/
LOCATION:Community Choice Convention Center/Des Moines Iowa\, 833 5th Ave.\, Des Moines\, IA\, 50309\, United States
CATEGORIES:General Events
ATTACH;FMTTYPE=application/pdf:https://aaneok.org/wp-content/uploads/2025/07/Register-Now-Flyers-1.pdf
END:VEVENT
BEGIN:VEVENT
DTSTART;VALUE=DATE:20260212
DTEND;VALUE=DATE:20260213
DTSTAMP:20260425T112612
CREATED:20260107T225724Z
LAST-MODIFIED:20260107T225724Z
UID:384195-1770854400-1770940799@aaneok.org
SUMMARY:Meeting Space Available
DESCRIPTION:
URL:https://aaneok.org/event/meeting-space-available-2/
LOCATION:OK
CATEGORIES:General Events
ATTACH;FMTTYPE=application/pdf:https://aaneok.org/wp-content/uploads/2026/01/Meeting-Space-Available-Boston-1.pdf
END:VEVENT
BEGIN:VEVENT
DTSTART;VALUE=DATE:20260211
DTEND;VALUE=DATE:20260212
DTSTAMP:20260425T112612
CREATED:20260107T151459Z
LAST-MODIFIED:20260107T151459Z
UID:384168-1770768000-1770854399@aaneok.org
SUMMARY:Fun in Fellowship Raffle Items Needed
DESCRIPTION:
URL:https://aaneok.org/event/fun-in-fellowship-raffle-items-needed-2/
LOCATION:OK
CATEGORIES:Area 57 Events
ATTACH;FMTTYPE=image/jpeg:https://aaneok.org/wp-content/uploads/2026/01/Raffle-Flyer-1-scaled.jpg
END:VEVENT
BEGIN:VEVENT
DTSTART;VALUE=DATE:20260211
DTEND;VALUE=DATE:20260212
DTSTAMP:20260425T112612
CREATED:20260107T150618Z
LAST-MODIFIED:20260107T150618Z
UID:384144-1770768000-1770854399@aaneok.org
SUMMARY:Save the Date 9/12/26 Fun in the Fellowship
DESCRIPTION:
URL:https://aaneok.org/event/save-the-date-9-12-26-fun-in-the-fellowship-2/
LOCATION:OK
CATEGORIES:Area 57 Events
ATTACH;FMTTYPE=image/jpeg:https://aaneok.org/wp-content/uploads/2026/01/Save-the-date-FIF-2026-1-scaled.jpg
END:VEVENT
BEGIN:VEVENT
DTSTART;TZID=America/New_York:20260207T190000
DTEND;TZID=America/New_York:20260207T200000
DTSTAMP:20260425T112612
CREATED:20260205T211220Z
LAST-MODIFIED:20260205T211220Z
UID:384535-1770490800-1770494400@aaneok.org
SUMMARY:Outlaw Safe Cracker Speaker/Bday Meeting
DESCRIPTION:
URL:https://aaneok.org/event/outlaw-safe-cracker-speaker-bday-meeting/
LOCATION:Outlaw Safe Cracker\, 1660 N Lynn Riggs Blvd\, Claremore\, OK\, 74017\, United States
CATEGORIES:Group Events
ATTACH;FMTTYPE=application/pdf:https://aaneok.org/wp-content/uploads/2026/02/Outlaw-Feb-2026-Bday.pdf
END:VEVENT
BEGIN:VEVENT
DTSTART;TZID=America/New_York:20260207T180000
DTEND;TZID=America/New_York:20260207T190000
DTSTAMP:20260425T112612
CREATED:20260108T230655Z
LAST-MODIFIED:20260108T230655Z
UID:384215-1770487200-1770490800@aaneok.org
SUMMARY:Love and Fellowship/Ponca City Speaker Meeting
DESCRIPTION:
URL:https://aaneok.org/event/love-and-fellowship-ponca-city-speaker-meeting/
LOCATION:Woodlands Christian Church Ponca City\, 1400 E. Hartford Ave.\, Ponca City\, OK\, 74604\, United States
CATEGORIES:Group Events
ATTACH;FMTTYPE=application/pdf:https://aaneok.org/wp-content/uploads/2026/01/Love-n-Fellowship-Ponca-City-Speaker-Feb-2026.pdf
END:VEVENT
BEGIN:VEVENT
DTSTART;VALUE=DATE:20260207
DTEND;VALUE=DATE:20260208
DTSTAMP:20260425T112612
CREATED:20260128T152304Z
LAST-MODIFIED:20260128T152304Z
UID:384458-1770422400-1770508799@aaneok.org
SUMMARY:Outlaw Safe Crackers Claremore Meeting Change
DESCRIPTION:
URL:https://aaneok.org/event/outlaw-safe-crackers-claremore-meeting-change/
LOCATION:OK
CATEGORIES:Group Events
ATTACH;FMTTYPE=image/jpeg:https://aaneok.org/wp-content/uploads/2026/01/Outlaw-Safe-Cracker-meeting-change.jpg
END:VEVENT
BEGIN:VEVENT
DTSTART;VALUE=DATE:20260207
DTEND;VALUE=DATE:20260208
DTSTAMP:20260425T112612
CREATED:20260119T172503Z
LAST-MODIFIED:20260120T155740Z
UID:384349-1770422400-1770508799@aaneok.org
SUMMARY:Outlaw Safe Cracker Schedule Changes
DESCRIPTION:
URL:https://aaneok.org/event/outlaw-safe-cracker-schedule-changes/
LOCATION:Outlaw Safe Cracker\, 1660 N Lynn Riggs Blvd\, Claremore\, OK\, 74017\, United States
CATEGORIES:Group Events
ATTACH;FMTTYPE=application/pdf:https://aaneok.org/wp-content/uploads/2026/01/Outlaw-Safe-Cracker.pdf
END:VEVENT
BEGIN:VEVENT
DTSTART;VALUE=DATE:20260207
DTEND;VALUE=DATE:20260208
DTSTAMP:20260425T112612
CREATED:20260114T215602Z
LAST-MODIFIED:20260114T215602Z
UID:384300-1770422400-1770508799@aaneok.org
SUMMARY:Area 57 Treatment Corrections and Bridge the Gap
DESCRIPTION:
URL:https://aaneok.org/event/area-57-treatment-corrections-and-bridge-the-gap/
LOCATION:Lost and Found Group/Enid\, 1602 E. Chestnut Ave.\, Enid\, OK\, 73701\, United States
CATEGORIES:Area 57 Events
ATTACH;FMTTYPE=image/jpeg:https://aaneok.org/wp-content/uploads/2026/01/Area-57-Treatment-Corrections-BTG-Workshop-Enid-2-7-26-1-scaled.jpeg
END:VEVENT
BEGIN:VEVENT
DTSTART;VALUE=DATE:20260207
DTEND;VALUE=DATE:20260208
DTSTAMP:20260425T112612
CREATED:20251212T193606Z
LAST-MODIFIED:20260107T154759Z
UID:383992-1770422400-1770508799@aaneok.org
SUMMARY:2026 OK State Conference Volunteers Scan Codes
DESCRIPTION:
URL:https://aaneok.org/event/2026-ok-state-conference-volunteers-scan-codes-2-copy/
LOCATION:OK
CATEGORIES:Area 57 Events
ATTACH;FMTTYPE=application/pdf:https://aaneok.org/wp-content/uploads/2025/12/2026-State-Conference-Need-Volunteers.pdf
END:VEVENT
BEGIN:VEVENT
DTSTART;VALUE=DATE:20260206
DTEND;VALUE=DATE:20260207
DTSTAMP:20260425T112612
CREATED:20260206T144459Z
LAST-MODIFIED:20260206T144459Z
UID:384545-1770336000-1770422399@aaneok.org
SUMMARY:Round Table Group February 2026 Friday Night Speakers
DESCRIPTION:
URL:https://aaneok.org/event/round-table-group-february-2026-friday-night-speakers/
LOCATION:Roundtable Group\, 3006 N Portland Ave\, OKC\, OK\, 73107\, United States
CATEGORIES:Group Events
ATTACH;FMTTYPE=application/pdf:https://aaneok.org/wp-content/uploads/2026/02/Round-Table-Feb-2026-Speakers.pdf
END:VEVENT
BEGIN:VEVENT
DTSTART;TZID=America/New_York:20260205T173000
DTEND;TZID=America/New_York:20260205T183000
DTSTAMP:20260425T112612
CREATED:20260205T231934Z
LAST-MODIFIED:20260205T231934Z
UID:384543-1770312600-1770316200@aaneok.org
SUMMARY:Marble City AA 5:30pm will not be meeting today
DESCRIPTION:
URL:https://aaneok.org/event/marble-city-aa-530pm-will-not-be-meeting-today/
LOCATION:OK
CATEGORIES:Group Events
END:VEVENT
END:VCALENDAR