BEGIN:VCALENDAR
VERSION:2.0
PRODID:-//NECS - ECPv6.15.20//NONSGML v1.0//EN
CALSCALE:GREGORIAN
METHOD:PUBLISH
X-ORIGINAL-URL:https://aaneok.org
X-WR-CALDESC:Events for NECS
REFRESH-INTERVAL;VALUE=DURATION:PT1H
X-Robots-Tag:noindex
X-PUBLISHED-TTL:PT1H
BEGIN:VTIMEZONE
TZID:America/New_York
BEGIN:DAYLIGHT
TZOFFSETFROM:-0500
TZOFFSETTO:-0400
TZNAME:EDT
DTSTART:20250309T070000
END:DAYLIGHT
BEGIN:STANDARD
TZOFFSETFROM:-0400
TZOFFSETTO:-0500
TZNAME:EST
DTSTART:20251102T060000
END:STANDARD
BEGIN:DAYLIGHT
TZOFFSETFROM:-0500
TZOFFSETTO:-0400
TZNAME:EDT
DTSTART:20260308T070000
END:DAYLIGHT
BEGIN:STANDARD
TZOFFSETFROM:-0400
TZOFFSETTO:-0500
TZNAME:EST
DTSTART:20261101T060000
END:STANDARD
BEGIN:DAYLIGHT
TZOFFSETFROM:-0500
TZOFFSETTO:-0400
TZNAME:EDT
DTSTART:20270314T070000
END:DAYLIGHT
BEGIN:STANDARD
TZOFFSETFROM:-0400
TZOFFSETTO:-0500
TZNAME:EST
DTSTART:20271107T060000
END:STANDARD
END:VTIMEZONE
BEGIN:VEVENT
DTSTART;VALUE=DATE:20260108
DTEND;VALUE=DATE:20260109
DTSTAMP:20260425T111706
CREATED:20260107T223704Z
LAST-MODIFIED:20260107T223704Z
UID:384192-1767830400-1767916799@aaneok.org
SUMMARY:Meeting Space Available
DESCRIPTION:
URL:https://aaneok.org/event/meeting-space-available/
LOCATION:OK
CATEGORIES:General Events
ATTACH;FMTTYPE=application/pdf:https://aaneok.org/wp-content/uploads/2026/01/Meeting-Space-Available-Boston.pdf
END:VEVENT
BEGIN:VEVENT
DTSTART;TZID=America/New_York:20260108T190000
DTEND;TZID=America/New_York:20260108T200000
DTSTAMP:20260425T111706
CREATED:20260105T190329Z
LAST-MODIFIED:20260107T145921Z
UID:384112-1767898800-1767902400@aaneok.org
SUMMARY:District 30&40 Joint Service Meeting
DESCRIPTION:
URL:https://aaneok.org/event/district-3040-joint-service-meeting-4/
LOCATION:Unanimity Club\, 8749 S Lewis Avenue\, Tulsa\, OK\, 74137\, United States
CATEGORIES:District Events
ATTACH;FMTTYPE=application/pdf:https://aaneok.org/wp-content/uploads/2026/01/Joint-Service-January-26.pdf
END:VEVENT
BEGIN:VEVENT
DTSTART;TZID=America/New_York:20260110T090000
DTEND;TZID=America/New_York:20260110T113000
DTSTAMP:20260425T111706
CREATED:20251215T172649Z
LAST-MODIFIED:20251215T172649Z
UID:384024-1768035600-1768044600@aaneok.org
SUMMARY:Area 57 Corrections Workshop January 10
DESCRIPTION:Area 57 corrections Jan 26
URL:https://aaneok.org/event/area-57-corrections-workshop-january-10/
LOCATION:Altus Original Group\, 315 N. Crain St.\, Altus\, OK\, 73521\, United States
CATEGORIES:Area 57 Events
ATTACH;FMTTYPE=image/jpg:https://aaneok.org/wp-content/uploads/2025/12/Area-57-corrections-Jan-26-pdf-image.jpg
END:VEVENT
BEGIN:VEVENT
DTSTART;TZID=America/New_York:20260110T120000
DTEND;TZID=America/New_York:20260110T140000
DTSTAMP:20260425T111706
CREATED:20260108T183757Z
LAST-MODIFIED:20260108T183757Z
UID:384202-1768046400-1768053600@aaneok.org
SUMMARY:Area 57 Workshop 4th Step Round Table
DESCRIPTION:
URL:https://aaneok.org/event/area-57-workshop-4th-step-round-table/
LOCATION:Roundtable Group\, 3006 N Portland Ave\, OKC\, OK\, 73107\, United States
CATEGORIES:Area 57 Events
ATTACH;FMTTYPE=image/jpeg:https://aaneok.org/wp-content/uploads/2026/01/State-Sponsored-Workshop-Round-Table-Jan.-10-2026-scaled.jpeg
END:VEVENT
BEGIN:VEVENT
DTSTART;TZID=America/New_York:20260110T120000
DTEND;TZID=America/New_York:20260110T235900
DTSTAMP:20260425T111706
CREATED:20251212T193518Z
LAST-MODIFIED:20251212T204424Z
UID:383990-1768046400-1768089540@aaneok.org
SUMMARY:2026 OK State Conference Volunteers Scan Codes
DESCRIPTION:
URL:https://aaneok.org/event/2026-ok-state-conference-volunteers-scan-codes-2-copy-2/
LOCATION:OK
CATEGORIES:Area 57 Events
END:VEVENT
BEGIN:VEVENT
DTSTART;TZID=America/New_York:20260110T190000
DTEND;TZID=America/New_York:20260110T210000
DTSTAMP:20260425T111706
CREATED:20251213T135335Z
LAST-MODIFIED:20251213T135335Z
UID:384011-1768071600-1768078800@aaneok.org
SUMMARY:Big Meeting January 2026
DESCRIPTION:
URL:https://aaneok.org/event/big-meeting-january-2026/
LOCATION:Harvard Avenue Christian Church\, 5502 S. Harvard Ave.\, Tulsa\, OK\, 74135\, United States
CATEGORIES:NE Big Meeting
ATTACH;FMTTYPE=application/pdf:https://aaneok.org/wp-content/uploads/2025/12/janflyer2026-pdf.pdf
END:VEVENT
BEGIN:VEVENT
DTSTART;TZID=America/New_York:20260113T120000
DTEND;TZID=America/New_York:20260113T130000
DTSTAMP:20260425T111706
CREATED:20260113T172536Z
LAST-MODIFIED:20260113T172653Z
UID:384261-1768305600-1768309200@aaneok.org
SUMMARY:NEW MEETING! Noon Awakenings
DESCRIPTION:
URL:https://aaneok.org/event/new-meeting-noon-awakenings/
LOCATION:OK
CATEGORIES:Group Events
ATTACH;FMTTYPE=application/pdf:https://aaneok.org/wp-content/uploads/2026/01/noon-awakenings.pdf
END:VEVENT
BEGIN:VEVENT
DTSTART;VALUE=DATE:20260114
DTEND;VALUE=DATE:20260115
DTSTAMP:20260425T111706
CREATED:20260107T150515Z
LAST-MODIFIED:20260107T150515Z
UID:384141-1768348800-1768435199@aaneok.org
SUMMARY:Save the Date 9/12/26 Fun in the Fellowship
DESCRIPTION:
URL:https://aaneok.org/event/save-the-date-9-12-26-fun-in-the-fellowship/
LOCATION:OK
CATEGORIES:Area 57 Events
ATTACH;FMTTYPE=image/jpeg:https://aaneok.org/wp-content/uploads/2026/01/Save-the-date-FIF-2026-scaled.jpg
END:VEVENT
BEGIN:VEVENT
DTSTART;VALUE=DATE:20260114
DTEND;VALUE=DATE:20260115
DTSTAMP:20260425T111706
CREATED:20260107T151354Z
LAST-MODIFIED:20260107T151354Z
UID:384165-1768348800-1768435199@aaneok.org
SUMMARY:Fun in Fellowship Raffle Items Needed
DESCRIPTION:
URL:https://aaneok.org/event/fun-in-fellowship-raffle-items-needed/
LOCATION:OK
CATEGORIES:Area 57 Events
ATTACH;FMTTYPE=image/jpeg:https://aaneok.org/wp-content/uploads/2026/01/Raffle-Flyer-scaled.jpg
END:VEVENT
BEGIN:VEVENT
DTSTART;VALUE=DATE:20260115
DTEND;VALUE=DATE:20260116
DTSTAMP:20260425T111706
CREATED:20260114T145844Z
LAST-MODIFIED:20260114T145844Z
UID:384272-1768435200-1768521599@aaneok.org
SUMMARY:Noon Awakenings New Online  Group
DESCRIPTION:
URL:https://aaneok.org/event/noon-awakenings-new-online-group/
LOCATION:OK
CATEGORIES:Group Events
ATTACH;FMTTYPE=application/pdf:https://aaneok.org/wp-content/uploads/2026/01/Noon-Awakenings20260114085558.pdf
END:VEVENT
BEGIN:VEVENT
DTSTART;VALUE=DATE:20260117
DTEND;VALUE=DATE:20260118
DTSTAMP:20260425T111706
CREATED:20251008T173914Z
LAST-MODIFIED:20251008T173914Z
UID:383649-1768608000-1768694399@aaneok.org
SUMMARY:Fun in the Fellowship Committee 2026
DESCRIPTION:
URL:https://aaneok.org/event/fun-in-the-fellowship-committee-2026-4/
LOCATION:OK
CATEGORIES:General Events
ATTACH;FMTTYPE=application/pdf:https://aaneok.org/wp-content/uploads/2025/10/FIF-Committee-2026-2.pdf
END:VEVENT
BEGIN:VEVENT
DTSTART;VALUE=DATE:20260117
DTEND;VALUE=DATE:20260118
DTSTAMP:20260425T111706
CREATED:20251009T142523Z
LAST-MODIFIED:20251211T150400Z
UID:383657-1768608000-1768694399@aaneok.org
SUMMARY:NECS CS Rep Meeting/Elections
DESCRIPTION:
URL:https://aaneok.org/event/necs-cs-rep-meeting-elections/
LOCATION:Unanimity Club\, 8749 S Lewis Avenue\, Tulsa\, OK\, 74137\, United States
CATEGORIES:NECS Events
ATTACH;FMTTYPE=application/pdf:https://aaneok.org/wp-content/uploads/2025/10/Untitled-design-21-1.pdf
END:VEVENT
BEGIN:VEVENT
DTSTART;VALUE=DATE:20260117
DTEND;VALUE=DATE:20260118
DTSTAMP:20260425T111706
CREATED:20251121T200709Z
LAST-MODIFIED:20251121T200709Z
UID:383912-1768608000-1768694399@aaneok.org
SUMMARY:Special AA Online Forum for Deaf
DESCRIPTION:
URL:https://aaneok.org/event/special-aa-online-forum-for-deaf/
LOCATION:OK
CATEGORIES:General Events
ATTACH;FMTTYPE=application/pdf:https://aaneok.org/wp-content/uploads/2025/11/Online-Forum-gor-Deaf-2026.pdf
END:VEVENT
BEGIN:VEVENT
DTSTART;VALUE=DATE:20260117
DTEND;VALUE=DATE:20260118
DTSTAMP:20260425T111706
CREATED:20260115T170545Z
LAST-MODIFIED:20260115T170545Z
UID:384311-1768608000-1768694399@aaneok.org
SUMMARY:Fun in the Fellowship Online 3rd Saturday Ongoing Meeting
DESCRIPTION:
URL:https://aaneok.org/event/fun-in-the-fellowship-online-3rd-saturday-ongoing-meeting/
LOCATION:OK
CATEGORIES:Area 57 Events
ATTACH;FMTTYPE=application/pdf:https://aaneok.org/wp-content/uploads/2026/01/FIF-2026-third-sat-online-meeting.pdf
END:VEVENT
BEGIN:VEVENT
DTSTART;TZID=America/New_York:20260117T153000
DTEND;TZID=America/New_York:20260117T170000
DTSTAMP:20260425T111706
CREATED:20260110T161907Z
LAST-MODIFIED:20260110T161907Z
UID:384228-1768663800-1768669200@aaneok.org
SUMMARY:FIF Jan 26
DESCRIPTION:
URL:https://aaneok.org/event/fif-jan-26/
LOCATION:OK
CATEGORIES:Area 57 Events
END:VEVENT
BEGIN:VEVENT
DTSTART;TZID=America/New_York:20260118T150000
DTEND;TZID=America/New_York:20260118T170000
DTSTAMP:20260425T111706
CREATED:20260112T201920Z
LAST-MODIFIED:20260112T201920Z
UID:384245-1768748400-1768755600@aaneok.org
SUMMARY:Big Book Comes Alive
DESCRIPTION:
URL:https://aaneok.org/event/big-book-comes-alive/
LOCATION:OK
CATEGORIES:General Events
ATTACH;FMTTYPE=application/pdf:https://aaneok.org/wp-content/uploads/2026/01/Big-Book-Comes-Alive.pdf
END:VEVENT
BEGIN:VEVENT
DTSTART;TZID=America/New_York:20260119T190000
DTEND;TZID=America/New_York:20260119T200000
DTSTAMP:20260425T111706
CREATED:20260105T185900Z
LAST-MODIFIED:20260106T134413Z
UID:384108-1768849200-1768852800@aaneok.org
SUMMARY:NEOK Big Meeting Committee
DESCRIPTION:
URL:https://aaneok.org/event/neok-big-meeting-committee-5/
LOCATION:Harvard Avenue Christian Church\, 5502 S. Harvard Ave.\, Tulsa\, OK\, 74135\, United States
CATEGORIES:NE Big Meeting
ATTACH;FMTTYPE=application/pdf:https://aaneok.org/wp-content/uploads/2026/01/committeemeetingjan-1-4.pdf
END:VEVENT
BEGIN:VEVENT
DTSTART;TZID=America/New_York:20260119T190000
DTEND;TZID=America/New_York:20260119T200000
DTSTAMP:20260425T111706
CREATED:20260113T220801Z
LAST-MODIFIED:20260113T220801Z
UID:384268-1768849200-1768852800@aaneok.org
SUMMARY:Beginners Meeting
DESCRIPTION:Meeting Starts 1/19/ 26
URL:https://aaneok.org/event/beginners-meeting/
LOCATION:REBOS Clubhouse/New\, 7012 S Utica Ave\, Tulsa\, OK\, 74136\, United States
CATEGORIES:Group Events
ATTACH;FMTTYPE=application/pdf:https://aaneok.org/wp-content/uploads/2026/01/Beginners-Meeting.pdf
END:VEVENT
BEGIN:VEVENT
DTSTART;TZID=America/New_York:20260121T173000
DTEND;TZID=America/New_York:20260121T203000
DTSTAMP:20260425T111706
CREATED:20251206T151424Z
LAST-MODIFIED:20251206T151424Z
UID:383964-1769016600-1769027400@aaneok.org
SUMMARY:Going to Any Lengths Birthday
DESCRIPTION:
URL:https://aaneok.org/event/going-to-any-lengths-birthday/
LOCATION:Home Builders Association\, 11545 E 43rd St\, Tulsa\, 74146\, United States
CATEGORIES:Group Events
ATTACH;FMTTYPE=application/pdf:https://aaneok.org/wp-content/uploads/2025/12/Birthday-Flyer-2.pdf
END:VEVENT
BEGIN:VEVENT
DTSTART;VALUE=DATE:20260122
DTEND;VALUE=DATE:20260123
DTSTAMP:20260425T111706
CREATED:20260121T231153Z
LAST-MODIFIED:20260121T231153Z
UID:384377-1769040000-1769126399@aaneok.org
SUMMARY:Northeast OK Big Meeting Outreach Host/Co Hosts
DESCRIPTION:
URL:https://aaneok.org/event/northeast-ok-big-meeting-outreach-host-co-hosts/
LOCATION:OK
CATEGORIES:NE Big Meeting
ATTACH;FMTTYPE=application/pdf:https://aaneok.org/wp-content/uploads/2026/01/BM-Outreach-for-Groups.pdf
END:VEVENT
BEGIN:VEVENT
DTSTART;TZID=America/New_York:20260123T190000
DTEND;TZID=America/New_York:20260123T200000
DTSTAMP:20260425T111706
CREATED:20260109T191438Z
LAST-MODIFIED:20260109T191438Z
UID:384223-1769194800-1769198400@aaneok.org
SUMMARY:Owasso Group Dinner/Speaker
DESCRIPTION:
URL:https://aaneok.org/event/owasso-group-dinner-speaker/
LOCATION:St Henry’s Catholic Church\, 8500 N Owasso Expressway\, Owasso\, OK\, 74055\, United States
CATEGORIES:Group Events
ATTACH;FMTTYPE=application/pdf:https://aaneok.org/wp-content/uploads/2026/01/Owasso-Jan-2026.pdf
END:VEVENT
BEGIN:VEVENT
DTSTART;TZID=America/New_York:20260123T193000
DTEND;TZID=America/New_York:20260123T203000
DTSTAMP:20260425T111706
CREATED:20260123T210103Z
LAST-MODIFIED:20260123T210103Z
UID:384436-1769196600-1769200200@aaneok.org
SUMMARY:Tulsa Big Book Meeting has been cancelled for tonight
DESCRIPTION:
URL:https://aaneok.org/event/tulsa-big-book-meeting-has-been-cancelled-for-tonight/
LOCATION:OK
CATEGORIES:Group Events
END:VEVENT
BEGIN:VEVENT
DTSTART;VALUE=DATE:20260124
DTEND;VALUE=DATE:20260125
DTSTAMP:20260425T111706
CREATED:20260114T150841Z
LAST-MODIFIED:20260114T150841Z
UID:384281-1769212800-1769299199@aaneok.org
SUMMARY:The Big Book Stays Alive Online Sundays
DESCRIPTION:
URL:https://aaneok.org/event/the-big-book-stays-alive-online-sundays-2/
LOCATION:OK
CATEGORIES:General Events
ATTACH;FMTTYPE=application/pdf:https://aaneok.org/wp-content/uploads/2026/01/Big-Book-Comes-Alive-2.pdf
END:VEVENT
BEGIN:VEVENT
DTSTART;TZID=America/New_York:20260124T093000
DTEND;TZID=America/New_York:20260124T103000
DTSTAMP:20260425T111706
CREATED:20260119T171327Z
LAST-MODIFIED:20260121T145511Z
UID:384337-1769247000-1769250600@aaneok.org
SUMMARY:B.A.D. Girls January Birthdays
DESCRIPTION:
URL:https://aaneok.org/event/b-a-d-girls-january-birthdays/
LOCATION:REBOS Clubhouse/New\, 7012 S Utica Ave\, Tulsa\, OK\, 74136\, United States
CATEGORIES:Group Events
ATTACH;FMTTYPE=application/pdf:https://aaneok.org/wp-content/uploads/2026/01/Bad-Girls-Jan-Bday.pdf
END:VEVENT
BEGIN:VEVENT
DTSTART;TZID=America/New_York:20260124T123000
DTEND;TZID=America/New_York:20260124T133000
DTSTAMP:20260425T111706
CREATED:20260121T180310Z
LAST-MODIFIED:20260121T180310Z
UID:384369-1769257800-1769261400@aaneok.org
SUMMARY:A Celebration of Life for Kelsey R.
DESCRIPTION:
URL:https://aaneok.org/event/a-celebration-of-life-for-kelsey-r/
LOCATION:OK
CATEGORIES:NECS Events
ATTACH;FMTTYPE=image/jpeg:https://aaneok.org/wp-content/uploads/2026/01/Kelsey-R-updated-memorial.jpg
END:VEVENT
BEGIN:VEVENT
DTSTART;VALUE=DATE:20260125
DTEND;VALUE=DATE:20260126
DTSTAMP:20260425T111706
CREATED:20260114T214934Z
LAST-MODIFIED:20260114T214934Z
UID:384294-1769299200-1769385599@aaneok.org
SUMMARY:7th Tradition Workshop OKC
DESCRIPTION:
URL:https://aaneok.org/event/7th-tradition-workshop-okc/
LOCATION:North Meridian Group OKC\, 4407 NW 50th\, Oklahoma City\, OK\, 73112\, United States
CATEGORIES:General Events
ATTACH;FMTTYPE=image/jpeg:https://aaneok.org/wp-content/uploads/2026/01/OKC-Intergroup-Workshop-at-N.-Meridian-Jan.-25-2026-scaled.jpeg
END:VEVENT
BEGIN:VEVENT
DTSTART;TZID=America/New_York:20260125T090000
DTEND;TZID=America/New_York:20260125T100000
DTSTAMP:20260425T111706
CREATED:20260123T221241Z
LAST-MODIFIED:20260123T222243Z
UID:384438-1769331600-1769335200@aaneok.org
SUMMARY:Secular Sobriety will only meet on Zoom today
DESCRIPTION:
URL:https://aaneok.org/event/secular-sobriety-will-on-meet-on-zoom-today/
LOCATION:OK
CATEGORIES:Group Events
END:VEVENT
BEGIN:VEVENT
DTSTART;TZID=America/New_York:20260125T150000
DTEND;TZID=America/New_York:20260125T160000
DTSTAMP:20260425T111706
CREATED:20250821T191854Z
LAST-MODIFIED:20250827T142203Z
UID:383251-1769353200-1769356800@aaneok.org
SUMMARY:2026 OK. State Conference Committee Meeting
DESCRIPTION:3pm IN PERSON- Mindset Behavioral Health 5563 S. Lewis Ave. #100\, Tulsa\, 74105 \nZoom- 2521537503 Password-Rule62 \nAnyone willing to help are welcome!
URL:https://aaneok.org/event/2026-ok-state-conference-committee-meeting-copy-copy-copy-copy/
LOCATION:OK
CATEGORIES:Area 57 Events
END:VEVENT
BEGIN:VEVENT
DTSTART;VALUE=DATE:20260127
DTEND;VALUE=DATE:20260128
DTSTAMP:20260425T111706
CREATED:20260114T223028Z
LAST-MODIFIED:20260114T223028Z
UID:384304-1769472000-1769558399@aaneok.org
SUMMARY:Before and After Bday/Speaker
DESCRIPTION:
URL:https://aaneok.org/event/before-and-after-bday-speaker/
LOCATION:Before and After Group\, 1118 W Broadway\, Collinsville\, OK\, 74021\, United States
CATEGORIES:Group Events
ATTACH;FMTTYPE=application/pdf:https://aaneok.org/wp-content/uploads/2026/01/B4an-After-Jan-2026.pdf
END:VEVENT
BEGIN:VEVENT
DTSTART;VALUE=DATE:20260129
DTEND;VALUE=DATE:20260130
DTSTAMP:20260425T111706
CREATED:20260129T225939Z
LAST-MODIFIED:20260129T225939Z
UID:384470-1769644800-1769731199@aaneok.org
SUMMARY:Marble City Meeting Canceled Today
DESCRIPTION:
URL:https://aaneok.org/event/marble-city-meeting-canceled-today/
LOCATION:OK
CATEGORIES:Group Events
END:VEVENT
END:VCALENDAR