BEGIN:VCALENDAR
VERSION:2.0
PRODID:-//NECS - ECPv6.15.20//NONSGML v1.0//EN
CALSCALE:GREGORIAN
METHOD:PUBLISH
X-WR-CALNAME:NECS
X-ORIGINAL-URL:https://aaneok.org
X-WR-CALDESC:Events for NECS
REFRESH-INTERVAL;VALUE=DURATION:PT1H
X-Robots-Tag:noindex
X-PUBLISHED-TTL:PT1H
BEGIN:VTIMEZONE
TZID:America/New_York
BEGIN:DAYLIGHT
TZOFFSETFROM:-0500
TZOFFSETTO:-0400
TZNAME:EDT
DTSTART:20250309T070000
END:DAYLIGHT
BEGIN:STANDARD
TZOFFSETFROM:-0400
TZOFFSETTO:-0500
TZNAME:EST
DTSTART:20251102T060000
END:STANDARD
BEGIN:DAYLIGHT
TZOFFSETFROM:-0500
TZOFFSETTO:-0400
TZNAME:EDT
DTSTART:20260308T070000
END:DAYLIGHT
BEGIN:STANDARD
TZOFFSETFROM:-0400
TZOFFSETTO:-0500
TZNAME:EST
DTSTART:20261101T060000
END:STANDARD
BEGIN:DAYLIGHT
TZOFFSETFROM:-0500
TZOFFSETTO:-0400
TZNAME:EDT
DTSTART:20270314T070000
END:DAYLIGHT
BEGIN:STANDARD
TZOFFSETFROM:-0400
TZOFFSETTO:-0500
TZNAME:EST
DTSTART:20271107T060000
END:STANDARD
BEGIN:DAYLIGHT
TZOFFSETFROM:-0500
TZOFFSETTO:-0400
TZNAME:EDT
DTSTART:20280312T070000
END:DAYLIGHT
BEGIN:STANDARD
TZOFFSETFROM:-0400
TZOFFSETTO:-0500
TZNAME:EST
DTSTART:20281105T060000
END:STANDARD
END:VTIMEZONE
BEGIN:VEVENT
DTSTART;VALUE=DATE:20260610
DTEND;VALUE=DATE:20260611
DTSTAMP:20260425T095644
CREATED:20260107T152236Z
LAST-MODIFIED:20260107T152236Z
UID:384180-1781049600-1781135999@aaneok.org
SUMMARY:Fun in Fellowship Raffle Items Needed
DESCRIPTION:
URL:https://aaneok.org/event/fun-in-fellowship-raffle-items-needed-6/
LOCATION:OK
CATEGORIES:Area 57 Events
ATTACH;FMTTYPE=image/jpeg:https://aaneok.org/wp-content/uploads/2026/01/Raffle-Flyer-5-scaled.jpg
END:VEVENT
BEGIN:VEVENT
DTSTART;TZID=America/New_York:20260610T080000
DTEND;TZID=America/New_York:20260610T170000
DTSTAMP:20260425T095644
CREATED:20260107T151004Z
LAST-MODIFIED:20260107T151004Z
UID:384156-1781078400-1781110800@aaneok.org
SUMMARY:Save the Date 9/12/26 Fun in the Fellowship
DESCRIPTION:
URL:https://aaneok.org/event/save-the-date-9-12-26-fun-in-the-fellowship-6/
LOCATION:OK
CATEGORIES:Area 57 Events
ATTACH;FMTTYPE=image/jpeg:https://aaneok.org/wp-content/uploads/2026/01/Save-the-date-FIF-2026-5-scaled.jpg
END:VEVENT
BEGIN:VEVENT
DTSTART;VALUE=DATE:20260613
DTEND;VALUE=DATE:20260614
DTSTAMP:20260425T095644
CREATED:20260213T163559Z
LAST-MODIFIED:20260420T141500Z
UID:384596-1781308800-1781395199@aaneok.org
SUMMARY:NECS Parking Lot Party
DESCRIPTION:
URL:https://aaneok.org/event/necs-parking-lot-party-2/
LOCATION:Northeast Central Service\, 4833 S Sheridan\, Ste 410\, Tulsa\, OK\, 74145\, United States
CATEGORIES:NECS Events
ATTACH;FMTTYPE=application/pdf:https://aaneok.org/wp-content/uploads/2026/02/Parkinglot-party-revised-DJ-winnie.pdf
END:VEVENT
BEGIN:VEVENT
DTSTART;VALUE=DATE:20260619
DTEND;VALUE=DATE:20260622
DTSTAMP:20260425T095644
CREATED:20260408T200316Z
LAST-MODIFIED:20260408T200316Z
UID:384863-1781827200-1782086399@aaneok.org
SUMMARY:Old Homestead Group Summer Camp Out
DESCRIPTION:
URL:https://aaneok.org/event/old-homestead-group-summer-camp-out/
LOCATION:OK
CATEGORIES:Group Events
ATTACH;FMTTYPE=application/pdf:https://aaneok.org/wp-content/uploads/2026/04/Old-Homestead-Group-Summer-Campout-2026.pdf
END:VEVENT
BEGIN:VEVENT
DTSTART;VALUE=DATE:20260620
DTEND;VALUE=DATE:20260621
DTSTAMP:20260425T095644
CREATED:20260115T170938Z
LAST-MODIFIED:20260115T170938Z
UID:384326-1781913600-1781999999@aaneok.org
SUMMARY:Fun in the Fellowship Online 3rd Saturday Ongoing Meeting
DESCRIPTION:
URL:https://aaneok.org/event/fun-in-the-fellowship-online-3rd-saturday-ongoing-meeting-6/
LOCATION:OK
CATEGORIES:Area 57 Events
ATTACH;FMTTYPE=application/pdf:https://aaneok.org/wp-content/uploads/2026/01/FIF-2026-third-sat-online-meeting-5.pdf
END:VEVENT
BEGIN:VEVENT
DTSTART;VALUE=DATE:20260627
DTEND;VALUE=DATE:20260628
DTSTAMP:20260425T095644
CREATED:20260325T172847Z
LAST-MODIFIED:20260325T172847Z
UID:384747-1782518400-1782604799@aaneok.org
SUMMARY:50th Birthday Event for Phyllis M.
DESCRIPTION:
URL:https://aaneok.org/event/50th-birthday-event-for-phyllis-m/
LOCATION:Fellowship Lutheran Church\, 6727 S. Sheridan Rd.\, Tulsa\, OK\, 74133\, United States
CATEGORIES:General Events
ATTACH;FMTTYPE=application/pdf:https://aaneok.org/wp-content/uploads/2026/03/Phyllis-50th-AA-birthday-flyer.pdf
END:VEVENT
BEGIN:VEVENT
DTSTART;VALUE=DATE:20260708
DTEND;VALUE=DATE:20260709
DTSTAMP:20260425T095644
CREATED:20260107T151059Z
LAST-MODIFIED:20260107T151059Z
UID:384159-1783468800-1783555199@aaneok.org
SUMMARY:Save the Date 9/12/26 Fun in the Fellowship
DESCRIPTION:
URL:https://aaneok.org/event/save-the-date-9-12-26-fun-in-the-fellowship-7/
LOCATION:OK
CATEGORIES:Area 57 Events
ATTACH;FMTTYPE=image/jpeg:https://aaneok.org/wp-content/uploads/2026/01/Save-the-date-FIF-2026-6-scaled.jpg
END:VEVENT
BEGIN:VEVENT
DTSTART;TZID=America/New_York:20260708T080000
DTEND;TZID=America/New_York:20260708T170000
DTSTAMP:20260425T095644
CREATED:20260107T152336Z
LAST-MODIFIED:20260107T152336Z
UID:384183-1783497600-1783530000@aaneok.org
SUMMARY:Fun in Fellowship Raffle Items Needed
DESCRIPTION:
URL:https://aaneok.org/event/fun-in-fellowship-raffle-items-needed-7/
LOCATION:OK
CATEGORIES:Area 57 Events
ATTACH;FMTTYPE=image/jpeg:https://aaneok.org/wp-content/uploads/2026/01/Raffle-Flyer-6-scaled.jpg
END:VEVENT
BEGIN:VEVENT
DTSTART;VALUE=DATE:20260710
DTEND;VALUE=DATE:20260712
DTSTAMP:20260425T095644
CREATED:20260424T135011Z
LAST-MODIFIED:20260424T135011Z
UID:384957-1783641600-1783814399@aaneok.org
SUMMARY:10th Annual Red Dirt Roundup
DESCRIPTION:
URL:https://aaneok.org/event/10th-annual-red-dirt-roundup/
LOCATION:Cole Community Center\, 4400 NW Expressway\, OKC\, OK\, 73116\, United States
CATEGORIES:General Events
ATTACH;FMTTYPE=application/pdf:https://aaneok.org/wp-content/uploads/2026/04/Red-Dirt-Roundup-2026.pdf
END:VEVENT
BEGIN:VEVENT
DTSTART;TZID=America/New_York:20260711T100000
DTEND;TZID=America/New_York:20260711T120000
DTSTAMP:20260425T095644
CREATED:20260213T171359Z
LAST-MODIFIED:20260401T185015Z
UID:384606-1783764000-1783771200@aaneok.org
SUMMARY:NECS CS Rep Meeting
DESCRIPTION:
URL:https://aaneok.org/event/necs-cs-rep-meeting-6/
LOCATION:Unanimity Club\, 8749 S Lewis Avenue\, Tulsa\, OK\, 74137\, United States
CATEGORIES:NECS Events
ATTACH;FMTTYPE=application/pdf:https://aaneok.org/wp-content/uploads/2026/02/July-2026-NECS-CSRep.pdf
END:VEVENT
BEGIN:VEVENT
DTSTART;VALUE=DATE:20260718
DTEND;VALUE=DATE:20260719
DTSTAMP:20260425T095644
CREATED:20260115T171025Z
LAST-MODIFIED:20260115T171025Z
UID:384329-1784332800-1784419199@aaneok.org
SUMMARY:Fun in the Fellowship Online 3rd Saturday Ongoing Meeting
DESCRIPTION:
URL:https://aaneok.org/event/fun-in-the-fellowship-online-3rd-saturday-ongoing-meeting-7/
LOCATION:OK
CATEGORIES:Area 57 Events
ATTACH;FMTTYPE=application/pdf:https://aaneok.org/wp-content/uploads/2026/01/FIF-2026-third-sat-online-meeting-6.pdf
END:VEVENT
BEGIN:VEVENT
DTSTART;TZID=America/New_York:20260718T100000
DTEND;TZID=America/New_York:20260718T150000
DTSTAMP:20260425T095644
CREATED:20260421T150554Z
LAST-MODIFIED:20260421T150554Z
UID:384932-1784368800-1784386800@aaneok.org
SUMMARY:Now rescheduled!  OWS Step Workshop
DESCRIPTION:
URL:https://aaneok.org/event/now-rescheduled-ows-step-workshop/
LOCATION:Original Westside Group/Tulsa\, 6727 S. Sheridan Rd.\, Tulsa\, OK\, 74133\, United States
CATEGORIES:Group Events
ATTACH;FMTTYPE=application/pdf:https://aaneok.org/wp-content/uploads/2026/04/OWS-workshop_steps-4567-flyer-update_041326-1.pdf
END:VEVENT
BEGIN:VEVENT
DTSTART;VALUE=DATE:20260812
DTEND;VALUE=DATE:20260813
DTSTAMP:20260425T095644
CREATED:20260107T151159Z
LAST-MODIFIED:20260107T151159Z
UID:384162-1786492800-1786579199@aaneok.org
SUMMARY:Save the Date 9/12/26 Fun in the Fellowship
DESCRIPTION:
URL:https://aaneok.org/event/save-the-date-9-12-26-fun-in-the-fellowship-8/
LOCATION:OK
CATEGORIES:Area 57 Events
ATTACH;FMTTYPE=image/jpeg:https://aaneok.org/wp-content/uploads/2026/01/Save-the-date-FIF-2026-7-scaled.jpg
END:VEVENT
BEGIN:VEVENT
DTSTART;VALUE=DATE:20260812
DTEND;VALUE=DATE:20260813
DTSTAMP:20260425T095644
CREATED:20260107T152431Z
LAST-MODIFIED:20260107T152431Z
UID:384186-1786492800-1786579199@aaneok.org
SUMMARY:Fun in Fellowship Raffle Items Needed
DESCRIPTION:
URL:https://aaneok.org/event/fun-in-fellowship-raffle-items-needed-8/
LOCATION:OK
CATEGORIES:Area 57 Events
ATTACH;FMTTYPE=image/jpeg:https://aaneok.org/wp-content/uploads/2026/01/Raffle-Flyer-7-scaled.jpg
END:VEVENT
BEGIN:VEVENT
DTSTART;VALUE=DATE:20260815
DTEND;VALUE=DATE:20260816
DTSTAMP:20260425T095644
CREATED:20260115T171115Z
LAST-MODIFIED:20260115T171115Z
UID:384332-1786752000-1786838399@aaneok.org
SUMMARY:Fun in the Fellowship Online 3rd Saturday Ongoing Meeting
DESCRIPTION:
URL:https://aaneok.org/event/fun-in-the-fellowship-online-3rd-saturday-ongoing-meeting-8/
LOCATION:OK
CATEGORIES:Area 57 Events
ATTACH;FMTTYPE=application/pdf:https://aaneok.org/wp-content/uploads/2026/01/FIF-2026-third-sat-online-meeting-7.pdf
END:VEVENT
BEGIN:VEVENT
DTSTART;VALUE=DATE:20260913
DTEND;VALUE=DATE:20260914
DTSTAMP:20260425T095644
CREATED:20251219T224921Z
LAST-MODIFIED:20251219T224921Z
UID:384070-1789257600-1789343999@aaneok.org
SUMMARY:Area 57 Quarterly Meeting
DESCRIPTION:
URL:https://aaneok.org/event/area-57-quarterly-meeting-7/
LOCATION:Embassy Suites OKC\, 741 N Phillips\, OKC\, OK\, 73104\, United States
CATEGORIES:Area 57 Events
END:VEVENT
BEGIN:VEVENT
DTSTART;VALUE=DATE:20260918
DTEND;VALUE=DATE:20260921
DTSTAMP:20260425T095644
CREATED:20260129T202321Z
LAST-MODIFIED:20260129T202321Z
UID:384467-1789689600-1789948799@aaneok.org
SUMMARY:Gratitude Getaway Womens AA Retreat
DESCRIPTION:
URL:https://aaneok.org/event/gratitude-getaway-womens-aa-retreat/
LOCATION:OK
CATEGORIES:Group Events
ATTACH;FMTTYPE=application/pdf:https://aaneok.org/wp-content/uploads/2026/01/Gratitude-Getaway-2026.pdf
END:VEVENT
BEGIN:VEVENT
DTSTART;TZID=America/New_York:20261017T100000
DTEND;TZID=America/New_York:20261017T120000
DTSTAMP:20260425T095644
CREATED:20260213T165832Z
LAST-MODIFIED:20260401T184812Z
UID:384603-1792231200-1792238400@aaneok.org
SUMMARY:NECS CS Rep Meeting
DESCRIPTION:
URL:https://aaneok.org/event/necs-cs-rep-meeting-5/
LOCATION:Unanimity Club\, 8749 S Lewis Avenue\, Tulsa\, OK\, 74137\, United States
CATEGORIES:NECS Events
ATTACH;FMTTYPE=application/pdf:https://aaneok.org/wp-content/uploads/2026/02/Oct-2026-NECS-CS-Rep-4.pdf
END:VEVENT
BEGIN:VEVENT
DTSTART;VALUE=DATE:20261024
DTEND;VALUE=DATE:20261025
DTSTAMP:20260425T095644
CREATED:20260213T164555Z
LAST-MODIFIED:20260213T164555Z
UID:384598-1792800000-1792886399@aaneok.org
SUMMARY:Soberfest 2026
DESCRIPTION:More information to come. Mark your calendars!
URL:https://aaneok.org/event/soberfest-2026/
LOCATION:OK
END:VEVENT
BEGIN:VEVENT
DTSTART;VALUE=DATE:20261122
DTEND;VALUE=DATE:20261123
DTSTAMP:20260425T095644
CREATED:20251219T224958Z
LAST-MODIFIED:20251219T224958Z
UID:384072-1795305600-1795391999@aaneok.org
SUMMARY:Area 57 Quarterly Meeting
DESCRIPTION:
URL:https://aaneok.org/event/area-57-quarterly-meeting-8/
LOCATION:Embassy Suites OKC\, 741 N Phillips\, OKC\, OK\, 73104\, United States
CATEGORIES:Area 57 Events
END:VEVENT
BEGIN:VEVENT
DTSTART;VALUE=DATE:20261212
DTEND;VALUE=DATE:20261213
DTSTAMP:20260425T095644
CREATED:20260213T164720Z
LAST-MODIFIED:20260213T164720Z
UID:384600-1797033600-1797119999@aaneok.org
SUMMARY:NECS Open House
DESCRIPTION:More information to come. Mark your calendars!
URL:https://aaneok.org/event/necs-open-house-3/
LOCATION:OK
END:VEVENT
BEGIN:VEVENT
DTSTART;VALUE=DATE:20271001
DTEND;VALUE=DATE:20271004
DTSTAMP:20260425T095644
CREATED:20260402T205916Z
LAST-MODIFIED:20260403T142823Z
UID:384802-1822348800-1822607999@aaneok.org
SUMMARY:Southwest Regional Forum 2027
DESCRIPTION:
URL:https://aaneok.org/event/southwest-regional-forum-2027/
LOCATION:Embassy Suites by Hilton Kansas City MO\, 7640 NW Tiffany Springs Pkwy\, Kansas City\, MO\, 64153\, United States
CATEGORIES:SW Regional Events
ATTACH;FMTTYPE=application/pdf:https://aaneok.org/wp-content/uploads/2026/04/swrf-2027-en.pdf
END:VEVENT
END:VCALENDAR