BEGIN:VCALENDAR
VERSION:2.0
PRODID:-//NECS - ECPv6.15.20//NONSGML v1.0//EN
CALSCALE:GREGORIAN
METHOD:PUBLISH
X-ORIGINAL-URL:https://aaneok.org
X-WR-CALDESC:Events for NECS
REFRESH-INTERVAL;VALUE=DURATION:PT1H
X-Robots-Tag:noindex
X-PUBLISHED-TTL:PT1H
BEGIN:VTIMEZONE
TZID:America/New_York
BEGIN:DAYLIGHT
TZOFFSETFROM:-0500
TZOFFSETTO:-0400
TZNAME:EDT
DTSTART:20240310T070000
END:DAYLIGHT
BEGIN:STANDARD
TZOFFSETFROM:-0400
TZOFFSETTO:-0500
TZNAME:EST
DTSTART:20241103T060000
END:STANDARD
BEGIN:DAYLIGHT
TZOFFSETFROM:-0500
TZOFFSETTO:-0400
TZNAME:EDT
DTSTART:20250309T070000
END:DAYLIGHT
BEGIN:STANDARD
TZOFFSETFROM:-0400
TZOFFSETTO:-0500
TZNAME:EST
DTSTART:20251102T060000
END:STANDARD
BEGIN:DAYLIGHT
TZOFFSETFROM:-0500
TZOFFSETTO:-0400
TZNAME:EDT
DTSTART:20260308T070000
END:DAYLIGHT
BEGIN:STANDARD
TZOFFSETFROM:-0400
TZOFFSETTO:-0500
TZNAME:EST
DTSTART:20261101T060000
END:STANDARD
END:VTIMEZONE
BEGIN:VEVENT
DTSTART;TZID=America/New_York:20250201T093000
DTEND;TZID=America/New_York:20250201T103000
DTSTAMP:20260425T153645
CREATED:20250111T160426Z
LAST-MODIFIED:20250111T160426Z
UID:381847-1738402200-1738405800@aaneok.org
SUMMARY:BAD Girls Birthday Celebrations
DESCRIPTION:
URL:https://aaneok.org/event/bad-girls-birthday-celebrations/
LOCATION:Rebos ClubHouse\, 3355 S Jamestown Ave\, Tulsa\, OK\, 74135\, United States
CATEGORIES:Group Events
ATTACH;FMTTYPE=application/pdf:https://aaneok.org/wp-content/uploads/2025/01/BAD-girls-Feb.pdf
END:VEVENT
BEGIN:VEVENT
DTSTART;TZID=America/New_York:20250201T100000
DTEND;TZID=America/New_York:20250201T140000
DTSTAMP:20260425T153645
CREATED:20250110T145104Z
LAST-MODIFIED:20250110T145104Z
UID:381831-1738404000-1738418400@aaneok.org
SUMMARY:District 40 AA Traditions Workshop
DESCRIPTION:
URL:https://aaneok.org/event/district-40-aa-traditions-workshop/
LOCATION:Disciples Christian Church/Bartlesville\, 5800 Douglas Lane\, Bartlesville\, OK\, 74006\, United States
CATEGORIES:District Events
ATTACH;FMTTYPE=application/pdf:https://aaneok.org/wp-content/uploads/2025/01/Traditions-Workshop.pdf
END:VEVENT
BEGIN:VEVENT
DTSTART;TZID=America/New_York:20250208T100000
DTEND;TZID=America/New_York:20250208T110000
DTSTAMP:20260425T153645
CREATED:20250115T135458Z
LAST-MODIFIED:20250115T135458Z
UID:381854-1739008800-1739012400@aaneok.org
SUMMARY:NECS Special CS Rep Meeting
DESCRIPTION:
URL:https://aaneok.org/event/necs-special-cs-rep-meeting/
LOCATION:Unanimity Club\, 8749 S Lewis Avenue\, Tulsa\, OK\, 74137\, United States
CATEGORIES:NECS Events
ATTACH;FMTTYPE=application/pdf:https://aaneok.org/wp-content/uploads/2025/01/NECS-Special-CS-Rep-Meeting-Feb-25.pdf
END:VEVENT
BEGIN:VEVENT
DTSTART;TZID=America/New_York:20250208T190000
DTEND;TZID=America/New_York:20250208T210000
DTSTAMP:20260425T153645
CREATED:20250110T164338Z
LAST-MODIFIED:20250110T164338Z
UID:381839-1739041200-1739048400@aaneok.org
SUMMARY:Big Meeting February
DESCRIPTION:
URL:https://aaneok.org/event/big-meeting-february/
LOCATION:Harvard Avenue Christian Church\, 5502 S. Harvard Ave.\, Tulsa\, OK\, 74135\, United States
CATEGORIES:NE Big Meeting
ATTACH;FMTTYPE=application/pdf:https://aaneok.org/wp-content/uploads/2025/01/Big-Meeting-Feb-2025.pdf
END:VEVENT
BEGIN:VEVENT
DTSTART;TZID=America/New_York:20250210T080000
DTEND;TZID=America/New_York:20250210T170000
DTSTAMP:20260425T153645
CREATED:20250110T172535Z
LAST-MODIFIED:20250110T172535Z
UID:381842-1739174400-1739206800@aaneok.org
SUMMARY:Big Meeting Committee Meeting
DESCRIPTION:
URL:https://aaneok.org/event/big-meeting-committee-meeting-3/
LOCATION:Harvard Avenue Christian Church\, 5502 S. Harvard Ave.\, Tulsa\, OK\, 74135\, United States
CATEGORIES:NE Big Meeting
END:VEVENT
BEGIN:VEVENT
DTSTART;TZID=America/New_York:20250213T190000
DTEND;TZID=America/New_York:20250213T200000
DTSTAMP:20260425T153645
CREATED:20250109T201537Z
LAST-MODIFIED:20250109T201537Z
UID:381828-1739473200-1739476800@aaneok.org
SUMMARY:District 30/40 Joint Service Meeting
DESCRIPTION:
URL:https://aaneok.org/event/district-30-40-joint-service-meeting/
LOCATION:Unanimity Club\, 8749 S Lewis Avenue\, Tulsa\, OK\, 74137\, United States
CATEGORIES:District Events
ATTACH;FMTTYPE=application/pdf:https://aaneok.org/wp-content/uploads/2025/01/Joint-Serv-Meeting-Feb-2025.pdf
END:VEVENT
BEGIN:VEVENT
DTSTART;TZID=America/New_York:20250215T090000
DTEND;TZID=America/New_York:20250215T120000
DTSTAMP:20260425T153645
CREATED:20241210T190543Z
LAST-MODIFIED:20250110T221329Z
UID:381682-1739610000-1739620800@aaneok.org
SUMMARY:Dist. 30 Safety and AA
DESCRIPTION:
URL:https://aaneok.org/event/safety-and-aa/
LOCATION:OK
CATEGORIES:District Events
ATTACH;FMTTYPE=application/pdf:https://aaneok.org/wp-content/uploads/2024/12/Safety-and-AA-1.pdf
END:VEVENT
BEGIN:VEVENT
DTSTART;TZID=America/New_York:20250220T000000
DTEND;TZID=America/New_York:20250220T235900
DTSTAMP:20260425T153645
CREATED:20250220T161338Z
LAST-MODIFIED:20250220T163042Z
UID:382044-1740009600-1740095940@aaneok.org
SUMMARY:State Conference 2025 Volunteer Sign Up
DESCRIPTION:
URL:https://aaneok.org/event/state-conference-2025-volunteer-sign-up-copy-2/
LOCATION:OK
CATEGORIES:Area 57 Events
ATTACH;FMTTYPE=application/pdf:https://aaneok.org/wp-content/uploads/2025/02/Vol-Sign-up-State-Conf-2025.pdf
END:VEVENT
BEGIN:VEVENT
DTSTART;VALUE=DATE:20250221
DTEND;VALUE=DATE:20250222
DTSTAMP:20260425T153645
CREATED:20241130T143440Z
LAST-MODIFIED:20241130T143440Z
UID:381637-1740096000-1740182399@aaneok.org
SUMMARY:5th Tradition 11th Anniversary
DESCRIPTION:
URL:https://aaneok.org/event/5th-tradition-11th-anniversary/
LOCATION:Ouail Springs Baptist Church/OKC\, 14613 North May\, Oklahoma City\, OK\, 73134\, United States
CATEGORIES:Group Events
ATTACH;FMTTYPE=application/pdf:https://aaneok.org/wp-content/uploads/2024/11/5th-Trad.-11th-Ann.pdf
END:VEVENT
BEGIN:VEVENT
DTSTART;VALUE=DATE:20250221
DTEND;VALUE=DATE:20250224
DTSTAMP:20260425T153645
CREATED:20240911T214520Z
LAST-MODIFIED:20240911T214520Z
UID:381205-1740096000-1740355199@aaneok.org
SUMMARY:21st Annual Sunlight of the Spirit Conference
DESCRIPTION:
URL:https://aaneok.org/event/21st-annual-sunlight-of-the-spirit-conference/
LOCATION:Quartz Mountain State Park Lodge\, 22469 Lodge Rd\,\, Lone Wolf\, OK\, 73655\, United States
CATEGORIES:General Events
ATTACH;FMTTYPE=image/jpeg:https://aaneok.org/wp-content/uploads/2024/09/Sunlight-of-the-Spirity-Conference-2025-1.jpg
END:VEVENT
BEGIN:VEVENT
DTSTART;TZID=America/New_York:20250221T113000
DTEND;TZID=America/New_York:20250221T233000
DTSTAMP:20260425T153645
CREATED:20250220T224132Z
LAST-MODIFIED:20250220T224132Z
UID:382073-1740137400-1740180600@aaneok.org
SUMMARY:REBOS Clubhouse has meeting space available
DESCRIPTION:
URL:https://aaneok.org/event/rebos-clubhouse-has-meeting-space-available/
LOCATION:Rebos ClubHouse\, 3355 S Jamestown Ave\, Tulsa\, OK\, 74135\, United States
CATEGORIES:General Events
ATTACH;FMTTYPE=application/pdf:https://aaneok.org/wp-content/uploads/2025/02/Rebos-has-space-1.pdf
END:VEVENT
BEGIN:VEVENT
DTSTART;TZID=America/New_York:20250222T100000
DTEND;TZID=America/New_York:20250222T140000
DTSTAMP:20260425T153645
CREATED:20250110T145609Z
LAST-MODIFIED:20250110T145609Z
UID:381835-1740218400-1740232800@aaneok.org
SUMMARY:Area 57 Treatment & Corrections Workshop
DESCRIPTION:
URL:https://aaneok.org/event/area-57-treatment-corrections-workshop/
LOCATION:Trinity Baptist Church Victory Center Shawnee\, 1315 N. McKinley Ave.\, Shawnee\, OK\, 74801\, United States
CATEGORIES:Area 57 Events
ATTACH;FMTTYPE=application/pdf:https://aaneok.org/wp-content/uploads/2025/01/Area-57-Treatment-Corrections-WS-Feb.pdf
END:VEVENT
BEGIN:VEVENT
DTSTART;TZID=America/New_York:20250222T160000
DTEND;TZID=America/New_York:20250222T190000
DTSTAMP:20260425T153645
CREATED:20250125T192033Z
LAST-MODIFIED:20250125T192645Z
UID:381914-1740240000-1740250800@aaneok.org
SUMMARY:NECS Chili Cook Off
DESCRIPTION:
URL:https://aaneok.org/event/necs-chili-cook-off-2/
LOCATION:OK
ATTACH;FMTTYPE=application/pdf:https://aaneok.org/wp-content/uploads/2025/01/Chili-cook-revised-3.pdf
END:VEVENT
BEGIN:VEVENT
DTSTART;TZID=America/New_York:20250222T183000
DTEND;TZID=America/New_York:20250222T210000
DTSTAMP:20260425T153645
CREATED:20250122T163732Z
LAST-MODIFIED:20250122T163732Z
UID:381883-1740249000-1740258000@aaneok.org
SUMMARY:Three Legacies AA Group of ADA
DESCRIPTION:
URL:https://aaneok.org/event/three-legacies-aa-group-of-ada/
LOCATION:St. Luke’s Episcopal Church Ada\, 100 E. 17th St.\, Ada\, OK\, 74820\, United States
CATEGORIES:Group Events
ATTACH;FMTTYPE=application/pdf:https://aaneok.org/wp-content/uploads/2025/01/DIST-60-FLYER-2025-FEB-BI-MONTHLY-TThree-LEGACIES-FEB-22.pdf
END:VEVENT
BEGIN:VEVENT
DTSTART;TZID=America/New_York:20250223T170000
DTEND;TZID=America/New_York:20250223T200000
DTSTAMP:20260425T153645
CREATED:20250212T174328Z
LAST-MODIFIED:20250212T174328Z
UID:382011-1740330000-1740340800@aaneok.org
SUMMARY:Southside Traditions Open Speaker Meeting
DESCRIPTION:
URL:https://aaneok.org/event/southside-traditions-open-speaker-meeting-3/
LOCATION:Southside Traditions Meeting\, 10901 S. Yale Ave.\, Tulsa\, OK\, 74137\, United States
CATEGORIES:Group Events
ATTACH;FMTTYPE=application/pdf:https://aaneok.org/wp-content/uploads/2025/02/Southside-trad-Feb.pdf
END:VEVENT
BEGIN:VEVENT
DTSTART;TZID=America/New_York:20250224T180000
DTEND;TZID=America/New_York:20250224T190000
DTSTAMP:20260425T153645
CREATED:20250206T151925Z
LAST-MODIFIED:20250206T151925Z
UID:381955-1740420000-1740423600@aaneok.org
SUMMARY:There is a Solution/Bday/Speaker
DESCRIPTION:
URL:https://aaneok.org/event/there-is-a-solution-bday-speaker/
LOCATION:Woodlands Christian Church Ponca City\, 1400 E. Hartford Ave.\, Ponca City\, OK\, 74604\, United States
CATEGORIES:Group Events
ATTACH;FMTTYPE=application/pdf:https://aaneok.org/wp-content/uploads/2025/02/Feb-There-is-a-solution.pdf
END:VEVENT
BEGIN:VEVENT
DTSTART;TZID=America/New_York:20250225T183000
DTEND;TZID=America/New_York:20250225T200000
DTSTAMP:20260425T153645
CREATED:20250205T194146Z
LAST-MODIFIED:20250205T194146Z
UID:381949-1740508200-1740513600@aaneok.org
SUMMARY:Pryor Unity Group Speaker
DESCRIPTION:
URL:https://aaneok.org/event/pryor-unity-group-speaker/
LOCATION:Youth Center Building Pryor\, 110 N. Vann St.\, Pryor\, OK\, 74361\, United States
CATEGORIES:Group Events
ATTACH;FMTTYPE=application/pdf:https://aaneok.org/wp-content/uploads/2025/02/Feb-Pryor-Unity-Group-Speaker.pdf
END:VEVENT
BEGIN:VEVENT
DTSTART;TZID=America/New_York:20250227T120000
DTEND;TZID=America/New_York:20250227T235900
DTSTAMP:20260425T153645
CREATED:20250220T161356Z
LAST-MODIFIED:20250220T163012Z
UID:382045-1740657600-1740700740@aaneok.org
SUMMARY:State Conference 2025 Volunteer Sign Up
DESCRIPTION:
URL:https://aaneok.org/event/state-conference-2025-volunteer-sign-up-copy-3/
LOCATION:OK
CATEGORIES:Area 57 Events
ATTACH;FMTTYPE=application/pdf:https://aaneok.org/wp-content/uploads/2025/02/Vol-Sign-up-State-Conf-2025.pdf
END:VEVENT
BEGIN:VEVENT
DTSTART;TZID=America/New_York:20250227T190000
DTEND;TZID=America/New_York:20250227T200000
DTSTAMP:20260425T153645
CREATED:20250206T214547Z
LAST-MODIFIED:20250206T214547Z
UID:381959-1740682800-1740686400@aaneok.org
SUMMARY:Purcell Unity Group Bday/Speaker
DESCRIPTION:
URL:https://aaneok.org/event/purcell-unity-group-bday-speaker/
LOCATION:Landmark Church Purcell\, 1106 W. Grant Street\, Purcell\, OK\, 73080\, United States
CATEGORIES:Group Events
ATTACH;FMTTYPE=application/pdf:https://aaneok.org/wp-content/uploads/2025/02/Purcell-Unity-Group-Birthday-Speaker-Night.pdf
END:VEVENT
BEGIN:VEVENT
DTSTART;TZID=America/New_York:20250228T100000
DTEND;TZID=America/New_York:20250228T233000
DTSTAMP:20260425T153645
CREATED:20250220T224230Z
LAST-MODIFIED:20250220T224253Z
UID:382076-1740736800-1740785400@aaneok.org
SUMMARY:REBOS Clubhouse has meeting space available
DESCRIPTION:
URL:https://aaneok.org/event/rebos-clubhouse-has-meeting-space-available-2/
LOCATION:Rebos ClubHouse\, 3355 S Jamestown Ave\, Tulsa\, OK\, 74135\, United States
CATEGORIES:General Events
ATTACH;FMTTYPE=application/pdf:https://aaneok.org/wp-content/uploads/2025/02/Rebos-has-space-2.pdf
END:VEVENT
BEGIN:VEVENT
DTSTART;TZID=America/New_York:20250228T190000
DTEND;TZID=America/New_York:20250228T210000
DTSTAMP:20260425T153645
CREATED:20250205T194530Z
LAST-MODIFIED:20250205T194530Z
UID:381952-1740769200-1740776400@aaneok.org
SUMMARY:Guthrie 89er Group Bday/Speaker
DESCRIPTION:
URL:https://aaneok.org/event/guthrie-89er-group-bday-speaker/
LOCATION:Old Red Brick School House\, 3522 S Division St\, Guthrie\, OK\, 73044\, United States
CATEGORIES:Group Events
ATTACH;FMTTYPE=application/pdf:https://aaneok.org/wp-content/uploads/2025/02/Feb-89er-Birthday-Speaker-Night.pdf
END:VEVENT
END:VCALENDAR