BEGIN:VCALENDAR
VERSION:2.0
PRODID:-//NECS - ECPv6.15.20//NONSGML v1.0//EN
CALSCALE:GREGORIAN
METHOD:PUBLISH
X-ORIGINAL-URL:https://aaneok.org
X-WR-CALDESC:Events for NECS
REFRESH-INTERVAL;VALUE=DURATION:PT1H
X-Robots-Tag:noindex
X-PUBLISHED-TTL:PT1H
BEGIN:VTIMEZONE
TZID:America/New_York
BEGIN:DAYLIGHT
TZOFFSETFROM:-0500
TZOFFSETTO:-0400
TZNAME:EDT
DTSTART:20250309T070000
END:DAYLIGHT
BEGIN:STANDARD
TZOFFSETFROM:-0400
TZOFFSETTO:-0500
TZNAME:EST
DTSTART:20251102T060000
END:STANDARD
BEGIN:DAYLIGHT
TZOFFSETFROM:-0500
TZOFFSETTO:-0400
TZNAME:EDT
DTSTART:20260308T070000
END:DAYLIGHT
BEGIN:STANDARD
TZOFFSETFROM:-0400
TZOFFSETTO:-0500
TZNAME:EST
DTSTART:20261101T060000
END:STANDARD
BEGIN:DAYLIGHT
TZOFFSETFROM:-0500
TZOFFSETTO:-0400
TZNAME:EDT
DTSTART:20270314T070000
END:DAYLIGHT
BEGIN:STANDARD
TZOFFSETFROM:-0400
TZOFFSETTO:-0500
TZNAME:EST
DTSTART:20271107T060000
END:STANDARD
END:VTIMEZONE
BEGIN:VEVENT
DTSTART;VALUE=DATE:20260404
DTEND;VALUE=DATE:20260516
DTSTAMP:20260424T085639
CREATED:20251212T193724Z
LAST-MODIFIED:20260406T153912Z
UID:383996-1775260800-1778889599@aaneok.org
SUMMARY:2026 OK State Conference Volunteers Scan Codes
DESCRIPTION:
URL:https://aaneok.org/event/2026-ok-state-conference-volunteers-scan-codes-2-copy-5/
LOCATION:OK
CATEGORIES:Area 57 Events
ATTACH;FMTTYPE=image/jpeg:https://aaneok.org/wp-content/uploads/2025/12/Untitled-90.pdf.jpg
END:VEVENT
BEGIN:VEVENT
DTSTART;VALUE=DATE:20260424
DTEND;VALUE=DATE:20260425
DTSTAMP:20260424T085639
CREATED:20260328T161957Z
LAST-MODIFIED:20260328T161957Z
UID:384765-1776988800-1777075199@aaneok.org
SUMMARY:REBOS Nooner Info
DESCRIPTION:
URL:https://aaneok.org/event/rebos-nooner-info-3/
LOCATION:REBOS Clubhouse/New\, 7012 S Utica Ave\, Tulsa\, OK\, 74136\, United States
CATEGORIES:Group Events
ATTACH;FMTTYPE=application/pdf:https://aaneok.org/wp-content/uploads/2026/03/REBOS-NOONER-Info.pdf
END:VEVENT
BEGIN:VEVENT
DTSTART;VALUE=DATE:20260424
DTEND;VALUE=DATE:20260425
DTSTAMP:20260424T085639
CREATED:20260415T162037Z
LAST-MODIFIED:20260415T162037Z
UID:384901-1776988800-1777075199@aaneok.org
SUMMARY:Muskogee Happy Hour Birthday Night
DESCRIPTION:
URL:https://aaneok.org/event/muskogee-happy-hour-birthday-night-2/
LOCATION:Happy Hour Group\, 313 North K Street\, Muskogee\, OK\, 74403\, United States
CATEGORIES:Group Events
ATTACH;FMTTYPE=application/pdf:https://aaneok.org/wp-content/uploads/2026/04/Happy-Hour-Musk-Speaker.pdf
END:VEVENT
BEGIN:VEVENT
DTSTART;VALUE=DATE:20260424
DTEND;VALUE=DATE:20260427
DTSTAMP:20260424T085639
CREATED:20260318T194953Z
LAST-MODIFIED:20260318T194953Z
UID:384728-1776988800-1777247999@aaneok.org
SUMMARY:Spring Fling Convention St. Louis
DESCRIPTION:
URL:https://aaneok.org/event/spring-fling-convention-st-louis/
LOCATION:Hilton St. Louis Airport\, 10330 Natural Bridge Rd.\, St. Louis\, MO\, 63134\, United States
CATEGORIES:General Events
ATTACH;FMTTYPE=application/pdf:https://aaneok.org/wp-content/uploads/2026/03/Spring-Fling.pdf
END:VEVENT
BEGIN:VEVENT
DTSTART;TZID=America/New_York:20260424T180000
DTEND;TZID=America/New_York:20260424T200000
DTSTAMP:20260424T085639
CREATED:20260410T191157Z
LAST-MODIFIED:20260410T191157Z
UID:384874-1777053600-1777060800@aaneok.org
SUMMARY:Owasso Group 48th Anniversary
DESCRIPTION:
URL:https://aaneok.org/event/owasso-group-48th-anniversary/
LOCATION:Owasso Group\, 8500 N Owasso Expressway\, Owasso\, OK\, 74055\, United States
CATEGORIES:Group Events
ATTACH;FMTTYPE=application/pdf:https://aaneok.org/wp-content/uploads/2026/04/Owasso-Group-48th-Ann.pdf
END:VEVENT
BEGIN:VEVENT
DTSTART;TZID=America/New_York:20260424T190000
DTEND;TZID=America/New_York:20260424T210000
DTSTAMP:20260424T085639
CREATED:20260413T150551Z
LAST-MODIFIED:20260413T150551Z
UID:384882-1777057200-1777064400@aaneok.org
SUMMARY:WISDOM AA &ALANON 60th Anniversary
DESCRIPTION:
URL:https://aaneok.org/event/wisdom-aa-alanon-60th-anniversary/
LOCATION:St. Patrick’s Episcopal Church\, 4250 W. Houston St.\, OK\, 74012\, United States
CATEGORIES:Group Events
ATTACH;FMTTYPE=application/pdf:https://aaneok.org/wp-content/uploads/2026/04/WISDOM-60.pdf
END:VEVENT
END:VCALENDAR